BEGIN:VCALENDAR
VERSION:2.0
PRODID:-//Lutheran Church of the Savior - ECPv6.15.20//NONSGML v1.0//EN
CALSCALE:GREGORIAN
METHOD:PUBLISH
X-ORIGINAL-URL:https://www.lcsavior.org
X-WR-CALDESC:Events for Lutheran Church of the Savior
REFRESH-INTERVAL;VALUE=DURATION:PT1H
X-Robots-Tag:noindex
X-PUBLISHED-TTL:PT1H
BEGIN:VTIMEZONE
TZID:America/New_York
BEGIN:DAYLIGHT
TZOFFSETFROM:-0500
TZOFFSETTO:-0400
TZNAME:EDT
DTSTART:20190310T070000
END:DAYLIGHT
BEGIN:STANDARD
TZOFFSETFROM:-0400
TZOFFSETTO:-0500
TZNAME:EST
DTSTART:20191103T060000
END:STANDARD
BEGIN:DAYLIGHT
TZOFFSETFROM:-0500
TZOFFSETTO:-0400
TZNAME:EDT
DTSTART:20200308T070000
END:DAYLIGHT
BEGIN:STANDARD
TZOFFSETFROM:-0400
TZOFFSETTO:-0500
TZNAME:EST
DTSTART:20201101T060000
END:STANDARD
BEGIN:DAYLIGHT
TZOFFSETFROM:-0500
TZOFFSETTO:-0400
TZNAME:EDT
DTSTART:20210314T070000
END:DAYLIGHT
BEGIN:STANDARD
TZOFFSETFROM:-0400
TZOFFSETTO:-0500
TZNAME:EST
DTSTART:20211107T060000
END:STANDARD
END:VTIMEZONE
BEGIN:VEVENT
DTSTART;TZID=America/New_York:20201213T111500
DTEND;TZID=America/New_York:20201213T121500
DTSTAMP:20260425T151839
CREATED:20201024T172211Z
LAST-MODIFIED:20201030T003017Z
UID:10000049-1607858100-1607861700@www.lcsavior.org
SUMMARY:Adult Bible Study
DESCRIPTION:Join us at 11:15 AM each week for Adult Bible Study. Our lessons change over the course of the year as we study God’s Word and apply it to our lives. \nTo get added to the mailing list\, please reach out to Dave Hergert (email address below).
URL:https://www.lcsavior.org/event/adult-bible-study-2020-11-29/2020-12-13/
LOCATION:Online
CATEGORIES:Bible Study
ATTACH;FMTTYPE=image/png:https://www.lcsavior.org/wp-content/uploads/2020/10/bible-study-logo-1080p-e1705168854863.png
ORGANIZER;CN="Dave Hergert":MAILTO:dhergert@gmail.com
END:VEVENT
BEGIN:VEVENT
DTSTART;TZID=America/New_York:20201206T111500
DTEND;TZID=America/New_York:20201206T121500
DTSTAMP:20260425T151839
CREATED:20201024T172211Z
LAST-MODIFIED:20201030T003017Z
UID:10000048-1607253300-1607256900@www.lcsavior.org
SUMMARY:Adult Bible Study
DESCRIPTION:Join us at 11:15 AM each week for Adult Bible Study. Our lessons change over the course of the year as we study God’s Word and apply it to our lives. \nTo get added to the mailing list\, please reach out to Dave Hergert (email address below).
URL:https://www.lcsavior.org/event/adult-bible-study-2020-11-29/2020-12-06/
LOCATION:Online
CATEGORIES:Bible Study
ATTACH;FMTTYPE=image/png:https://www.lcsavior.org/wp-content/uploads/2020/10/bible-study-logo-1080p-e1705168854863.png
ORGANIZER;CN="Dave Hergert":MAILTO:dhergert@gmail.com
END:VEVENT
BEGIN:VEVENT
DTSTART;TZID=America/New_York:20201129T111500
DTEND;TZID=America/New_York:20201129T121500
DTSTAMP:20260425T151839
CREATED:20201024T172211Z
LAST-MODIFIED:20201030T003017Z
UID:10000047-1606648500-1606652100@www.lcsavior.org
SUMMARY:Adult Bible Study
DESCRIPTION:Join us at 11:15 AM each week for Adult Bible Study. Our lessons change over the course of the year as we study God’s Word and apply it to our lives. \nTo get added to the mailing list\, please reach out to Dave Hergert (email address below).
URL:https://www.lcsavior.org/event/adult-bible-study-2020-11-29/2020-11-29/
LOCATION:Online
CATEGORIES:Bible Study
ATTACH;FMTTYPE=image/png:https://www.lcsavior.org/wp-content/uploads/2020/10/bible-study-logo-1080p-e1705168854863.png
ORGANIZER;CN="Dave Hergert":MAILTO:dhergert@gmail.com
END:VEVENT
BEGIN:VEVENT
DTSTART;TZID=America/New_York:20201122T111500
DTEND;TZID=America/New_York:20201122T121500
DTSTAMP:20260425T151839
CREATED:20201024T172211Z
LAST-MODIFIED:20201121T222723Z
UID:10000012-1606043700-1606047300@www.lcsavior.org
SUMMARY:Adult Bible Study: Philippians
DESCRIPTION:Join us online at 11:15 AM for a study on the book of Philippians. In this study\, we’ll explore what it means to live a live worth of the Gospel – a life filled with joy. To get the invite link\, please send an email to Dave Hergert (email address below).
URL:https://www.lcsavior.org/event/adult-bible-study/2020-11-22/
LOCATION:Online
CATEGORIES:Bible Study
ATTACH;FMTTYPE=image/jpeg:https://www.lcsavior.org/wp-content/uploads/2020/10/philippi-theater-16x9-1.jpg
ORGANIZER;CN="Dave Hergert":MAILTO:dhergert@gmail.com
END:VEVENT
BEGIN:VEVENT
DTSTART;TZID=America/New_York:20201122T111500
DTEND;TZID=America/New_York:20201122T121500
DTSTAMP:20260425T151839
CREATED:20201024T172211Z
LAST-MODIFIED:20201121T222155Z
UID:10000004-1606043700-1606047300@www.lcsavior.org
SUMMARY:Adult Bible Study: Philippians
DESCRIPTION:Join us online at 11:15 AM for a study on the book of Philippians. In this study\, we’ll explore what it means to live a live worth of the Gospel – a life filled with joy. To get the invite link\, please send an email to Dave Hergert (email address below).
URL:https://www.lcsavior.org/event/adult-bible-study-2020-11-22/
LOCATION:Online
CATEGORIES:Bible Study
ATTACH;FMTTYPE=image/jpeg:https://www.lcsavior.org/wp-content/uploads/2020/10/philippi-theater-16x9-1.jpg
ORGANIZER;CN="Dave Hergert":MAILTO:dhergert@gmail.com
END:VEVENT
BEGIN:VEVENT
DTSTART;TZID=America/New_York:20201115T111500
DTEND;TZID=America/New_York:20201115T121500
DTSTAMP:20260425T151839
CREATED:20201024T172211Z
LAST-MODIFIED:20201121T222723Z
UID:10000011-1605438900-1605442500@www.lcsavior.org
SUMMARY:Adult Bible Study: Philippians
DESCRIPTION:Join us online at 11:15 AM for a study on the book of Philippians. In this study\, we’ll explore what it means to live a live worth of the Gospel – a life filled with joy. To get the invite link\, please send an email to Dave Hergert (email address below).
URL:https://www.lcsavior.org/event/adult-bible-study/2020-11-15/
LOCATION:Online
CATEGORIES:Bible Study
ATTACH;FMTTYPE=image/jpeg:https://www.lcsavior.org/wp-content/uploads/2020/10/philippi-theater-16x9-1.jpg
ORGANIZER;CN="Dave Hergert":MAILTO:dhergert@gmail.com
END:VEVENT
BEGIN:VEVENT
DTSTART;TZID=America/New_York:20201115T111500
DTEND;TZID=America/New_York:20201115T121500
DTSTAMP:20260425T151839
CREATED:20201024T172211Z
LAST-MODIFIED:20201113T234516Z
UID:10000007-1605438900-1605442500@www.lcsavior.org
SUMMARY:Adult Bible Study: Philippians
DESCRIPTION:Join us online at 11:15 AM for a study on the book of Philippians. In this study\, we’ll explore what it means to live a live worth of the Gospel – a life filled with joy. To get the invite link\, please send an email to Dave Hergert (email address below).
URL:https://www.lcsavior.org/event/adult-bible-study-2020-11-15/
LOCATION:Online
CATEGORIES:Bible Study
ATTACH;FMTTYPE=image/jpeg:https://www.lcsavior.org/wp-content/uploads/2020/10/philippi-theater-16x9-1.jpg
ORGANIZER;CN="Dave Hergert":MAILTO:dhergert@gmail.com
END:VEVENT
BEGIN:VEVENT
DTSTART;TZID=America/New_York:20201108T111500
DTEND;TZID=America/New_York:20201108T121500
DTSTAMP:20260425T151839
CREATED:20201024T172211Z
LAST-MODIFIED:20201121T222723Z
UID:10000010-1604834100-1604837700@www.lcsavior.org
SUMMARY:Adult Bible Study: Philippians
DESCRIPTION:Join us online at 11:15 AM for a study on the book of Philippians. In this study\, we’ll explore what it means to live a live worth of the Gospel – a life filled with joy. To get the invite link\, please send an email to Dave Hergert (email address below).
URL:https://www.lcsavior.org/event/adult-bible-study/2020-11-08/
LOCATION:Online
CATEGORIES:Bible Study
ATTACH;FMTTYPE=image/jpeg:https://www.lcsavior.org/wp-content/uploads/2020/10/philippi-theater-16x9-1.jpg
ORGANIZER;CN="Dave Hergert":MAILTO:dhergert@gmail.com
END:VEVENT
BEGIN:VEVENT
DTSTART;TZID=America/New_York:20201101T111500
DTEND;TZID=America/New_York:20201101T121500
DTSTAMP:20260425T151839
CREATED:20201024T172211Z
LAST-MODIFIED:20201121T222723Z
UID:10000009-1604229300-1604232900@www.lcsavior.org
SUMMARY:Adult Bible Study: Philippians
DESCRIPTION:Join us online at 11:15 AM for a study on the book of Philippians. In this study\, we’ll explore what it means to live a live worth of the Gospel – a life filled with joy. To get the invite link\, please send an email to Dave Hergert (email address below).
URL:https://www.lcsavior.org/event/adult-bible-study/2020-11-01/
LOCATION:Online
CATEGORIES:Bible Study
ATTACH;FMTTYPE=image/jpeg:https://www.lcsavior.org/wp-content/uploads/2020/10/philippi-theater-16x9-1.jpg
ORGANIZER;CN="Dave Hergert":MAILTO:dhergert@gmail.com
END:VEVENT
BEGIN:VEVENT
DTSTART;TZID=America/New_York:20201025T133000
DTEND;TZID=America/New_York:20201025T150000
DTSTAMP:20260425T151839
CREATED:20201024T173248Z
LAST-MODIFIED:20201025T003304Z
UID:10000046-1603632600-1603638000@www.lcsavior.org
SUMMARY:Voters Meeting
DESCRIPTION:Please join us for the October Voters Meeting. In our quarterly meetings\, we do the business of the local church: casting vision for the ministry\, reporting status on various initiatives\, setting budgets and priorities\, and so forth. If you want to know what’s going on at LCS\, the Voters Meeting is the place to find out!\n			\n			\n				\n				\n				\n				\n			\n				\n				\n			\n				\n				\n				\n				\n				\n				\n				\n				\n				\n				\n				\n				\n				\n				\n				\n				\n				\n				To join the meeting by phone: Dial 617-675-4444\, then log in with‬ PIN: ‪505 392 218 7505‬# \nTo join the video meeting: http://meet.google.com/shq-cwyy-exa \n  \nDocuments for the meeting: \nAgenda (pdf\, pptx) \nPastor’s Report \nTreasurer’s Report \nMinutes from 6/28 Voters Meeting \n  \nCouncil Reports: \nChristian Education Report \nElders \nTrustees \nWorship \n 
URL:https://www.lcsavior.org/event/20201025-voters-meeting/
LOCATION:Online
ATTACH;FMTTYPE=image/png:https://www.lcsavior.org/wp-content/uploads/2020/10/church-small.png
ORGANIZER;CN="Wayne Floyd":MAILTO:wayne.floyd@lcsavior.org
END:VEVENT
BEGIN:VEVENT
DTSTART;TZID=America/New_York:20201025T111500
DTEND;TZID=America/New_York:20201025T121500
DTSTAMP:20260425T151839
CREATED:20201024T172211Z
LAST-MODIFIED:20201121T222723Z
UID:10000008-1603624500-1603628100@www.lcsavior.org
SUMMARY:Adult Bible Study: Philippians
DESCRIPTION:Join us online at 11:15 AM for a study on the book of Philippians. In this study\, we’ll explore what it means to live a live worth of the Gospel – a life filled with joy. To get the invite link\, please send an email to Dave Hergert (email address below).
URL:https://www.lcsavior.org/event/adult-bible-study/2020-10-25/
LOCATION:Online
CATEGORIES:Bible Study
ATTACH;FMTTYPE=image/jpeg:https://www.lcsavior.org/wp-content/uploads/2020/10/philippi-theater-16x9-1.jpg
ORGANIZER;CN="Dave Hergert":MAILTO:dhergert@gmail.com
END:VEVENT
BEGIN:VEVENT
DTSTART;TZID=America/New_York:20201018T110000
DTEND;TZID=America/New_York:20201018T120000
DTSTAMP:20260425T151839
CREATED:20201011T162305Z
LAST-MODIFIED:20201017T121254Z
UID:10000024-1603018800-1603022400@www.lcsavior.org
SUMMARY:Priorities for Discipleship
DESCRIPTION:“Priorities for Making Disciples”…is the title and theme of our Sunday morning Bible study beginning September 27th. We’ll explore the book of Acts and the excitement in the early church following Jesus’ death\, resurrection\, and ascension. What did that look like then?  What does it mean for our church today? Come and see!
URL:https://www.lcsavior.org/event/priorities-for-discipleship-2/
LOCATION:Online
CATEGORIES:Bible Study,streaming
ATTACH;FMTTYPE=image/jpeg:https://www.lcsavior.org/wp-content/uploads/2020/10/growing_plans_320x181.jpg
END:VEVENT
END:VCALENDAR