BEGIN:VCALENDAR
VERSION:2.0
PRODID:-//Lutheran Church of the Savior - ECPv6.15.20//NONSGML v1.0//EN
CALSCALE:GREGORIAN
METHOD:PUBLISH
X-ORIGINAL-URL:https://www.lcsavior.org
X-WR-CALDESC:Events for Lutheran Church of the Savior
REFRESH-INTERVAL;VALUE=DURATION:PT1H
X-Robots-Tag:noindex
X-PUBLISHED-TTL:PT1H
BEGIN:VTIMEZONE
TZID:America/New_York
BEGIN:DAYLIGHT
TZOFFSETFROM:-0500
TZOFFSETTO:-0400
TZNAME:EDT
DTSTART:20230312T070000
END:DAYLIGHT
BEGIN:STANDARD
TZOFFSETFROM:-0400
TZOFFSETTO:-0500
TZNAME:EST
DTSTART:20231105T060000
END:STANDARD
BEGIN:DAYLIGHT
TZOFFSETFROM:-0500
TZOFFSETTO:-0400
TZNAME:EDT
DTSTART:20240310T070000
END:DAYLIGHT
BEGIN:STANDARD
TZOFFSETFROM:-0400
TZOFFSETTO:-0500
TZNAME:EST
DTSTART:20241103T060000
END:STANDARD
BEGIN:DAYLIGHT
TZOFFSETFROM:-0500
TZOFFSETTO:-0400
TZNAME:EDT
DTSTART:20250309T070000
END:DAYLIGHT
BEGIN:STANDARD
TZOFFSETFROM:-0400
TZOFFSETTO:-0500
TZNAME:EST
DTSTART:20251102T060000
END:STANDARD
END:VTIMEZONE
BEGIN:VEVENT
DTSTART;TZID=America/New_York:20241027T104500
DTEND;TZID=America/New_York:20241027T120000
DTSTAMP:20260426T001209
CREATED:20241026T180446Z
LAST-MODIFIED:20241026T180448Z
UID:10001783-1730025900-1730030400@www.lcsavior.org
SUMMARY:Sunday Morning Worship - 10:45AM
DESCRIPTION:Join us in-person or online each Sunday at 10:45 AM as we come together to hear from God’s word\, join in prayer and praise\, and celebrate our life of faith together. \nThis Sunday we remember the work of the reformers who brought God’s word to His people and breathed new life back into the Church. We pray that God continues the work of reforming our hearts and our lives and our churches! \nClick here to join the livestream
URL:https://www.lcsavior.org/event/sunday-worship-late-2024-9/
LOCATION:Lutheran Church of the Savior\, 426 Davis Rd.\, Bedford\, MA\, 01730\, United States
CATEGORIES:streaming,Worship
ATTACH;FMTTYPE=image/png:https://www.lcsavior.org/wp-content/uploads/2024/08/Slide1-Custom-6.png
END:VEVENT
BEGIN:VEVENT
DTSTART;TZID=America/New_York:20241027T093000
DTEND;TZID=America/New_York:20241027T103000
DTSTAMP:20260426T001209
CREATED:20240831T165239Z
LAST-MODIFIED:20250413T005544Z
UID:10001800-1730021400-1730025000@www.lcsavior.org
SUMMARY:Christian Education Hour
DESCRIPTION:Each Sunday from 9:30AM – 10:30AM\, we have a variety of different opportunities to study God’s Word together. We have classes for everybody from age 2 to 102\, and there’s always room for you!
URL:https://www.lcsavior.org/event/christian-education-hour-6/2024-10-27/
LOCATION:Lutheran Church of the Savior\, 426 Davis Rd.\, Bedford\, MA\, 01730\, United States
CATEGORIES:Bible Study
ATTACH;FMTTYPE=image/png:https://www.lcsavior.org/wp-content/uploads/2020/10/bible-study-logo-1080p-e1705168854863.png
END:VEVENT
BEGIN:VEVENT
DTSTART;TZID=America/New_York:20241027T080000
DTEND;TZID=America/New_York:20241027T090000
DTSTAMP:20260426T001209
CREATED:20240831T164626Z
LAST-MODIFIED:20250413T005458Z
UID:10001714-1730016000-1730019600@www.lcsavior.org
SUMMARY:Sunday Morning Worship - 8AM
DESCRIPTION:Join us in-person or online each Sunday at 8:00 AM as we come together to hear from God’s word\, join in prayer and praise\, and celebrate Holy Communion
URL:https://www.lcsavior.org/event/worship-early-2024/2024-10-27/
LOCATION:Lutheran Church of the Savior\, 426 Davis Rd.\, Bedford\, MA\, 01730\, United States
CATEGORIES:Worship
ATTACH;FMTTYPE=image/jpeg:https://www.lcsavior.org/wp-content/uploads/2020/08/cherry-tree-cross.jpg
END:VEVENT
BEGIN:VEVENT
DTSTART;TZID=America/New_York:20241020T104500
DTEND;TZID=America/New_York:20241020T120000
DTSTAMP:20260426T001209
CREATED:20241019T233614Z
LAST-MODIFIED:20241019T233616Z
UID:10001782-1729421100-1729425600@www.lcsavior.org
SUMMARY:Sunday Morning Worship - 10:45AM
DESCRIPTION:Join us in-person or online each Sunday at 10:45 AM as we come together to hear from God’s word\, join in prayer and praise\, and celebrate Holy Communion. \nClick here to join the livestream \nClick here to download the worship bulletin to follow along
URL:https://www.lcsavior.org/event/sunday-worship-late-2024-8/
LOCATION:Lutheran Church of the Savior\, 426 Davis Rd.\, Bedford\, MA\, 01730\, United States
CATEGORIES:streaming,Worship
ATTACH;FMTTYPE=image/png:https://www.lcsavior.org/wp-content/uploads/2024/08/Slide1-Custom-5.png
END:VEVENT
BEGIN:VEVENT
DTSTART;TZID=America/New_York:20241020T093000
DTEND;TZID=America/New_York:20241020T103000
DTSTAMP:20260426T001209
CREATED:20240831T165239Z
LAST-MODIFIED:20250413T005544Z
UID:10001799-1729416600-1729420200@www.lcsavior.org
SUMMARY:Christian Education Hour
DESCRIPTION:Each Sunday from 9:30AM – 10:30AM\, we have a variety of different opportunities to study God’s Word together. We have classes for everybody from age 2 to 102\, and there’s always room for you!
URL:https://www.lcsavior.org/event/christian-education-hour-6/2024-10-20/
LOCATION:Lutheran Church of the Savior\, 426 Davis Rd.\, Bedford\, MA\, 01730\, United States
CATEGORIES:Bible Study
ATTACH;FMTTYPE=image/png:https://www.lcsavior.org/wp-content/uploads/2020/10/bible-study-logo-1080p-e1705168854863.png
END:VEVENT
BEGIN:VEVENT
DTSTART;TZID=America/New_York:20241020T080000
DTEND;TZID=America/New_York:20241020T090000
DTSTAMP:20260426T001209
CREATED:20240831T164626Z
LAST-MODIFIED:20250413T005458Z
UID:10001713-1729411200-1729414800@www.lcsavior.org
SUMMARY:Sunday Morning Worship - 8AM
DESCRIPTION:Join us in-person or online each Sunday at 8:00 AM as we come together to hear from God’s word\, join in prayer and praise\, and celebrate Holy Communion
URL:https://www.lcsavior.org/event/worship-early-2024/2024-10-20/
LOCATION:Lutheran Church of the Savior\, 426 Davis Rd.\, Bedford\, MA\, 01730\, United States
CATEGORIES:Worship
ATTACH;FMTTYPE=image/jpeg:https://www.lcsavior.org/wp-content/uploads/2020/08/cherry-tree-cross.jpg
END:VEVENT
BEGIN:VEVENT
DTSTART;TZID=America/New_York:20241013T104500
DTEND;TZID=America/New_York:20241013T120000
DTSTAMP:20260426T001209
CREATED:20241012T183318Z
LAST-MODIFIED:20241012T183320Z
UID:10001781-1728816300-1728820800@www.lcsavior.org
SUMMARY:Sunday Morning Worship - 10:45AM
DESCRIPTION:Join us in-person or online each Sunday at 10:45 AM as we come together to hear from God’s word\, join in prayer and praise\, and celebrate Holy Communion. \nClick here to join the livestream \nClick here to download the worship bulletin to follow along
URL:https://www.lcsavior.org/event/sunday-worship-late-2024-7/
LOCATION:Lutheran Church of the Savior\, 426 Davis Rd.\, Bedford\, MA\, 01730\, United States
CATEGORIES:streaming,Worship
ATTACH;FMTTYPE=image/png:https://www.lcsavior.org/wp-content/uploads/2024/08/Slide1-Custom-4.png
END:VEVENT
BEGIN:VEVENT
DTSTART;TZID=America/New_York:20241013T093000
DTEND;TZID=America/New_York:20241013T103000
DTSTAMP:20260426T001209
CREATED:20240831T165239Z
LAST-MODIFIED:20250413T005544Z
UID:10001798-1728811800-1728815400@www.lcsavior.org
SUMMARY:Christian Education Hour
DESCRIPTION:Each Sunday from 9:30AM – 10:30AM\, we have a variety of different opportunities to study God’s Word together. We have classes for everybody from age 2 to 102\, and there’s always room for you!
URL:https://www.lcsavior.org/event/christian-education-hour-6/2024-10-13/
LOCATION:Lutheran Church of the Savior\, 426 Davis Rd.\, Bedford\, MA\, 01730\, United States
CATEGORIES:Bible Study
ATTACH;FMTTYPE=image/png:https://www.lcsavior.org/wp-content/uploads/2020/10/bible-study-logo-1080p-e1705168854863.png
END:VEVENT
BEGIN:VEVENT
DTSTART;TZID=America/New_York:20241013T080000
DTEND;TZID=America/New_York:20241013T090000
DTSTAMP:20260426T001209
CREATED:20240831T164626Z
LAST-MODIFIED:20250413T005458Z
UID:10001712-1728806400-1728810000@www.lcsavior.org
SUMMARY:Sunday Morning Worship - 8AM
DESCRIPTION:Join us in-person or online each Sunday at 8:00 AM as we come together to hear from God’s word\, join in prayer and praise\, and celebrate Holy Communion
URL:https://www.lcsavior.org/event/worship-early-2024/2024-10-13/
LOCATION:Lutheran Church of the Savior\, 426 Davis Rd.\, Bedford\, MA\, 01730\, United States
CATEGORIES:Worship
ATTACH;FMTTYPE=image/jpeg:https://www.lcsavior.org/wp-content/uploads/2020/08/cherry-tree-cross.jpg
END:VEVENT
BEGIN:VEVENT
DTSTART;TZID=America/New_York:20241012T100000
DTEND;TZID=America/New_York:20241012T120000
DTSTAMP:20260426T001209
CREATED:20240831T165744Z
LAST-MODIFIED:20250305T012730Z
UID:10001810-1728727200-1728734400@www.lcsavior.org
SUMMARY:Lutheran Women in Mission
DESCRIPTION:Join us the second Saturday of each month at 10:00 AM for Lutheran Women in Mission.
URL:https://www.lcsavior.org/event/lutheran-women-in-mission/2024-10-12/
LOCATION:Lutheran Church of the Savior\, 426 Davis Rd.\, Bedford\, MA\, 01730\, United States
ATTACH;FMTTYPE=image/png:https://www.lcsavior.org/wp-content/uploads/2020/08/lwml-logo-purple.png
END:VEVENT
BEGIN:VEVENT
DTSTART;TZID=America/New_York:20241006T104500
DTEND;TZID=America/New_York:20241006T120000
DTSTAMP:20260426T001209
CREATED:20241006T024017Z
LAST-MODIFIED:20241006T024121Z
UID:10001780-1728211500-1728216000@www.lcsavior.org
SUMMARY:Sunday Morning Worship - 10:45AM
DESCRIPTION:Join us in-person or online each Sunday at 10:45 AM as we come together to hear from God’s word\, join in prayer and praise\, and celebrate life in faith together. \nClick here to join the livestream. \nClick here to download the worship bulletin to follow along \n 
URL:https://www.lcsavior.org/event/sunday-worship-late-2024-6/
LOCATION:Lutheran Church of the Savior\, 426 Davis Rd.\, Bedford\, MA\, 01730\, United States
CATEGORIES:streaming,Worship
ATTACH;FMTTYPE=image/png:https://www.lcsavior.org/wp-content/uploads/2024/08/Slide1.png
END:VEVENT
BEGIN:VEVENT
DTSTART;TZID=America/New_York:20241006T093000
DTEND;TZID=America/New_York:20241006T103000
DTSTAMP:20260426T001209
CREATED:20240831T165239Z
LAST-MODIFIED:20250413T005544Z
UID:10001797-1728207000-1728210600@www.lcsavior.org
SUMMARY:Christian Education Hour
DESCRIPTION:Each Sunday from 9:30AM – 10:30AM\, we have a variety of different opportunities to study God’s Word together. We have classes for everybody from age 2 to 102\, and there’s always room for you!
URL:https://www.lcsavior.org/event/christian-education-hour-6/2024-10-06/
LOCATION:Lutheran Church of the Savior\, 426 Davis Rd.\, Bedford\, MA\, 01730\, United States
CATEGORIES:Bible Study
ATTACH;FMTTYPE=image/png:https://www.lcsavior.org/wp-content/uploads/2020/10/bible-study-logo-1080p-e1705168854863.png
END:VEVENT
BEGIN:VEVENT
DTSTART;TZID=America/New_York:20241006T080000
DTEND;TZID=America/New_York:20241006T090000
DTSTAMP:20260426T001209
CREATED:20240831T164626Z
LAST-MODIFIED:20250413T005458Z
UID:10001711-1728201600-1728205200@www.lcsavior.org
SUMMARY:Sunday Morning Worship - 8AM
DESCRIPTION:Join us in-person or online each Sunday at 8:00 AM as we come together to hear from God’s word\, join in prayer and praise\, and celebrate Holy Communion
URL:https://www.lcsavior.org/event/worship-early-2024/2024-10-06/
LOCATION:Lutheran Church of the Savior\, 426 Davis Rd.\, Bedford\, MA\, 01730\, United States
CATEGORIES:Worship
ATTACH;FMTTYPE=image/jpeg:https://www.lcsavior.org/wp-content/uploads/2020/08/cherry-tree-cross.jpg
END:VEVENT
BEGIN:VEVENT
DTSTART;TZID=America/New_York:20240929T104500
DTEND;TZID=America/New_York:20240929T120000
DTSTAMP:20260426T001209
CREATED:20240928T191021Z
LAST-MODIFIED:20240928T191023Z
UID:10001779-1727606700-1727611200@www.lcsavior.org
SUMMARY:Sunday Morning Worship - 10:45AM
DESCRIPTION:Join us in-person or online each Sunday at 10:45 AM as we come together to hear from God’s word\, join in prayer and praise\, and celebrate Holy Communion. \nClick here to join the livestream \nClick here to download the worship bulletin to follow along
URL:https://www.lcsavior.org/event/sunday-worship-late-2024-5/
LOCATION:Lutheran Church of the Savior\, 426 Davis Rd.\, Bedford\, MA\, 01730\, United States
CATEGORIES:streaming,Worship
ATTACH;FMTTYPE=image/png:https://www.lcsavior.org/wp-content/uploads/2024/08/Slide1-Custom-3.png
END:VEVENT
BEGIN:VEVENT
DTSTART;TZID=America/New_York:20240929T093000
DTEND;TZID=America/New_York:20240929T103000
DTSTAMP:20260426T001209
CREATED:20240831T165239Z
LAST-MODIFIED:20250413T005544Z
UID:10001796-1727602200-1727605800@www.lcsavior.org
SUMMARY:Christian Education Hour
DESCRIPTION:Each Sunday from 9:30AM – 10:30AM\, we have a variety of different opportunities to study God’s Word together. We have classes for everybody from age 2 to 102\, and there’s always room for you!
URL:https://www.lcsavior.org/event/christian-education-hour-6/2024-09-29/
LOCATION:Lutheran Church of the Savior\, 426 Davis Rd.\, Bedford\, MA\, 01730\, United States
CATEGORIES:Bible Study
ATTACH;FMTTYPE=image/png:https://www.lcsavior.org/wp-content/uploads/2020/10/bible-study-logo-1080p-e1705168854863.png
END:VEVENT
BEGIN:VEVENT
DTSTART;TZID=America/New_York:20240929T080000
DTEND;TZID=America/New_York:20240929T090000
DTSTAMP:20260426T001209
CREATED:20240831T164626Z
LAST-MODIFIED:20250413T005458Z
UID:10001710-1727596800-1727600400@www.lcsavior.org
SUMMARY:Sunday Morning Worship - 8AM
DESCRIPTION:Join us in-person or online each Sunday at 8:00 AM as we come together to hear from God’s word\, join in prayer and praise\, and celebrate Holy Communion
URL:https://www.lcsavior.org/event/worship-early-2024/2024-09-29/
LOCATION:Lutheran Church of the Savior\, 426 Davis Rd.\, Bedford\, MA\, 01730\, United States
CATEGORIES:Worship
ATTACH;FMTTYPE=image/jpeg:https://www.lcsavior.org/wp-content/uploads/2020/08/cherry-tree-cross.jpg
END:VEVENT
BEGIN:VEVENT
DTSTART;TZID=America/New_York:20240922T104500
DTEND;TZID=America/New_York:20240922T120000
DTSTAMP:20260426T001209
CREATED:20240921T183037Z
LAST-MODIFIED:20240921T183039Z
UID:10001778-1727001900-1727006400@www.lcsavior.org
SUMMARY:Sunday Morning Worship - 10:45AM
DESCRIPTION:Join us in-person or online each Sunday at 10:45 AM as we come together to hear from God’s word\, join in prayer and praise\, and celebrate life in Christ together. \nClick here to join the livestream \nClick here to download the worship bulletin to follow along
URL:https://www.lcsavior.org/event/sunday-worship-late-2024-4/
LOCATION:Lutheran Church of the Savior\, 426 Davis Rd.\, Bedford\, MA\, 01730\, United States
CATEGORIES:streaming,Worship
ATTACH;FMTTYPE=image/png:https://www.lcsavior.org/wp-content/uploads/2024/08/Slide1-Custom-2.png
END:VEVENT
BEGIN:VEVENT
DTSTART;TZID=America/New_York:20240922T093000
DTEND;TZID=America/New_York:20240922T103000
DTSTAMP:20260426T001209
CREATED:20240831T165239Z
LAST-MODIFIED:20250413T005544Z
UID:10001795-1726997400-1727001000@www.lcsavior.org
SUMMARY:Christian Education Hour
DESCRIPTION:Each Sunday from 9:30AM – 10:30AM\, we have a variety of different opportunities to study God’s Word together. We have classes for everybody from age 2 to 102\, and there’s always room for you!
URL:https://www.lcsavior.org/event/christian-education-hour-6/2024-09-22/
LOCATION:Lutheran Church of the Savior\, 426 Davis Rd.\, Bedford\, MA\, 01730\, United States
CATEGORIES:Bible Study
ATTACH;FMTTYPE=image/png:https://www.lcsavior.org/wp-content/uploads/2020/10/bible-study-logo-1080p-e1705168854863.png
END:VEVENT
BEGIN:VEVENT
DTSTART;TZID=America/New_York:20240922T080000
DTEND;TZID=America/New_York:20240922T090000
DTSTAMP:20260426T001209
CREATED:20240831T164626Z
LAST-MODIFIED:20250413T005458Z
UID:10001709-1726992000-1726995600@www.lcsavior.org
SUMMARY:Sunday Morning Worship - 8AM
DESCRIPTION:Join us in-person or online each Sunday at 8:00 AM as we come together to hear from God’s word\, join in prayer and praise\, and celebrate Holy Communion
URL:https://www.lcsavior.org/event/worship-early-2024/2024-09-22/
LOCATION:Lutheran Church of the Savior\, 426 Davis Rd.\, Bedford\, MA\, 01730\, United States
CATEGORIES:Worship
ATTACH;FMTTYPE=image/jpeg:https://www.lcsavior.org/wp-content/uploads/2020/08/cherry-tree-cross.jpg
END:VEVENT
BEGIN:VEVENT
DTSTART;TZID=America/New_York:20240915T104500
DTEND;TZID=America/New_York:20240915T120000
DTSTAMP:20260426T001209
CREATED:20240914T211115Z
LAST-MODIFIED:20240914T211117Z
UID:10001777-1726397100-1726401600@www.lcsavior.org
SUMMARY:Sunday Morning Worship - 10:45AM
DESCRIPTION:Join us in-person or online each Sunday at 10:45 AM as we come together to hear from God’s word\, join in prayer and praise\, and celebrate Holy Communion. \nClick here to join the livestream \nClick here to download the worship bulletin to follow along
URL:https://www.lcsavior.org/event/sunday-worship-late-2024-3/
LOCATION:Lutheran Church of the Savior\, 426 Davis Rd.\, Bedford\, MA\, 01730\, United States
CATEGORIES:streaming,Worship
ATTACH;FMTTYPE=image/png:https://www.lcsavior.org/wp-content/uploads/2024/08/Slide1-Custom-1.png
END:VEVENT
BEGIN:VEVENT
DTSTART;TZID=America/New_York:20240915T093000
DTEND;TZID=America/New_York:20240915T103000
DTSTAMP:20260426T001209
CREATED:20240831T165239Z
LAST-MODIFIED:20250413T005544Z
UID:10001794-1726392600-1726396200@www.lcsavior.org
SUMMARY:Christian Education Hour
DESCRIPTION:Each Sunday from 9:30AM – 10:30AM\, we have a variety of different opportunities to study God’s Word together. We have classes for everybody from age 2 to 102\, and there’s always room for you!
URL:https://www.lcsavior.org/event/christian-education-hour-6/2024-09-15/
LOCATION:Lutheran Church of the Savior\, 426 Davis Rd.\, Bedford\, MA\, 01730\, United States
CATEGORIES:Bible Study
ATTACH;FMTTYPE=image/png:https://www.lcsavior.org/wp-content/uploads/2020/10/bible-study-logo-1080p-e1705168854863.png
END:VEVENT
BEGIN:VEVENT
DTSTART;TZID=America/New_York:20240915T080000
DTEND;TZID=America/New_York:20240915T090000
DTSTAMP:20260426T001209
CREATED:20240831T164626Z
LAST-MODIFIED:20250413T005458Z
UID:10001708-1726387200-1726390800@www.lcsavior.org
SUMMARY:Sunday Morning Worship - 8AM
DESCRIPTION:Join us in-person or online each Sunday at 8:00 AM as we come together to hear from God’s word\, join in prayer and praise\, and celebrate Holy Communion
URL:https://www.lcsavior.org/event/worship-early-2024/2024-09-15/
LOCATION:Lutheran Church of the Savior\, 426 Davis Rd.\, Bedford\, MA\, 01730\, United States
CATEGORIES:Worship
ATTACH;FMTTYPE=image/jpeg:https://www.lcsavior.org/wp-content/uploads/2020/08/cherry-tree-cross.jpg
END:VEVENT
BEGIN:VEVENT
DTSTART;TZID=America/New_York:20240914T100000
DTEND;TZID=America/New_York:20240914T120000
DTSTAMP:20260426T001209
CREATED:20240831T165823Z
LAST-MODIFIED:20240831T165826Z
UID:10001809-1726308000-1726315200@www.lcsavior.org
SUMMARY:Lutheran Women in Mission
DESCRIPTION:It’s time for a new year of meetings\, fellowship and fun for LWML!  Please join us for brunch at 10:00AM\, Saturday\, Sept 14th at church.  We will be hearing from our guest speaker\, Leslie Colligan\, about her mission work in Poland. It will be good to gather as Lutheran Women in Mission\, living our theme\, “Ready to Serve”.  Invite a friend and see you there!  If you have any questions\, please contact Cindy Jordan (978) 846-0194.
URL:https://www.lcsavior.org/event/lutheran-women-in-mission-2/
LOCATION:Lutheran Church of the Savior\, 426 Davis Rd.\, Bedford\, MA\, 01730\, United States
ATTACH;FMTTYPE=image/png:https://www.lcsavior.org/wp-content/uploads/2020/08/lwml-logo-purple.png
END:VEVENT
BEGIN:VEVENT
DTSTART;TZID=America/New_York:20240908T104500
DTEND;TZID=America/New_York:20240908T120000
DTSTAMP:20260426T001209
CREATED:20240907T170346Z
LAST-MODIFIED:20240907T170348Z
UID:10001776-1725792300-1725796800@www.lcsavior.org
SUMMARY:Sunday Morning Worship - 10:45AM
DESCRIPTION:Join us in-person or online each Sunday at 10:45 AM as we come together to hear from God’s word\, join in prayer and praise\, and celebrate life in faith together! \nClick here to join the livestream \nClick here to download the worship bulletin to follow along \n 
URL:https://www.lcsavior.org/event/sunday-worship-late-2024-2/
LOCATION:Lutheran Church of the Savior\, 426 Davis Rd.\, Bedford\, MA\, 01730\, United States
CATEGORIES:streaming,Worship
ATTACH;FMTTYPE=image/png:https://www.lcsavior.org/wp-content/uploads/2024/08/Slide1-Custom.png
END:VEVENT
BEGIN:VEVENT
DTSTART;TZID=America/New_York:20240908T093000
DTEND;TZID=America/New_York:20240908T103000
DTSTAMP:20260426T001209
CREATED:20240831T165239Z
LAST-MODIFIED:20250413T005544Z
UID:10001793-1725787800-1725791400@www.lcsavior.org
SUMMARY:Christian Education Hour
DESCRIPTION:Each Sunday from 9:30AM – 10:30AM\, we have a variety of different opportunities to study God’s Word together. We have classes for everybody from age 2 to 102\, and there’s always room for you!
URL:https://www.lcsavior.org/event/christian-education-hour-6/2024-09-08/
LOCATION:Lutheran Church of the Savior\, 426 Davis Rd.\, Bedford\, MA\, 01730\, United States
CATEGORIES:Bible Study
ATTACH;FMTTYPE=image/png:https://www.lcsavior.org/wp-content/uploads/2020/10/bible-study-logo-1080p-e1705168854863.png
END:VEVENT
BEGIN:VEVENT
DTSTART;TZID=America/New_York:20240908T080000
DTEND;TZID=America/New_York:20240908T090000
DTSTAMP:20260426T001209
CREATED:20240831T164626Z
LAST-MODIFIED:20250413T005458Z
UID:10001707-1725782400-1725786000@www.lcsavior.org
SUMMARY:Sunday Morning Worship - 8AM
DESCRIPTION:Join us in-person or online each Sunday at 8:00 AM as we come together to hear from God’s word\, join in prayer and praise\, and celebrate Holy Communion
URL:https://www.lcsavior.org/event/worship-early-2024/2024-09-08/
LOCATION:Lutheran Church of the Savior\, 426 Davis Rd.\, Bedford\, MA\, 01730\, United States
CATEGORIES:Worship
ATTACH;FMTTYPE=image/jpeg:https://www.lcsavior.org/wp-content/uploads/2020/08/cherry-tree-cross.jpg
END:VEVENT
BEGIN:VEVENT
DTSTART;TZID=America/New_York:20240901T090000
DTEND;TZID=America/New_York:20240901T100000
DTSTAMP:20260426T001209
CREATED:20240831T163142Z
LAST-MODIFIED:20240831T163144Z
UID:10001706-1725181200-1725184800@www.lcsavior.org
SUMMARY:Sunday Morning Worship
DESCRIPTION:Join us in-person or online each Sunday this summer at 9:00 AM as we come together to hear from God’s word\, join in prayer and praise\, and celebrate our life of faith together. \nClick here to join the livestream \nClick here to download the worship bulletin to follow along
URL:https://www.lcsavior.org/event/sunday-morning-worship-2-20/
LOCATION:Lutheran Church of the Savior\, 426 Davis Rd.\, Bedford\, MA\, 01730\, United States
CATEGORIES:streaming,Worship
ATTACH;FMTTYPE=image/png:https://www.lcsavior.org/wp-content/uploads/2024/06/Slide1-Custom-8.png
END:VEVENT
BEGIN:VEVENT
DTSTART;TZID=America/New_York:20240825T090000
DTEND;TZID=America/New_York:20240825T100000
DTSTAMP:20260426T001209
CREATED:20240825T004347Z
LAST-MODIFIED:20240825T004349Z
UID:10001705-1724576400-1724580000@www.lcsavior.org
SUMMARY:Sunday Morning Worship
DESCRIPTION:Join us in-person or online each Sunday this summer at 9:00 AM as we come together to hear from God’s word\, join in prayer and praise\, and celebrate Holy Communion. \nClick here to join the livestream \nClick here to download the worship bulletin to follow along
URL:https://www.lcsavior.org/event/sunday-morning-worship-2-19/
LOCATION:Lutheran Church of the Savior\, 426 Davis Rd.\, Bedford\, MA\, 01730\, United States
CATEGORIES:streaming,Worship
ATTACH;FMTTYPE=image/png:https://www.lcsavior.org/wp-content/uploads/2024/06/Slide1-Custom-7.png
END:VEVENT
BEGIN:VEVENT
DTSTART;TZID=America/New_York:20240818T090000
DTEND;TZID=America/New_York:20240818T100000
DTSTAMP:20260426T001209
CREATED:20240817T155541Z
LAST-MODIFIED:20240817T202717Z
UID:10001704-1723971600-1723975200@www.lcsavior.org
SUMMARY:Sunday Morning Worship
DESCRIPTION:Join us in-person or online each Sunday this summer at 9:00 AM as we come together to hear from God’s word\, join in prayer and praise\, and celebrate life together as a family of faith. \nClick here to join the livestream \nClick here for the worship bulletin to follow along \n 
URL:https://www.lcsavior.org/event/sunday-morning-worship-2-18/
LOCATION:Lutheran Church of the Savior\, 426 Davis Rd.\, Bedford\, MA\, 01730\, United States
CATEGORIES:streaming,Worship
ATTACH;FMTTYPE=image/png:https://www.lcsavior.org/wp-content/uploads/2024/06/Slide1-Custom-6.png
END:VEVENT
BEGIN:VEVENT
DTSTART;TZID=America/New_York:20240811T090000
DTEND;TZID=America/New_York:20240811T100000
DTSTAMP:20260426T001209
CREATED:20240810T214912Z
LAST-MODIFIED:20240810T214914Z
UID:10001703-1723366800-1723370400@www.lcsavior.org
SUMMARY:Sunday Morning Worship
DESCRIPTION:Join us in-person or online each Sunday this summer at 9:00 AM as we come together to hear from God’s word\, join in prayer and praise\, and celebrate our life of faith together. \nClick here to join the livestream \nClick here to download the worship bulletin to follow along
URL:https://www.lcsavior.org/event/sunday-morning-worship-2-17/
LOCATION:Lutheran Church of the Savior\, 426 Davis Rd.\, Bedford\, MA\, 01730\, United States
CATEGORIES:streaming,Worship
ATTACH;FMTTYPE=image/png:https://www.lcsavior.org/wp-content/uploads/2024/06/Slide1-Custom-5.png
END:VEVENT
END:VCALENDAR