BEGIN:VCALENDAR
VERSION:2.0
PRODID:-//Lutheran Church of the Savior - ECPv6.15.20//NONSGML v1.0//EN
CALSCALE:GREGORIAN
METHOD:PUBLISH
X-WR-CALNAME:Lutheran Church of the Savior
X-ORIGINAL-URL:https://www.lcsavior.org
X-WR-CALDESC:Events for Lutheran Church of the Savior
REFRESH-INTERVAL;VALUE=DURATION:PT1H
X-Robots-Tag:noindex
X-PUBLISHED-TTL:PT1H
BEGIN:VTIMEZONE
TZID:America/New_York
BEGIN:DAYLIGHT
TZOFFSETFROM:-0500
TZOFFSETTO:-0400
TZNAME:EDT
DTSTART:20250309T070000
END:DAYLIGHT
BEGIN:STANDARD
TZOFFSETFROM:-0400
TZOFFSETTO:-0500
TZNAME:EST
DTSTART:20251102T060000
END:STANDARD
BEGIN:DAYLIGHT
TZOFFSETFROM:-0500
TZOFFSETTO:-0400
TZNAME:EDT
DTSTART:20260308T070000
END:DAYLIGHT
BEGIN:STANDARD
TZOFFSETFROM:-0400
TZOFFSETTO:-0500
TZNAME:EST
DTSTART:20261101T060000
END:STANDARD
BEGIN:DAYLIGHT
TZOFFSETFROM:-0500
TZOFFSETTO:-0400
TZNAME:EDT
DTSTART:20270314T070000
END:DAYLIGHT
BEGIN:STANDARD
TZOFFSETFROM:-0400
TZOFFSETTO:-0500
TZNAME:EST
DTSTART:20271107T060000
END:STANDARD
BEGIN:DAYLIGHT
TZOFFSETFROM:-0500
TZOFFSETTO:-0400
TZNAME:EDT
DTSTART:20280312T070000
END:DAYLIGHT
BEGIN:STANDARD
TZOFFSETFROM:-0400
TZOFFSETTO:-0500
TZNAME:EST
DTSTART:20281105T060000
END:STANDARD
END:VTIMEZONE
BEGIN:VEVENT
DTSTART;TZID=America/New_York:20260905T073000
DTEND;TZID=America/New_York:20260905T090000
DTSTAMP:20260425T082016
CREATED:20251129T191143Z
LAST-MODIFIED:20251129T191143Z
UID:10002133-1788593400-1788598800@www.lcsavior.org
SUMMARY:Men in Prayer
DESCRIPTION:On the first Saturday of the month\, we get together for a hearty breakfast\, some fellowship\, and time in prayer. This is a great opportunity to connect and to share in our life together – men of all ages are welcome!
URL:https://www.lcsavior.org/event/men-in-prayer/2026-09-05/
LOCATION:Lutheran Church of the Savior\, 426 Davis Rd.\, Bedford\, MA\, 01730\, United States
CATEGORIES:Fellowship
ATTACH;FMTTYPE=image/jpeg:https://www.lcsavior.org/wp-content/uploads/2025/11/bacon-and-eggs.jpg
END:VEVENT
BEGIN:VEVENT
DTSTART;TZID=America/New_York:20260909T090000
DTEND;TZID=America/New_York:20260909T120000
DTSTAMP:20260425T082017
CREATED:20260227T190216Z
LAST-MODIFIED:20260227T232259Z
UID:10002488-1788944400-1788955200@www.lcsavior.org
SUMMARY:Tool Time
DESCRIPTION:Join us for Tool Time every Wednesday morning at 9:00 AM at the LCS Facility! Tool Time is open to anyone willing to lend a hand with small maintenance projects around the facility. \nWe begin the morning with fellowship—coffee and pastries are provided. A short devotion is led by the Pastor or one of the Tool Time team members. Afterward\, the team works together to complete one or more projects that can be accomplished within an hour or two. \nCome enjoy good company\, meaningful devotion\, and the opportunity to serve!
URL:https://www.lcsavior.org/event/toot-time/2026-09-09/
LOCATION:Lutheran Church of the Savior\, 426 Davis Rd.\, Bedford\, MA\, 01730\, United States
END:VEVENT
BEGIN:VEVENT
DTSTART;TZID=America/New_York:20260916T090000
DTEND;TZID=America/New_York:20260916T120000
DTSTAMP:20260425T082017
CREATED:20260227T190216Z
LAST-MODIFIED:20260227T232259Z
UID:10002489-1789549200-1789560000@www.lcsavior.org
SUMMARY:Tool Time
DESCRIPTION:Join us for Tool Time every Wednesday morning at 9:00 AM at the LCS Facility! Tool Time is open to anyone willing to lend a hand with small maintenance projects around the facility. \nWe begin the morning with fellowship—coffee and pastries are provided. A short devotion is led by the Pastor or one of the Tool Time team members. Afterward\, the team works together to complete one or more projects that can be accomplished within an hour or two. \nCome enjoy good company\, meaningful devotion\, and the opportunity to serve!
URL:https://www.lcsavior.org/event/toot-time/2026-09-16/
LOCATION:Lutheran Church of the Savior\, 426 Davis Rd.\, Bedford\, MA\, 01730\, United States
END:VEVENT
BEGIN:VEVENT
DTSTART;TZID=America/New_York:20260923T090000
DTEND;TZID=America/New_York:20260923T120000
DTSTAMP:20260425T082017
CREATED:20260227T190216Z
LAST-MODIFIED:20260227T232259Z
UID:10002490-1790154000-1790164800@www.lcsavior.org
SUMMARY:Tool Time
DESCRIPTION:Join us for Tool Time every Wednesday morning at 9:00 AM at the LCS Facility! Tool Time is open to anyone willing to lend a hand with small maintenance projects around the facility. \nWe begin the morning with fellowship—coffee and pastries are provided. A short devotion is led by the Pastor or one of the Tool Time team members. Afterward\, the team works together to complete one or more projects that can be accomplished within an hour or two. \nCome enjoy good company\, meaningful devotion\, and the opportunity to serve!
URL:https://www.lcsavior.org/event/toot-time/2026-09-23/
LOCATION:Lutheran Church of the Savior\, 426 Davis Rd.\, Bedford\, MA\, 01730\, United States
END:VEVENT
BEGIN:VEVENT
DTSTART;TZID=America/New_York:20260930T090000
DTEND;TZID=America/New_York:20260930T120000
DTSTAMP:20260425T082017
CREATED:20260227T190216Z
LAST-MODIFIED:20260227T232259Z
UID:10002491-1790758800-1790769600@www.lcsavior.org
SUMMARY:Tool Time
DESCRIPTION:Join us for Tool Time every Wednesday morning at 9:00 AM at the LCS Facility! Tool Time is open to anyone willing to lend a hand with small maintenance projects around the facility. \nWe begin the morning with fellowship—coffee and pastries are provided. A short devotion is led by the Pastor or one of the Tool Time team members. Afterward\, the team works together to complete one or more projects that can be accomplished within an hour or two. \nCome enjoy good company\, meaningful devotion\, and the opportunity to serve!
URL:https://www.lcsavior.org/event/toot-time/2026-09-30/
LOCATION:Lutheran Church of the Savior\, 426 Davis Rd.\, Bedford\, MA\, 01730\, United States
END:VEVENT
BEGIN:VEVENT
DTSTART;TZID=America/New_York:20261003T073000
DTEND;TZID=America/New_York:20261003T090000
DTSTAMP:20260425T082017
CREATED:20251129T191143Z
LAST-MODIFIED:20251129T191143Z
UID:10002134-1791012600-1791018000@www.lcsavior.org
SUMMARY:Men in Prayer
DESCRIPTION:On the first Saturday of the month\, we get together for a hearty breakfast\, some fellowship\, and time in prayer. This is a great opportunity to connect and to share in our life together – men of all ages are welcome!
URL:https://www.lcsavior.org/event/men-in-prayer/2026-10-03/
LOCATION:Lutheran Church of the Savior\, 426 Davis Rd.\, Bedford\, MA\, 01730\, United States
CATEGORIES:Fellowship
ATTACH;FMTTYPE=image/jpeg:https://www.lcsavior.org/wp-content/uploads/2025/11/bacon-and-eggs.jpg
END:VEVENT
BEGIN:VEVENT
DTSTART;TZID=America/New_York:20261007T090000
DTEND;TZID=America/New_York:20261007T120000
DTSTAMP:20260425T082017
CREATED:20260227T190216Z
LAST-MODIFIED:20260227T232259Z
UID:10002492-1791363600-1791374400@www.lcsavior.org
SUMMARY:Tool Time
DESCRIPTION:Join us for Tool Time every Wednesday morning at 9:00 AM at the LCS Facility! Tool Time is open to anyone willing to lend a hand with small maintenance projects around the facility. \nWe begin the morning with fellowship—coffee and pastries are provided. A short devotion is led by the Pastor or one of the Tool Time team members. Afterward\, the team works together to complete one or more projects that can be accomplished within an hour or two. \nCome enjoy good company\, meaningful devotion\, and the opportunity to serve!
URL:https://www.lcsavior.org/event/toot-time/2026-10-07/
LOCATION:Lutheran Church of the Savior\, 426 Davis Rd.\, Bedford\, MA\, 01730\, United States
END:VEVENT
BEGIN:VEVENT
DTSTART;TZID=America/New_York:20261014T090000
DTEND;TZID=America/New_York:20261014T120000
DTSTAMP:20260425T082017
CREATED:20260227T190216Z
LAST-MODIFIED:20260227T232259Z
UID:10002493-1791968400-1791979200@www.lcsavior.org
SUMMARY:Tool Time
DESCRIPTION:Join us for Tool Time every Wednesday morning at 9:00 AM at the LCS Facility! Tool Time is open to anyone willing to lend a hand with small maintenance projects around the facility. \nWe begin the morning with fellowship—coffee and pastries are provided. A short devotion is led by the Pastor or one of the Tool Time team members. Afterward\, the team works together to complete one or more projects that can be accomplished within an hour or two. \nCome enjoy good company\, meaningful devotion\, and the opportunity to serve!
URL:https://www.lcsavior.org/event/toot-time/2026-10-14/
LOCATION:Lutheran Church of the Savior\, 426 Davis Rd.\, Bedford\, MA\, 01730\, United States
END:VEVENT
BEGIN:VEVENT
DTSTART;TZID=America/New_York:20261021T090000
DTEND;TZID=America/New_York:20261021T120000
DTSTAMP:20260425T082017
CREATED:20260227T190216Z
LAST-MODIFIED:20260227T232259Z
UID:10002494-1792573200-1792584000@www.lcsavior.org
SUMMARY:Tool Time
DESCRIPTION:Join us for Tool Time every Wednesday morning at 9:00 AM at the LCS Facility! Tool Time is open to anyone willing to lend a hand with small maintenance projects around the facility. \nWe begin the morning with fellowship—coffee and pastries are provided. A short devotion is led by the Pastor or one of the Tool Time team members. Afterward\, the team works together to complete one or more projects that can be accomplished within an hour or two. \nCome enjoy good company\, meaningful devotion\, and the opportunity to serve!
URL:https://www.lcsavior.org/event/toot-time/2026-10-21/
LOCATION:Lutheran Church of the Savior\, 426 Davis Rd.\, Bedford\, MA\, 01730\, United States
END:VEVENT
BEGIN:VEVENT
DTSTART;TZID=America/New_York:20261028T090000
DTEND;TZID=America/New_York:20261028T120000
DTSTAMP:20260425T082017
CREATED:20260227T190216Z
LAST-MODIFIED:20260227T232259Z
UID:10002495-1793178000-1793188800@www.lcsavior.org
SUMMARY:Tool Time
DESCRIPTION:Join us for Tool Time every Wednesday morning at 9:00 AM at the LCS Facility! Tool Time is open to anyone willing to lend a hand with small maintenance projects around the facility. \nWe begin the morning with fellowship—coffee and pastries are provided. A short devotion is led by the Pastor or one of the Tool Time team members. Afterward\, the team works together to complete one or more projects that can be accomplished within an hour or two. \nCome enjoy good company\, meaningful devotion\, and the opportunity to serve!
URL:https://www.lcsavior.org/event/toot-time/2026-10-28/
LOCATION:Lutheran Church of the Savior\, 426 Davis Rd.\, Bedford\, MA\, 01730\, United States
END:VEVENT
BEGIN:VEVENT
DTSTART;TZID=America/New_York:20261104T090000
DTEND;TZID=America/New_York:20261104T120000
DTSTAMP:20260425T082017
CREATED:20260227T190216Z
LAST-MODIFIED:20260227T232259Z
UID:10002496-1793782800-1793793600@www.lcsavior.org
SUMMARY:Tool Time
DESCRIPTION:Join us for Tool Time every Wednesday morning at 9:00 AM at the LCS Facility! Tool Time is open to anyone willing to lend a hand with small maintenance projects around the facility. \nWe begin the morning with fellowship—coffee and pastries are provided. A short devotion is led by the Pastor or one of the Tool Time team members. Afterward\, the team works together to complete one or more projects that can be accomplished within an hour or two. \nCome enjoy good company\, meaningful devotion\, and the opportunity to serve!
URL:https://www.lcsavior.org/event/toot-time/2026-11-04/
LOCATION:Lutheran Church of the Savior\, 426 Davis Rd.\, Bedford\, MA\, 01730\, United States
END:VEVENT
BEGIN:VEVENT
DTSTART;TZID=America/New_York:20261107T073000
DTEND;TZID=America/New_York:20261107T090000
DTSTAMP:20260425T082017
CREATED:20251129T191143Z
LAST-MODIFIED:20251129T191143Z
UID:10002135-1794036600-1794042000@www.lcsavior.org
SUMMARY:Men in Prayer
DESCRIPTION:On the first Saturday of the month\, we get together for a hearty breakfast\, some fellowship\, and time in prayer. This is a great opportunity to connect and to share in our life together – men of all ages are welcome!
URL:https://www.lcsavior.org/event/men-in-prayer/2026-11-07/
LOCATION:Lutheran Church of the Savior\, 426 Davis Rd.\, Bedford\, MA\, 01730\, United States
CATEGORIES:Fellowship
ATTACH;FMTTYPE=image/jpeg:https://www.lcsavior.org/wp-content/uploads/2025/11/bacon-and-eggs.jpg
END:VEVENT
BEGIN:VEVENT
DTSTART;TZID=America/New_York:20261111T090000
DTEND;TZID=America/New_York:20261111T120000
DTSTAMP:20260425T082017
CREATED:20260227T190216Z
LAST-MODIFIED:20260227T232259Z
UID:10002497-1794387600-1794398400@www.lcsavior.org
SUMMARY:Tool Time
DESCRIPTION:Join us for Tool Time every Wednesday morning at 9:00 AM at the LCS Facility! Tool Time is open to anyone willing to lend a hand with small maintenance projects around the facility. \nWe begin the morning with fellowship—coffee and pastries are provided. A short devotion is led by the Pastor or one of the Tool Time team members. Afterward\, the team works together to complete one or more projects that can be accomplished within an hour or two. \nCome enjoy good company\, meaningful devotion\, and the opportunity to serve!
URL:https://www.lcsavior.org/event/toot-time/2026-11-11/
LOCATION:Lutheran Church of the Savior\, 426 Davis Rd.\, Bedford\, MA\, 01730\, United States
END:VEVENT
BEGIN:VEVENT
DTSTART;TZID=America/New_York:20261118T090000
DTEND;TZID=America/New_York:20261118T120000
DTSTAMP:20260425T082017
CREATED:20260227T190216Z
LAST-MODIFIED:20260227T232259Z
UID:10002498-1794992400-1795003200@www.lcsavior.org
SUMMARY:Tool Time
DESCRIPTION:Join us for Tool Time every Wednesday morning at 9:00 AM at the LCS Facility! Tool Time is open to anyone willing to lend a hand with small maintenance projects around the facility. \nWe begin the morning with fellowship—coffee and pastries are provided. A short devotion is led by the Pastor or one of the Tool Time team members. Afterward\, the team works together to complete one or more projects that can be accomplished within an hour or two. \nCome enjoy good company\, meaningful devotion\, and the opportunity to serve!
URL:https://www.lcsavior.org/event/toot-time/2026-11-18/
LOCATION:Lutheran Church of the Savior\, 426 Davis Rd.\, Bedford\, MA\, 01730\, United States
END:VEVENT
BEGIN:VEVENT
DTSTART;TZID=America/New_York:20261125T090000
DTEND;TZID=America/New_York:20261125T120000
DTSTAMP:20260425T082017
CREATED:20260227T190216Z
LAST-MODIFIED:20260227T232259Z
UID:10002499-1795597200-1795608000@www.lcsavior.org
SUMMARY:Tool Time
DESCRIPTION:Join us for Tool Time every Wednesday morning at 9:00 AM at the LCS Facility! Tool Time is open to anyone willing to lend a hand with small maintenance projects around the facility. \nWe begin the morning with fellowship—coffee and pastries are provided. A short devotion is led by the Pastor or one of the Tool Time team members. Afterward\, the team works together to complete one or more projects that can be accomplished within an hour or two. \nCome enjoy good company\, meaningful devotion\, and the opportunity to serve!
URL:https://www.lcsavior.org/event/toot-time/2026-11-25/
LOCATION:Lutheran Church of the Savior\, 426 Davis Rd.\, Bedford\, MA\, 01730\, United States
END:VEVENT
BEGIN:VEVENT
DTSTART;TZID=America/New_York:20261202T090000
DTEND;TZID=America/New_York:20261202T120000
DTSTAMP:20260425T082017
CREATED:20260227T190216Z
LAST-MODIFIED:20260227T232259Z
UID:10002500-1796202000-1796212800@www.lcsavior.org
SUMMARY:Tool Time
DESCRIPTION:Join us for Tool Time every Wednesday morning at 9:00 AM at the LCS Facility! Tool Time is open to anyone willing to lend a hand with small maintenance projects around the facility. \nWe begin the morning with fellowship—coffee and pastries are provided. A short devotion is led by the Pastor or one of the Tool Time team members. Afterward\, the team works together to complete one or more projects that can be accomplished within an hour or two. \nCome enjoy good company\, meaningful devotion\, and the opportunity to serve!
URL:https://www.lcsavior.org/event/toot-time/2026-12-02/
LOCATION:Lutheran Church of the Savior\, 426 Davis Rd.\, Bedford\, MA\, 01730\, United States
END:VEVENT
BEGIN:VEVENT
DTSTART;TZID=America/New_York:20261205T073000
DTEND;TZID=America/New_York:20261205T090000
DTSTAMP:20260425T082017
CREATED:20251129T191143Z
LAST-MODIFIED:20251129T191143Z
UID:10002136-1796455800-1796461200@www.lcsavior.org
SUMMARY:Men in Prayer
DESCRIPTION:On the first Saturday of the month\, we get together for a hearty breakfast\, some fellowship\, and time in prayer. This is a great opportunity to connect and to share in our life together – men of all ages are welcome!
URL:https://www.lcsavior.org/event/men-in-prayer/2026-12-05/
LOCATION:Lutheran Church of the Savior\, 426 Davis Rd.\, Bedford\, MA\, 01730\, United States
CATEGORIES:Fellowship
ATTACH;FMTTYPE=image/jpeg:https://www.lcsavior.org/wp-content/uploads/2025/11/bacon-and-eggs.jpg
END:VEVENT
BEGIN:VEVENT
DTSTART;TZID=America/New_York:20261209T090000
DTEND;TZID=America/New_York:20261209T120000
DTSTAMP:20260425T082017
CREATED:20260227T190216Z
LAST-MODIFIED:20260227T232259Z
UID:10002501-1796806800-1796817600@www.lcsavior.org
SUMMARY:Tool Time
DESCRIPTION:Join us for Tool Time every Wednesday morning at 9:00 AM at the LCS Facility! Tool Time is open to anyone willing to lend a hand with small maintenance projects around the facility. \nWe begin the morning with fellowship—coffee and pastries are provided. A short devotion is led by the Pastor or one of the Tool Time team members. Afterward\, the team works together to complete one or more projects that can be accomplished within an hour or two. \nCome enjoy good company\, meaningful devotion\, and the opportunity to serve!
URL:https://www.lcsavior.org/event/toot-time/2026-12-09/
LOCATION:Lutheran Church of the Savior\, 426 Davis Rd.\, Bedford\, MA\, 01730\, United States
END:VEVENT
BEGIN:VEVENT
DTSTART;TZID=America/New_York:20261216T090000
DTEND;TZID=America/New_York:20261216T120000
DTSTAMP:20260425T082017
CREATED:20260227T190216Z
LAST-MODIFIED:20260227T232259Z
UID:10002502-1797411600-1797422400@www.lcsavior.org
SUMMARY:Tool Time
DESCRIPTION:Join us for Tool Time every Wednesday morning at 9:00 AM at the LCS Facility! Tool Time is open to anyone willing to lend a hand with small maintenance projects around the facility. \nWe begin the morning with fellowship—coffee and pastries are provided. A short devotion is led by the Pastor or one of the Tool Time team members. Afterward\, the team works together to complete one or more projects that can be accomplished within an hour or two. \nCome enjoy good company\, meaningful devotion\, and the opportunity to serve!
URL:https://www.lcsavior.org/event/toot-time/2026-12-16/
LOCATION:Lutheran Church of the Savior\, 426 Davis Rd.\, Bedford\, MA\, 01730\, United States
END:VEVENT
BEGIN:VEVENT
DTSTART;TZID=America/New_York:20261223T090000
DTEND;TZID=America/New_York:20261223T120000
DTSTAMP:20260425T082017
CREATED:20260227T190216Z
LAST-MODIFIED:20260227T232259Z
UID:10002503-1798016400-1798027200@www.lcsavior.org
SUMMARY:Tool Time
DESCRIPTION:Join us for Tool Time every Wednesday morning at 9:00 AM at the LCS Facility! Tool Time is open to anyone willing to lend a hand with small maintenance projects around the facility. \nWe begin the morning with fellowship—coffee and pastries are provided. A short devotion is led by the Pastor or one of the Tool Time team members. Afterward\, the team works together to complete one or more projects that can be accomplished within an hour or two. \nCome enjoy good company\, meaningful devotion\, and the opportunity to serve!
URL:https://www.lcsavior.org/event/toot-time/2026-12-23/
LOCATION:Lutheran Church of the Savior\, 426 Davis Rd.\, Bedford\, MA\, 01730\, United States
END:VEVENT
BEGIN:VEVENT
DTSTART;TZID=America/New_York:20261230T090000
DTEND;TZID=America/New_York:20261230T120000
DTSTAMP:20260425T082017
CREATED:20260227T190216Z
LAST-MODIFIED:20260227T232259Z
UID:10002504-1798621200-1798632000@www.lcsavior.org
SUMMARY:Tool Time
DESCRIPTION:Join us for Tool Time every Wednesday morning at 9:00 AM at the LCS Facility! Tool Time is open to anyone willing to lend a hand with small maintenance projects around the facility. \nWe begin the morning with fellowship—coffee and pastries are provided. A short devotion is led by the Pastor or one of the Tool Time team members. Afterward\, the team works together to complete one or more projects that can be accomplished within an hour or two. \nCome enjoy good company\, meaningful devotion\, and the opportunity to serve!
URL:https://www.lcsavior.org/event/toot-time/2026-12-30/
LOCATION:Lutheran Church of the Savior\, 426 Davis Rd.\, Bedford\, MA\, 01730\, United States
END:VEVENT
BEGIN:VEVENT
DTSTART;TZID=America/New_York:20270102T073000
DTEND;TZID=America/New_York:20270102T090000
DTSTAMP:20260425T082017
CREATED:20251129T191143Z
LAST-MODIFIED:20251129T191143Z
UID:10002137-1798875000-1798880400@www.lcsavior.org
SUMMARY:Men in Prayer
DESCRIPTION:On the first Saturday of the month\, we get together for a hearty breakfast\, some fellowship\, and time in prayer. This is a great opportunity to connect and to share in our life together – men of all ages are welcome!
URL:https://www.lcsavior.org/event/men-in-prayer/2027-01-02/
LOCATION:Lutheran Church of the Savior\, 426 Davis Rd.\, Bedford\, MA\, 01730\, United States
CATEGORIES:Fellowship
ATTACH;FMTTYPE=image/jpeg:https://www.lcsavior.org/wp-content/uploads/2025/11/bacon-and-eggs.jpg
END:VEVENT
BEGIN:VEVENT
DTSTART;TZID=America/New_York:20270106T090000
DTEND;TZID=America/New_York:20270106T120000
DTSTAMP:20260425T082017
CREATED:20260227T190216Z
LAST-MODIFIED:20260227T232259Z
UID:10002505-1799226000-1799236800@www.lcsavior.org
SUMMARY:Tool Time
DESCRIPTION:Join us for Tool Time every Wednesday morning at 9:00 AM at the LCS Facility! Tool Time is open to anyone willing to lend a hand with small maintenance projects around the facility. \nWe begin the morning with fellowship—coffee and pastries are provided. A short devotion is led by the Pastor or one of the Tool Time team members. Afterward\, the team works together to complete one or more projects that can be accomplished within an hour or two. \nCome enjoy good company\, meaningful devotion\, and the opportunity to serve!
URL:https://www.lcsavior.org/event/toot-time/2027-01-06/
LOCATION:Lutheran Church of the Savior\, 426 Davis Rd.\, Bedford\, MA\, 01730\, United States
END:VEVENT
BEGIN:VEVENT
DTSTART;TZID=America/New_York:20270113T090000
DTEND;TZID=America/New_York:20270113T120000
DTSTAMP:20260425T082017
CREATED:20260227T190216Z
LAST-MODIFIED:20260227T232259Z
UID:10002506-1799830800-1799841600@www.lcsavior.org
SUMMARY:Tool Time
DESCRIPTION:Join us for Tool Time every Wednesday morning at 9:00 AM at the LCS Facility! Tool Time is open to anyone willing to lend a hand with small maintenance projects around the facility. \nWe begin the morning with fellowship—coffee and pastries are provided. A short devotion is led by the Pastor or one of the Tool Time team members. Afterward\, the team works together to complete one or more projects that can be accomplished within an hour or two. \nCome enjoy good company\, meaningful devotion\, and the opportunity to serve!
URL:https://www.lcsavior.org/event/toot-time/2027-01-13/
LOCATION:Lutheran Church of the Savior\, 426 Davis Rd.\, Bedford\, MA\, 01730\, United States
END:VEVENT
BEGIN:VEVENT
DTSTART;TZID=America/New_York:20270120T090000
DTEND;TZID=America/New_York:20270120T120000
DTSTAMP:20260425T082017
CREATED:20260227T190216Z
LAST-MODIFIED:20260227T232259Z
UID:10002507-1800435600-1800446400@www.lcsavior.org
SUMMARY:Tool Time
DESCRIPTION:Join us for Tool Time every Wednesday morning at 9:00 AM at the LCS Facility! Tool Time is open to anyone willing to lend a hand with small maintenance projects around the facility. \nWe begin the morning with fellowship—coffee and pastries are provided. A short devotion is led by the Pastor or one of the Tool Time team members. Afterward\, the team works together to complete one or more projects that can be accomplished within an hour or two. \nCome enjoy good company\, meaningful devotion\, and the opportunity to serve!
URL:https://www.lcsavior.org/event/toot-time/2027-01-20/
LOCATION:Lutheran Church of the Savior\, 426 Davis Rd.\, Bedford\, MA\, 01730\, United States
END:VEVENT
BEGIN:VEVENT
DTSTART;TZID=America/New_York:20270127T090000
DTEND;TZID=America/New_York:20270127T120000
DTSTAMP:20260425T082017
CREATED:20260227T190216Z
LAST-MODIFIED:20260227T232259Z
UID:10002508-1801040400-1801051200@www.lcsavior.org
SUMMARY:Tool Time
DESCRIPTION:Join us for Tool Time every Wednesday morning at 9:00 AM at the LCS Facility! Tool Time is open to anyone willing to lend a hand with small maintenance projects around the facility. \nWe begin the morning with fellowship—coffee and pastries are provided. A short devotion is led by the Pastor or one of the Tool Time team members. Afterward\, the team works together to complete one or more projects that can be accomplished within an hour or two. \nCome enjoy good company\, meaningful devotion\, and the opportunity to serve!
URL:https://www.lcsavior.org/event/toot-time/2027-01-27/
LOCATION:Lutheran Church of the Savior\, 426 Davis Rd.\, Bedford\, MA\, 01730\, United States
END:VEVENT
BEGIN:VEVENT
DTSTART;TZID=America/New_York:20270203T090000
DTEND;TZID=America/New_York:20270203T120000
DTSTAMP:20260425T082017
CREATED:20260227T190216Z
LAST-MODIFIED:20260227T232259Z
UID:10002509-1801645200-1801656000@www.lcsavior.org
SUMMARY:Tool Time
DESCRIPTION:Join us for Tool Time every Wednesday morning at 9:00 AM at the LCS Facility! Tool Time is open to anyone willing to lend a hand with small maintenance projects around the facility. \nWe begin the morning with fellowship—coffee and pastries are provided. A short devotion is led by the Pastor or one of the Tool Time team members. Afterward\, the team works together to complete one or more projects that can be accomplished within an hour or two. \nCome enjoy good company\, meaningful devotion\, and the opportunity to serve!
URL:https://www.lcsavior.org/event/toot-time/2027-02-03/
LOCATION:Lutheran Church of the Savior\, 426 Davis Rd.\, Bedford\, MA\, 01730\, United States
END:VEVENT
BEGIN:VEVENT
DTSTART;TZID=America/New_York:20270206T073000
DTEND;TZID=America/New_York:20270206T090000
DTSTAMP:20260425T082017
CREATED:20251129T191143Z
LAST-MODIFIED:20251129T191143Z
UID:10002138-1801899000-1801904400@www.lcsavior.org
SUMMARY:Men in Prayer
DESCRIPTION:On the first Saturday of the month\, we get together for a hearty breakfast\, some fellowship\, and time in prayer. This is a great opportunity to connect and to share in our life together – men of all ages are welcome!
URL:https://www.lcsavior.org/event/men-in-prayer/2027-02-06/
LOCATION:Lutheran Church of the Savior\, 426 Davis Rd.\, Bedford\, MA\, 01730\, United States
CATEGORIES:Fellowship
ATTACH;FMTTYPE=image/jpeg:https://www.lcsavior.org/wp-content/uploads/2025/11/bacon-and-eggs.jpg
END:VEVENT
BEGIN:VEVENT
DTSTART;TZID=America/New_York:20270210T090000
DTEND;TZID=America/New_York:20270210T120000
DTSTAMP:20260425T082017
CREATED:20260227T190216Z
LAST-MODIFIED:20260227T232259Z
UID:10002510-1802250000-1802260800@www.lcsavior.org
SUMMARY:Tool Time
DESCRIPTION:Join us for Tool Time every Wednesday morning at 9:00 AM at the LCS Facility! Tool Time is open to anyone willing to lend a hand with small maintenance projects around the facility. \nWe begin the morning with fellowship—coffee and pastries are provided. A short devotion is led by the Pastor or one of the Tool Time team members. Afterward\, the team works together to complete one or more projects that can be accomplished within an hour or two. \nCome enjoy good company\, meaningful devotion\, and the opportunity to serve!
URL:https://www.lcsavior.org/event/toot-time/2027-02-10/
LOCATION:Lutheran Church of the Savior\, 426 Davis Rd.\, Bedford\, MA\, 01730\, United States
END:VEVENT
BEGIN:VEVENT
DTSTART;TZID=America/New_York:20270217T090000
DTEND;TZID=America/New_York:20270217T120000
DTSTAMP:20260425T082017
CREATED:20260227T190216Z
LAST-MODIFIED:20260227T232259Z
UID:10002511-1802854800-1802865600@www.lcsavior.org
SUMMARY:Tool Time
DESCRIPTION:Join us for Tool Time every Wednesday morning at 9:00 AM at the LCS Facility! Tool Time is open to anyone willing to lend a hand with small maintenance projects around the facility. \nWe begin the morning with fellowship—coffee and pastries are provided. A short devotion is led by the Pastor or one of the Tool Time team members. Afterward\, the team works together to complete one or more projects that can be accomplished within an hour or two. \nCome enjoy good company\, meaningful devotion\, and the opportunity to serve!
URL:https://www.lcsavior.org/event/toot-time/2027-02-17/
LOCATION:Lutheran Church of the Savior\, 426 Davis Rd.\, Bedford\, MA\, 01730\, United States
END:VEVENT
END:VCALENDAR