BEGIN:VCALENDAR
VERSION:2.0
PRODID:-//Lutheran Church of the Savior - ECPv6.15.20//NONSGML v1.0//EN
CALSCALE:GREGORIAN
METHOD:PUBLISH
X-WR-CALNAME:Lutheran Church of the Savior
X-ORIGINAL-URL:https://www.lcsavior.org
X-WR-CALDESC:Events for Lutheran Church of the Savior
REFRESH-INTERVAL;VALUE=DURATION:PT1H
X-Robots-Tag:noindex
X-PUBLISHED-TTL:PT1H
BEGIN:VTIMEZONE
TZID:America/New_York
BEGIN:DAYLIGHT
TZOFFSETFROM:-0500
TZOFFSETTO:-0400
TZNAME:EDT
DTSTART:20250309T070000
END:DAYLIGHT
BEGIN:STANDARD
TZOFFSETFROM:-0400
TZOFFSETTO:-0500
TZNAME:EST
DTSTART:20251102T060000
END:STANDARD
BEGIN:DAYLIGHT
TZOFFSETFROM:-0500
TZOFFSETTO:-0400
TZNAME:EDT
DTSTART:20260308T070000
END:DAYLIGHT
BEGIN:STANDARD
TZOFFSETFROM:-0400
TZOFFSETTO:-0500
TZNAME:EST
DTSTART:20261101T060000
END:STANDARD
BEGIN:DAYLIGHT
TZOFFSETFROM:-0500
TZOFFSETTO:-0400
TZNAME:EDT
DTSTART:20270314T070000
END:DAYLIGHT
BEGIN:STANDARD
TZOFFSETFROM:-0400
TZOFFSETTO:-0500
TZNAME:EST
DTSTART:20271107T060000
END:STANDARD
END:VTIMEZONE
BEGIN:VEVENT
DTSTART;TZID=America/New_York:20260311T190000
DTEND;TZID=America/New_York:20260311T200000
DTSTAMP:20260425T093545
CREATED:20260310T025037Z
LAST-MODIFIED:20260310T025040Z
UID:10002197-1773255600-1773259200@www.lcsavior.org
SUMMARY:Lent Midweek Service
DESCRIPTION:Join us for our midweek Lent services as we prepare for Holy Week and Easter. Come early to church at 6:00 PM for a soup supper! \nClick here to join the livestream
URL:https://www.lcsavior.org/event/lent-midweek-service-2-3/
LOCATION:Lutheran Church of the Savior\, 426 Davis Rd.\, Bedford\, MA\, 01730\, United States
CATEGORIES:streaming,Worship
ATTACH;FMTTYPE=image/png:https://www.lcsavior.org/wp-content/uploads/2026/02/Slide1-Custom-1.png
END:VEVENT
BEGIN:VEVENT
DTSTART;TZID=America/New_York:20260315T080000
DTEND;TZID=America/New_York:20260315T090000
DTSTAMP:20260425T093545
CREATED:20250906T230621Z
LAST-MODIFIED:20251221T002607Z
UID:10002014-1773561600-1773565200@www.lcsavior.org
SUMMARY:Sunday Morning Worship - 8:00 AM
DESCRIPTION:Join us in-person each Sunday at 8:00 AM as we come together to hear from God’s word\, join in prayer and praise\, and celebrate Holy Communion.
URL:https://www.lcsavior.org/event/sunday-morning-worship-800-am/2026-03-15/
LOCATION:Lutheran Church of the Savior\, 426 Davis Rd.\, Bedford\, MA\, 01730\, United States
CATEGORIES:Worship
ATTACH;FMTTYPE=image/jpeg:https://www.lcsavior.org/wp-content/uploads/2020/08/cherry-tree-cross.jpg
END:VEVENT
BEGIN:VEVENT
DTSTART;TZID=America/New_York:20260315T093000
DTEND;TZID=America/New_York:20260315T103000
DTSTAMP:20260425T093545
CREATED:20250906T231224Z
LAST-MODIFIED:20251221T002843Z
UID:10002097-1773567000-1773570600@www.lcsavior.org
SUMMARY:Christian Education Hour
DESCRIPTION:Please join us each week between services for Christian Education hour! There are Bible studies\, discussions\, and classes for people of all ages.
URL:https://www.lcsavior.org/event/christian-education-hour-2025/2026-03-15/
LOCATION:Lutheran Church of the Savior\, 426 Davis Rd.\, Bedford\, MA\, 01730\, United States
CATEGORIES:Bible Study
ATTACH;FMTTYPE=image/jpeg:https://www.lcsavior.org/wp-content/uploads/2021/01/womens-bible-study-shutterstock_738453862-Custom-1.jpg
END:VEVENT
BEGIN:VEVENT
DTSTART;TZID=America/New_York:20260315T104500
DTEND;TZID=America/New_York:20260315T114500
DTSTAMP:20260425T093545
CREATED:20260314T213832Z
LAST-MODIFIED:20260314T213835Z
UID:10002055-1773571500-1773575100@www.lcsavior.org
SUMMARY:Sunday Morning Worship - 10:45 AM
DESCRIPTION:Join us in-person or online each Sunday at 10:45 AM as we come together to hear from God’s word\, join in prayer and praise\, and celebrate Holy Communion. \nClick here to join the livestream \nClick here to download the worship bulletin to follow along \n 
URL:https://www.lcsavior.org/event/sunday-morning-worship-1045-am-44/
LOCATION:Lutheran Church of the Savior\, 426 Davis Rd.\, Bedford\, MA\, 01730\, United States
CATEGORIES:streaming,Worship
ATTACH;FMTTYPE=image/png:https://www.lcsavior.org/wp-content/uploads/2025/09/Slide1-Custom-26.png
END:VEVENT
BEGIN:VEVENT
DTSTART;TZID=America/New_York:20260318T090000
DTEND;TZID=America/New_York:20260318T120000
DTSTAMP:20260425T093545
CREATED:20260227T190216Z
LAST-MODIFIED:20260227T232259Z
UID:10002463-1773824400-1773835200@www.lcsavior.org
SUMMARY:Tool Time
DESCRIPTION:Join us for Tool Time every Wednesday morning at 9:00 AM at the LCS Facility! Tool Time is open to anyone willing to lend a hand with small maintenance projects around the facility. \nWe begin the morning with fellowship—coffee and pastries are provided. A short devotion is led by the Pastor or one of the Tool Time team members. Afterward\, the team works together to complete one or more projects that can be accomplished within an hour or two. \nCome enjoy good company\, meaningful devotion\, and the opportunity to serve!
URL:https://www.lcsavior.org/event/toot-time/2026-03-18/
LOCATION:Lutheran Church of the Savior\, 426 Davis Rd.\, Bedford\, MA\, 01730\, United States
END:VEVENT
BEGIN:VEVENT
DTSTART;TZID=America/New_York:20260318T190000
DTEND;TZID=America/New_York:20260318T200000
DTSTAMP:20260425T093545
CREATED:20260225T012518Z
LAST-MODIFIED:20260225T012518Z
UID:10002198-1773860400-1773864000@www.lcsavior.org
SUMMARY:Lent Midweek Service
DESCRIPTION:Join us for our midweek Lent services as we prepare for Holy Week and Easter. Come early to church at 6:00 PM for a soup supper!
URL:https://www.lcsavior.org/event/lent-midweek-service-2/2026-03-18/
LOCATION:Lutheran Church of the Savior\, 426 Davis Rd.\, Bedford\, MA\, 01730\, United States
CATEGORIES:streaming,Worship
ATTACH;FMTTYPE=image/jpeg:https://www.lcsavior.org/wp-content/uploads/2025/03/lent_16_9_shutterstock_1335314198-Featured-Image-WP.jpg
END:VEVENT
BEGIN:VEVENT
DTSTART;TZID=America/New_York:20260321T110000
DTEND;TZID=America/New_York:20260321T110000
DTSTAMP:20260425T093545
CREATED:20260308T193523Z
LAST-MODIFIED:20260308T193639Z
UID:10002722-1774090800-1774090800@www.lcsavior.org
SUMMARY:Linda Hatch - David Sanderson Wedding
DESCRIPTION:Linda Hatch – David Sanderson Wedding Ceremony
URL:https://www.lcsavior.org/event/linda-hatch-david-sanderson-wedding/
LOCATION:Lutheran Church of the Savior\, 426 Davis Rd.\, Bedford\, MA\, 01730\, United States
END:VEVENT
BEGIN:VEVENT
DTSTART;TZID=America/New_York:20260322T080000
DTEND;TZID=America/New_York:20260322T090000
DTSTAMP:20260425T093545
CREATED:20250906T230621Z
LAST-MODIFIED:20251221T002607Z
UID:10002015-1774166400-1774170000@www.lcsavior.org
SUMMARY:Sunday Morning Worship - 8:00 AM
DESCRIPTION:Join us in-person each Sunday at 8:00 AM as we come together to hear from God’s word\, join in prayer and praise\, and celebrate Holy Communion.
URL:https://www.lcsavior.org/event/sunday-morning-worship-800-am/2026-03-22/
LOCATION:Lutheran Church of the Savior\, 426 Davis Rd.\, Bedford\, MA\, 01730\, United States
CATEGORIES:Worship
ATTACH;FMTTYPE=image/jpeg:https://www.lcsavior.org/wp-content/uploads/2020/08/cherry-tree-cross.jpg
END:VEVENT
BEGIN:VEVENT
DTSTART;TZID=America/New_York:20260322T093000
DTEND;TZID=America/New_York:20260322T103000
DTSTAMP:20260425T093545
CREATED:20250906T231224Z
LAST-MODIFIED:20251221T002843Z
UID:10002098-1774171800-1774175400@www.lcsavior.org
SUMMARY:Christian Education Hour
DESCRIPTION:Please join us each week between services for Christian Education hour! There are Bible studies\, discussions\, and classes for people of all ages.
URL:https://www.lcsavior.org/event/christian-education-hour-2025/2026-03-22/
LOCATION:Lutheran Church of the Savior\, 426 Davis Rd.\, Bedford\, MA\, 01730\, United States
CATEGORIES:Bible Study
ATTACH;FMTTYPE=image/jpeg:https://www.lcsavior.org/wp-content/uploads/2021/01/womens-bible-study-shutterstock_738453862-Custom-1.jpg
END:VEVENT
BEGIN:VEVENT
DTSTART;TZID=America/New_York:20260322T104500
DTEND;TZID=America/New_York:20260322T114500
DTSTAMP:20260425T093545
CREATED:20260322T022316Z
LAST-MODIFIED:20260322T022317Z
UID:10002056-1774176300-1774179900@www.lcsavior.org
SUMMARY:Sunday Morning Worship - 10:45 AM
DESCRIPTION:Join us in-person or online each Sunday at 10:45 AM as we come together to hear from God’s word\, join in prayer and praise\, and celebrate Holy Communion. \nClick here to join the livestream \nClick here to download the worship bulletin to follow along
URL:https://www.lcsavior.org/event/sunday-morning-worship-1045-am-45/
LOCATION:Lutheran Church of the Savior\, 426 Davis Rd.\, Bedford\, MA\, 01730\, United States
CATEGORIES:streaming,Worship
ATTACH;FMTTYPE=image/png:https://www.lcsavior.org/wp-content/uploads/2025/09/Slide1-Custom-27.png
END:VEVENT
BEGIN:VEVENT
DTSTART;TZID=America/New_York:20260325T090000
DTEND;TZID=America/New_York:20260325T120000
DTSTAMP:20260425T093545
CREATED:20260227T190216Z
LAST-MODIFIED:20260227T232259Z
UID:10002464-1774429200-1774440000@www.lcsavior.org
SUMMARY:Tool Time
DESCRIPTION:Join us for Tool Time every Wednesday morning at 9:00 AM at the LCS Facility! Tool Time is open to anyone willing to lend a hand with small maintenance projects around the facility. \nWe begin the morning with fellowship—coffee and pastries are provided. A short devotion is led by the Pastor or one of the Tool Time team members. Afterward\, the team works together to complete one or more projects that can be accomplished within an hour or two. \nCome enjoy good company\, meaningful devotion\, and the opportunity to serve!
URL:https://www.lcsavior.org/event/toot-time/2026-03-25/
LOCATION:Lutheran Church of the Savior\, 426 Davis Rd.\, Bedford\, MA\, 01730\, United States
END:VEVENT
BEGIN:VEVENT
DTSTART;TZID=America/New_York:20260325T190000
DTEND;TZID=America/New_York:20260325T200000
DTSTAMP:20260425T093545
CREATED:20260324T013251Z
LAST-MODIFIED:20260324T013254Z
UID:10002199-1774465200-1774468800@www.lcsavior.org
SUMMARY:Lent Midweek Service
DESCRIPTION:Join us for our midweek Lent services as we prepare for Holy Week and Easter. Come early to church at 6:00 PM for a soup supper! \nClick here to join the livestream
URL:https://www.lcsavior.org/event/lent-midweek-service-2-4/
LOCATION:Lutheran Church of the Savior\, 426 Davis Rd.\, Bedford\, MA\, 01730\, United States
CATEGORIES:streaming,Worship
ATTACH;FMTTYPE=image/png:https://www.lcsavior.org/wp-content/uploads/2026/02/Slide1-Custom-2.png
END:VEVENT
BEGIN:VEVENT
DTSTART;TZID=America/New_York:20260328T103000
DTEND;TZID=America/New_York:20260328T140000
DTSTAMP:20260425T093545
CREATED:20260316T000909Z
LAST-MODIFIED:20260316T000909Z
UID:10002723-1774693800-1774706400@www.lcsavior.org
SUMMARY:Easter Egg-Stravaganza
DESCRIPTION:The Lutheran Church of the Savior is hosting a morning of fun\, crafts\, and an exciting Easter egg hunt! All families are warmly invited to attend\, and there is absolutely no charge. \nBring the kids\, invite your friends\, and come enjoy a joyful morning celebrating Easter together. We hope to see you there! \n \n  \n  \n 
URL:https://www.lcsavior.org/event/easter-egg-stravaganza/
LOCATION:Lutheran Church of the Savior\, 426 Davis Rd.\, Bedford\, MA\, 01730\, United States
END:VEVENT
BEGIN:VEVENT
DTSTART;TZID=America/New_York:20260329T080000
DTEND;TZID=America/New_York:20260329T090000
DTSTAMP:20260425T093545
CREATED:20250906T230621Z
LAST-MODIFIED:20251221T002607Z
UID:10002016-1774771200-1774774800@www.lcsavior.org
SUMMARY:Sunday Morning Worship - 8:00 AM
DESCRIPTION:Join us in-person each Sunday at 8:00 AM as we come together to hear from God’s word\, join in prayer and praise\, and celebrate Holy Communion.
URL:https://www.lcsavior.org/event/sunday-morning-worship-800-am/2026-03-29/
LOCATION:Lutheran Church of the Savior\, 426 Davis Rd.\, Bedford\, MA\, 01730\, United States
CATEGORIES:Worship
ATTACH;FMTTYPE=image/jpeg:https://www.lcsavior.org/wp-content/uploads/2020/08/cherry-tree-cross.jpg
END:VEVENT
BEGIN:VEVENT
DTSTART;TZID=America/New_York:20260329T093000
DTEND;TZID=America/New_York:20260329T103000
DTSTAMP:20260425T093545
CREATED:20250906T231224Z
LAST-MODIFIED:20251221T002843Z
UID:10002099-1774776600-1774780200@www.lcsavior.org
SUMMARY:Christian Education Hour
DESCRIPTION:Please join us each week between services for Christian Education hour! There are Bible studies\, discussions\, and classes for people of all ages.
URL:https://www.lcsavior.org/event/christian-education-hour-2025/2026-03-29/
LOCATION:Lutheran Church of the Savior\, 426 Davis Rd.\, Bedford\, MA\, 01730\, United States
CATEGORIES:Bible Study
ATTACH;FMTTYPE=image/jpeg:https://www.lcsavior.org/wp-content/uploads/2021/01/womens-bible-study-shutterstock_738453862-Custom-1.jpg
END:VEVENT
BEGIN:VEVENT
DTSTART;TZID=America/New_York:20260329T104500
DTEND;TZID=America/New_York:20260329T114500
DTSTAMP:20260425T093545
CREATED:20260328T212021Z
LAST-MODIFIED:20260328T212056Z
UID:10002057-1774781100-1774784700@www.lcsavior.org
SUMMARY:Sunday Morning Worship - 10:45 AM
DESCRIPTION:Join us for Palm Sunday\, as we celebrate the triumphal entry of Jesus into Jerusalem! This begins the final stages of His journey to the cross\, the grave\, and then to glory\, as God’s plan to save all mankind comes to fruition. Come and worship the King with us. \nClick here to join the livestream \nClick here to download the worship bulletin to follow along
URL:https://www.lcsavior.org/event/sunday-morning-worship-1045-am-46/
LOCATION:Lutheran Church of the Savior\, 426 Davis Rd.\, Bedford\, MA\, 01730\, United States
CATEGORIES:streaming,Worship
ATTACH;FMTTYPE=image/png:https://www.lcsavior.org/wp-content/uploads/2025/09/Slide1-Custom-28.png
END:VEVENT
BEGIN:VEVENT
DTSTART;TZID=America/New_York:20260401T090000
DTEND;TZID=America/New_York:20260401T120000
DTSTAMP:20260425T093545
CREATED:20260227T190216Z
LAST-MODIFIED:20260227T232259Z
UID:10002465-1775034000-1775044800@www.lcsavior.org
SUMMARY:Tool Time
DESCRIPTION:Join us for Tool Time every Wednesday morning at 9:00 AM at the LCS Facility! Tool Time is open to anyone willing to lend a hand with small maintenance projects around the facility. \nWe begin the morning with fellowship—coffee and pastries are provided. A short devotion is led by the Pastor or one of the Tool Time team members. Afterward\, the team works together to complete one or more projects that can be accomplished within an hour or two. \nCome enjoy good company\, meaningful devotion\, and the opportunity to serve!
URL:https://www.lcsavior.org/event/toot-time/2026-04-01/
LOCATION:Lutheran Church of the Savior\, 426 Davis Rd.\, Bedford\, MA\, 01730\, United States
END:VEVENT
BEGIN:VEVENT
DTSTART;TZID=America/New_York:20260402T190000
DTEND;TZID=America/New_York:20260402T200000
DTSTAMP:20260425T093545
CREATED:20260328T212309Z
LAST-MODIFIED:20260402T225927Z
UID:10002724-1775156400-1775160000@www.lcsavior.org
SUMMARY:Maundy Thursday Service
DESCRIPTION:2026-04-02 Maundy Thursday – Holy Thursday Service – Livestream
URL:https://www.lcsavior.org/event/maundy-thursday-service-2/
LOCATION:Lutheran Church of the Savior\, 426 Davis Rd.\, Bedford\, MA\, 01730\, United States
CATEGORIES:streaming,Worship
ATTACH;FMTTYPE=image/jpeg:https://www.lcsavior.org/wp-content/uploads/2023/04/jesus-communion_shutterstock_1953999844-Custom.jpg
END:VEVENT
BEGIN:VEVENT
DTSTART;TZID=America/New_York:20260403T190000
DTEND;TZID=America/New_York:20260403T200000
DTSTAMP:20260425T093545
CREATED:20260328T212436Z
LAST-MODIFIED:20260403T010113Z
UID:10002725-1775242800-1775246400@www.lcsavior.org
SUMMARY:Good Friday
DESCRIPTION:On Good Friday\, we remember the crucifixion and death of Jesus – it was our sin that put Jesus there\, and His love for us that kept Him there. The service begins right where Maundy Thursday ended\, in silence\, as we walk with Jesus to the cross. \nClick here to join the livestream \nClick here to download the worship bulletin to follow along
URL:https://www.lcsavior.org/event/good-friday-3/
LOCATION:Lutheran Church of the Savior\, 426 Davis Rd.\, Bedford\, MA\, 01730\, United States
CATEGORIES:streaming,Worship
ATTACH;FMTTYPE=image/png:https://www.lcsavior.org/wp-content/uploads/2022/04/Slide1-Featured-Image-WP-1.png
END:VEVENT
BEGIN:VEVENT
DTSTART;TZID=America/New_York:20260404T073000
DTEND;TZID=America/New_York:20260404T090000
DTSTAMP:20260425T093545
CREATED:20251129T191143Z
LAST-MODIFIED:20251129T191143Z
UID:10002128-1775287800-1775293200@www.lcsavior.org
SUMMARY:Men in Prayer
DESCRIPTION:On the first Saturday of the month\, we get together for a hearty breakfast\, some fellowship\, and time in prayer. This is a great opportunity to connect and to share in our life together – men of all ages are welcome!
URL:https://www.lcsavior.org/event/men-in-prayer/2026-04-04/
LOCATION:Lutheran Church of the Savior\, 426 Davis Rd.\, Bedford\, MA\, 01730\, United States
CATEGORIES:Fellowship
ATTACH;FMTTYPE=image/jpeg:https://www.lcsavior.org/wp-content/uploads/2025/11/bacon-and-eggs.jpg
END:VEVENT
BEGIN:VEVENT
DTSTART;TZID=America/New_York:20260404T190000
DTEND;TZID=America/New_York:20260404T200000
DTSTAMP:20260425T093545
CREATED:20260328T212737Z
LAST-MODIFIED:20260404T012152Z
UID:10002726-1775329200-1775332800@www.lcsavior.org
SUMMARY:Easter Vigil
DESCRIPTION:Jesus’ death on the cross couldn’t be the end of the story\, could it? Join us as we wait for Easter and celebrate the light of Christ’s victory over death and the grave! \nClick here to join the livestream \nClick here to download the worship bulletin to follow along
URL:https://www.lcsavior.org/event/easter-vigil/
LOCATION:Lutheran Church of the Savior\, 426 Davis Rd.\, Bedford\, MA\, 01730\, United States
CATEGORIES:streaming,Worship
ATTACH;FMTTYPE=image/png:https://www.lcsavior.org/wp-content/uploads/2026/03/Slide1-Custom.png
END:VEVENT
BEGIN:VEVENT
DTSTART;TZID=America/New_York:20260405T080000
DTEND;TZID=America/New_York:20260405T090000
DTSTAMP:20260425T093545
CREATED:20260328T213721Z
LAST-MODIFIED:20260328T213723Z
UID:10002017-1775376000-1775379600@www.lcsavior.org
SUMMARY:Easter Morning Worship - 8:00 AM
DESCRIPTION:Join us in-person each Sunday at 8:00 AM as we come together to hear from God’s word\, join in prayer and praise\, and celebrate Holy Communion.
URL:https://www.lcsavior.org/event/sunday-morning-worship-800-am-2/
LOCATION:Lutheran Church of the Savior\, 426 Davis Rd.\, Bedford\, MA\, 01730\, United States
CATEGORIES:Worship
ATTACH;FMTTYPE=image/png:https://www.lcsavior.org/wp-content/uploads/2022/04/Slide1-Featured-Image-WP-5.png
END:VEVENT
BEGIN:VEVENT
DTSTART;TZID=America/New_York:20260405T110000
DTEND;TZID=America/New_York:20260405T120000
DTSTAMP:20260425T093545
CREATED:20260328T213418Z
LAST-MODIFIED:20260404T211433Z
UID:10002058-1775386800-1775390400@www.lcsavior.org
SUMMARY:Easter Morning Worship - 11 AM
DESCRIPTION:He is risen – He is risen indeed! Come and join the celebration with us! \nClick here to join the livestream \nClick here to download the worship bulletin to follow along
URL:https://www.lcsavior.org/event/sunday-morning-worship-1045-am-47/
LOCATION:Lutheran Church of the Savior\, 426 Davis Rd.\, Bedford\, MA\, 01730\, United States
CATEGORIES:streaming,Worship
ATTACH;FMTTYPE=image/png:https://www.lcsavior.org/wp-content/uploads/2024/08/Slide1-Custom-34.png
END:VEVENT
BEGIN:VEVENT
DTSTART;TZID=America/New_York:20260408T090000
DTEND;TZID=America/New_York:20260408T120000
DTSTAMP:20260425T093545
CREATED:20260227T190216Z
LAST-MODIFIED:20260227T232259Z
UID:10002466-1775638800-1775649600@www.lcsavior.org
SUMMARY:Tool Time
DESCRIPTION:Join us for Tool Time every Wednesday morning at 9:00 AM at the LCS Facility! Tool Time is open to anyone willing to lend a hand with small maintenance projects around the facility. \nWe begin the morning with fellowship—coffee and pastries are provided. A short devotion is led by the Pastor or one of the Tool Time team members. Afterward\, the team works together to complete one or more projects that can be accomplished within an hour or two. \nCome enjoy good company\, meaningful devotion\, and the opportunity to serve!
URL:https://www.lcsavior.org/event/toot-time/2026-04-08/
LOCATION:Lutheran Church of the Savior\, 426 Davis Rd.\, Bedford\, MA\, 01730\, United States
END:VEVENT
BEGIN:VEVENT
DTSTART;TZID=America/New_York:20260411T110000
DTEND;TZID=America/New_York:20260411T120000
DTSTAMP:20260425T093545
CREATED:20260411T021556Z
LAST-MODIFIED:20260411T021556Z
UID:10002727-1775905200-1775908800@www.lcsavior.org
SUMMARY:Memorial Service - William J. Clements\, Jr.
DESCRIPTION:Our friend and brother\, William J. Clements\, Jr.\, went to be with his Lord and Savior on March 4\, 2026. He was 89 years old. \nA memorial service for Bill will be Saturday\, April 11\, 2026\, at\nThe Lutheran Church of the Savior\n426 Davis Road\, Bedford\, MA 01730\n9:00 am – 11:00 am Calling Hours\n11:00 am – 12:00 pm Church Service\n12:00 pm Lunch (RSVP please) \nAll who knew Bill are encouraged to come to give thanks to God for Bill’s life and to hear His resurrection promises given to those who mourn–promises that those who trust in Christ shall never die\, but live again\, forever\, in blessedness with Him. \nClick here to join the livestream \nClick here to download the service bulletin and follow along
URL:https://www.lcsavior.org/event/memorial-service-william-j-clements-jr/
LOCATION:Lutheran Church of the Savior\, 426 Davis Rd.\, Bedford\, MA\, 01730\, United States
CATEGORIES:streaming
ATTACH;FMTTYPE=image/png:https://www.lcsavior.org/wp-content/uploads/2026/04/Slide1-Custom.png
END:VEVENT
BEGIN:VEVENT
DTSTART;TZID=America/New_York:20260412T080000
DTEND;TZID=America/New_York:20260412T090000
DTSTAMP:20260425T093545
CREATED:20250906T230621Z
LAST-MODIFIED:20251221T002607Z
UID:10002018-1775980800-1775984400@www.lcsavior.org
SUMMARY:Sunday Morning Worship - 8:00 AM
DESCRIPTION:Join us in-person each Sunday at 8:00 AM as we come together to hear from God’s word\, join in prayer and praise\, and celebrate Holy Communion.
URL:https://www.lcsavior.org/event/sunday-morning-worship-800-am/2026-04-12/
LOCATION:Lutheran Church of the Savior\, 426 Davis Rd.\, Bedford\, MA\, 01730\, United States
CATEGORIES:Worship
ATTACH;FMTTYPE=image/jpeg:https://www.lcsavior.org/wp-content/uploads/2020/08/cherry-tree-cross.jpg
END:VEVENT
BEGIN:VEVENT
DTSTART;TZID=America/New_York:20260412T093000
DTEND;TZID=America/New_York:20260412T103000
DTSTAMP:20260425T093545
CREATED:20250906T231224Z
LAST-MODIFIED:20251221T002843Z
UID:10002101-1775986200-1775989800@www.lcsavior.org
SUMMARY:Christian Education Hour
DESCRIPTION:Please join us each week between services for Christian Education hour! There are Bible studies\, discussions\, and classes for people of all ages.
URL:https://www.lcsavior.org/event/christian-education-hour-2025/2026-04-12/
LOCATION:Lutheran Church of the Savior\, 426 Davis Rd.\, Bedford\, MA\, 01730\, United States
CATEGORIES:Bible Study
ATTACH;FMTTYPE=image/jpeg:https://www.lcsavior.org/wp-content/uploads/2021/01/womens-bible-study-shutterstock_738453862-Custom-1.jpg
END:VEVENT
BEGIN:VEVENT
DTSTART;TZID=America/New_York:20260412T104500
DTEND;TZID=America/New_York:20260412T114500
DTSTAMP:20260425T093545
CREATED:20260411T132027Z
LAST-MODIFIED:20260411T195453Z
UID:10002059-1775990700-1775994300@www.lcsavior.org
SUMMARY:Sunday Morning Worship - 10:45 AM
DESCRIPTION:Join us in-person or online each Sunday at 10:45 AM as we come together to hear from God’s word\, join in prayer and praise\, and celebrate Holy Communion. \nClick here to join the livestream \nClick here to download the worship bulletin to follow along
URL:https://www.lcsavior.org/event/sunday-morning-worship-1045-am-48/
LOCATION:Lutheran Church of the Savior\, 426 Davis Rd.\, Bedford\, MA\, 01730\, United States
CATEGORIES:streaming,Worship
ATTACH;FMTTYPE=image/png:https://www.lcsavior.org/wp-content/uploads/2025/09/Slide1-Custom-29.png
END:VEVENT
BEGIN:VEVENT
DTSTART;TZID=America/New_York:20260415T090000
DTEND;TZID=America/New_York:20260415T120000
DTSTAMP:20260425T093545
CREATED:20260227T190216Z
LAST-MODIFIED:20260227T232259Z
UID:10002467-1776243600-1776254400@www.lcsavior.org
SUMMARY:Tool Time
DESCRIPTION:Join us for Tool Time every Wednesday morning at 9:00 AM at the LCS Facility! Tool Time is open to anyone willing to lend a hand with small maintenance projects around the facility. \nWe begin the morning with fellowship—coffee and pastries are provided. A short devotion is led by the Pastor or one of the Tool Time team members. Afterward\, the team works together to complete one or more projects that can be accomplished within an hour or two. \nCome enjoy good company\, meaningful devotion\, and the opportunity to serve!
URL:https://www.lcsavior.org/event/toot-time/2026-04-15/
LOCATION:Lutheran Church of the Savior\, 426 Davis Rd.\, Bedford\, MA\, 01730\, United States
END:VEVENT
BEGIN:VEVENT
DTSTART;TZID=America/New_York:20260419T080000
DTEND;TZID=America/New_York:20260419T090000
DTSTAMP:20260425T093545
CREATED:20250906T230621Z
LAST-MODIFIED:20251221T002607Z
UID:10002019-1776585600-1776589200@www.lcsavior.org
SUMMARY:Sunday Morning Worship - 8:00 AM
DESCRIPTION:Join us in-person each Sunday at 8:00 AM as we come together to hear from God’s word\, join in prayer and praise\, and celebrate Holy Communion.
URL:https://www.lcsavior.org/event/sunday-morning-worship-800-am/2026-04-19/
LOCATION:Lutheran Church of the Savior\, 426 Davis Rd.\, Bedford\, MA\, 01730\, United States
CATEGORIES:Worship
ATTACH;FMTTYPE=image/jpeg:https://www.lcsavior.org/wp-content/uploads/2020/08/cherry-tree-cross.jpg
END:VEVENT
END:VCALENDAR