BEGIN:VCALENDAR
VERSION:2.0
PRODID:-//Lutheran Church of the Savior - ECPv6.15.20//NONSGML v1.0//EN
CALSCALE:GREGORIAN
METHOD:PUBLISH
X-WR-CALNAME:Lutheran Church of the Savior
X-ORIGINAL-URL:https://www.lcsavior.org
X-WR-CALDESC:Events for Lutheran Church of the Savior
REFRESH-INTERVAL;VALUE=DURATION:PT1H
X-Robots-Tag:noindex
X-PUBLISHED-TTL:PT1H
BEGIN:VTIMEZONE
TZID:America/New_York
BEGIN:DAYLIGHT
TZOFFSETFROM:-0500
TZOFFSETTO:-0400
TZNAME:EDT
DTSTART:20240310T070000
END:DAYLIGHT
BEGIN:STANDARD
TZOFFSETFROM:-0400
TZOFFSETTO:-0500
TZNAME:EST
DTSTART:20241103T060000
END:STANDARD
BEGIN:DAYLIGHT
TZOFFSETFROM:-0500
TZOFFSETTO:-0400
TZNAME:EDT
DTSTART:20250309T070000
END:DAYLIGHT
BEGIN:STANDARD
TZOFFSETFROM:-0400
TZOFFSETTO:-0500
TZNAME:EST
DTSTART:20251102T060000
END:STANDARD
BEGIN:DAYLIGHT
TZOFFSETFROM:-0500
TZOFFSETTO:-0400
TZNAME:EDT
DTSTART:20260308T070000
END:DAYLIGHT
BEGIN:STANDARD
TZOFFSETFROM:-0400
TZOFFSETTO:-0500
TZNAME:EST
DTSTART:20261101T060000
END:STANDARD
END:VTIMEZONE
BEGIN:VEVENT
DTSTART;TZID=America/New_York:20250614T100000
DTEND;TZID=America/New_York:20250614T120000
DTSTAMP:20260425T093833
CREATED:20240831T165744Z
LAST-MODIFIED:20250305T012730Z
UID:10001818-1749895200-1749902400@www.lcsavior.org
SUMMARY:Lutheran Women in Mission
DESCRIPTION:Join us the second Saturday of each month at 10:00 AM for Lutheran Women in Mission.
URL:https://www.lcsavior.org/event/lutheran-women-in-mission/2025-06-14/
LOCATION:Lutheran Church of the Savior\, 426 Davis Rd.\, Bedford\, MA\, 01730\, United States
ATTACH;FMTTYPE=image/png:https://www.lcsavior.org/wp-content/uploads/2020/08/lwml-logo-purple.png
END:VEVENT
BEGIN:VEVENT
DTSTART;TZID=America/New_York:20250608T104500
DTEND;TZID=America/New_York:20250608T120000
DTSTAMP:20260425T093833
CREATED:20250607T202421Z
LAST-MODIFIED:20250607T202423Z
UID:10001850-1749379500-1749384000@www.lcsavior.org
SUMMARY:Sunday Morning Worship - 10:45AM
DESCRIPTION:Join us in-person or online each Sunday at 10:45 AM as we come together to hear from God’s word\, join in prayer and praise\, and celebrate Holy Communion. \nClick here to join the livestream \nClick here to download the worship bulletin to follow along
URL:https://www.lcsavior.org/event/sunday-worship-late-2024-42/
LOCATION:Lutheran Church of the Savior\, 426 Davis Rd.\, Bedford\, MA\, 01730\, United States
CATEGORIES:streaming,Worship
ATTACH;FMTTYPE=image/png:https://www.lcsavior.org/wp-content/uploads/2024/08/Slide1-Custom-36.png
END:VEVENT
BEGIN:VEVENT
DTSTART;TZID=America/New_York:20250608T093000
DTEND;TZID=America/New_York:20250608T103000
DTSTAMP:20260425T093833
CREATED:20240831T165239Z
LAST-MODIFIED:20250413T005544Z
UID:10001875-1749375000-1749378600@www.lcsavior.org
SUMMARY:Christian Education Hour
DESCRIPTION:Each Sunday from 9:30AM – 10:30AM\, we have a variety of different opportunities to study God’s Word together. We have classes for everybody from age 2 to 102\, and there’s always room for you!
URL:https://www.lcsavior.org/event/christian-education-hour-6/2025-06-08/
LOCATION:Lutheran Church of the Savior\, 426 Davis Rd.\, Bedford\, MA\, 01730\, United States
CATEGORIES:Bible Study
ATTACH;FMTTYPE=image/png:https://www.lcsavior.org/wp-content/uploads/2020/10/bible-study-logo-1080p-e1705168854863.png
END:VEVENT
BEGIN:VEVENT
DTSTART;TZID=America/New_York:20250608T080000
DTEND;TZID=America/New_York:20250608T090000
DTSTAMP:20260425T093833
CREATED:20240831T164626Z
LAST-MODIFIED:20250413T005458Z
UID:10001900-1749369600-1749373200@www.lcsavior.org
SUMMARY:Sunday Morning Worship - 8AM
DESCRIPTION:Join us in-person or online each Sunday at 8:00 AM as we come together to hear from God’s word\, join in prayer and praise\, and celebrate Holy Communion
URL:https://www.lcsavior.org/event/worship-early-2024/2025-06-08/
LOCATION:Lutheran Church of the Savior\, 426 Davis Rd.\, Bedford\, MA\, 01730\, United States
CATEGORIES:Worship
ATTACH;FMTTYPE=image/jpeg:https://www.lcsavior.org/wp-content/uploads/2020/08/cherry-tree-cross.jpg
END:VEVENT
BEGIN:VEVENT
DTSTART;TZID=America/New_York:20250601T104500
DTEND;TZID=America/New_York:20250601T120000
DTSTAMP:20260425T093833
CREATED:20250601T022058Z
LAST-MODIFIED:20250601T022100Z
UID:10001849-1748774700-1748779200@www.lcsavior.org
SUMMARY:Sunday Morning Worship - 10:45AM
DESCRIPTION:Join us in-person or online each Sunday at 10:45 AM as we come together to hear from God’s word\, join in prayer and praise\, and celebrate Holy Communion. \nClick here to join the livestream \nClick here to download the worship bulletin to follow along
URL:https://www.lcsavior.org/event/sunday-worship-late-2024-41/
LOCATION:Lutheran Church of the Savior\, 426 Davis Rd.\, Bedford\, MA\, 01730\, United States
CATEGORIES:streaming,Worship
ATTACH;FMTTYPE=image/png:https://www.lcsavior.org/wp-content/uploads/2024/08/Slide1-Custom-35.png
END:VEVENT
BEGIN:VEVENT
DTSTART;TZID=America/New_York:20250601T093000
DTEND;TZID=America/New_York:20250601T103000
DTSTAMP:20260425T093833
CREATED:20240831T165239Z
LAST-MODIFIED:20250413T005544Z
UID:10001874-1748770200-1748773800@www.lcsavior.org
SUMMARY:Christian Education Hour
DESCRIPTION:Each Sunday from 9:30AM – 10:30AM\, we have a variety of different opportunities to study God’s Word together. We have classes for everybody from age 2 to 102\, and there’s always room for you!
URL:https://www.lcsavior.org/event/christian-education-hour-6/2025-06-01/
LOCATION:Lutheran Church of the Savior\, 426 Davis Rd.\, Bedford\, MA\, 01730\, United States
CATEGORIES:Bible Study
ATTACH;FMTTYPE=image/png:https://www.lcsavior.org/wp-content/uploads/2020/10/bible-study-logo-1080p-e1705168854863.png
END:VEVENT
BEGIN:VEVENT
DTSTART;TZID=America/New_York:20250601T080000
DTEND;TZID=America/New_York:20250601T090000
DTSTAMP:20260425T093833
CREATED:20240831T164626Z
LAST-MODIFIED:20250413T005458Z
UID:10001899-1748764800-1748768400@www.lcsavior.org
SUMMARY:Sunday Morning Worship - 8AM
DESCRIPTION:Join us in-person or online each Sunday at 8:00 AM as we come together to hear from God’s word\, join in prayer and praise\, and celebrate Holy Communion
URL:https://www.lcsavior.org/event/worship-early-2024/2025-06-01/
LOCATION:Lutheran Church of the Savior\, 426 Davis Rd.\, Bedford\, MA\, 01730\, United States
CATEGORIES:Worship
ATTACH;FMTTYPE=image/jpeg:https://www.lcsavior.org/wp-content/uploads/2020/08/cherry-tree-cross.jpg
END:VEVENT
BEGIN:VEVENT
DTSTART;TZID=America/New_York:20250529T190000
DTEND;TZID=America/New_York:20250529T200000
DTSTAMP:20260425T093833
CREATED:20250527T202337Z
LAST-MODIFIED:20250527T202348Z
UID:10001921-1748545200-1748548800@www.lcsavior.org
SUMMARY:Ascension Day - Evening Prayer Service
DESCRIPTION:Join us on Thursday evening\, May 29\, at 7:00 PM for an evening prayer service for the Feast of the Ascension. There will be song\, prayer\, and preaching as the Easter season draws to a close and the season of Pentecost draws near.
URL:https://www.lcsavior.org/event/ascension-day-evening-prayer-service/
LOCATION:Lutheran Church of the Savior\, 426 Davis Rd.\, Bedford\, MA\, 01730\, United States
CATEGORIES:Worship
ATTACH;FMTTYPE=image/png:https://www.lcsavior.org/wp-content/uploads/2025/05/ascension-Custom.png
END:VEVENT
BEGIN:VEVENT
DTSTART;TZID=America/New_York:20250525T104500
DTEND;TZID=America/New_York:20250525T120000
DTSTAMP:20260425T093833
CREATED:20250525T025822Z
LAST-MODIFIED:20250525T025824Z
UID:10001848-1748169900-1748174400@www.lcsavior.org
SUMMARY:Sunday Morning Worship - 10:45AM
DESCRIPTION:Join us in-person or online each Sunday at 10:45 AM as we come together to hear from God’s word\, join in prayer and praise\, and celebrate Holy Communion. \nClick here to join the livestream \nClick here to download the worship bulletin to follow along
URL:https://www.lcsavior.org/event/sunday-worship-late-2024-40/
LOCATION:Lutheran Church of the Savior\, 426 Davis Rd.\, Bedford\, MA\, 01730\, United States
CATEGORIES:streaming,Worship
ATTACH;FMTTYPE=image/png:https://www.lcsavior.org/wp-content/uploads/2024/08/Slide1-Custom-34.png
END:VEVENT
BEGIN:VEVENT
DTSTART;TZID=America/New_York:20250525T093000
DTEND;TZID=America/New_York:20250525T103000
DTSTAMP:20260425T093833
CREATED:20240831T165239Z
LAST-MODIFIED:20250413T005544Z
UID:10001873-1748165400-1748169000@www.lcsavior.org
SUMMARY:Christian Education Hour
DESCRIPTION:Each Sunday from 9:30AM – 10:30AM\, we have a variety of different opportunities to study God’s Word together. We have classes for everybody from age 2 to 102\, and there’s always room for you!
URL:https://www.lcsavior.org/event/christian-education-hour-6/2025-05-25/
LOCATION:Lutheran Church of the Savior\, 426 Davis Rd.\, Bedford\, MA\, 01730\, United States
CATEGORIES:Bible Study
ATTACH;FMTTYPE=image/png:https://www.lcsavior.org/wp-content/uploads/2020/10/bible-study-logo-1080p-e1705168854863.png
END:VEVENT
BEGIN:VEVENT
DTSTART;TZID=America/New_York:20250525T080000
DTEND;TZID=America/New_York:20250525T090000
DTSTAMP:20260425T093833
CREATED:20240831T164626Z
LAST-MODIFIED:20250413T005458Z
UID:10001898-1748160000-1748163600@www.lcsavior.org
SUMMARY:Sunday Morning Worship - 8AM
DESCRIPTION:Join us in-person or online each Sunday at 8:00 AM as we come together to hear from God’s word\, join in prayer and praise\, and celebrate Holy Communion
URL:https://www.lcsavior.org/event/worship-early-2024/2025-05-25/
LOCATION:Lutheran Church of the Savior\, 426 Davis Rd.\, Bedford\, MA\, 01730\, United States
CATEGORIES:Worship
ATTACH;FMTTYPE=image/jpeg:https://www.lcsavior.org/wp-content/uploads/2020/08/cherry-tree-cross.jpg
END:VEVENT
BEGIN:VEVENT
DTSTART;TZID=America/New_York:20250518T104500
DTEND;TZID=America/New_York:20250518T120000
DTSTAMP:20260425T093833
CREATED:20250517T191857Z
LAST-MODIFIED:20250517T191859Z
UID:10001847-1747565100-1747569600@www.lcsavior.org
SUMMARY:Sunday Morning Worship - 10:45AM
DESCRIPTION:Join us in-person or online each Sunday at 10:45 AM as we come together to hear from God’s word\, join in prayer and praise\, and celebrate Holy Communion. \nClick here to join the livestream \nClick here to download the worship bulletin to follow along
URL:https://www.lcsavior.org/event/sunday-worship-late-2024-39/
LOCATION:Lutheran Church of the Savior\, 426 Davis Rd.\, Bedford\, MA\, 01730\, United States
CATEGORIES:streaming,Worship
ATTACH;FMTTYPE=image/png:https://www.lcsavior.org/wp-content/uploads/2024/08/Slide1-Custom-33.png
END:VEVENT
BEGIN:VEVENT
DTSTART;TZID=America/New_York:20250518T093000
DTEND;TZID=America/New_York:20250518T103000
DTSTAMP:20260425T093833
CREATED:20240831T165239Z
LAST-MODIFIED:20250413T005544Z
UID:10001872-1747560600-1747564200@www.lcsavior.org
SUMMARY:Christian Education Hour
DESCRIPTION:Each Sunday from 9:30AM – 10:30AM\, we have a variety of different opportunities to study God’s Word together. We have classes for everybody from age 2 to 102\, and there’s always room for you!
URL:https://www.lcsavior.org/event/christian-education-hour-6/2025-05-18/
LOCATION:Lutheran Church of the Savior\, 426 Davis Rd.\, Bedford\, MA\, 01730\, United States
CATEGORIES:Bible Study
ATTACH;FMTTYPE=image/png:https://www.lcsavior.org/wp-content/uploads/2020/10/bible-study-logo-1080p-e1705168854863.png
END:VEVENT
BEGIN:VEVENT
DTSTART;TZID=America/New_York:20250518T080000
DTEND;TZID=America/New_York:20250518T090000
DTSTAMP:20260425T093833
CREATED:20240831T164626Z
LAST-MODIFIED:20250413T005458Z
UID:10001897-1747555200-1747558800@www.lcsavior.org
SUMMARY:Sunday Morning Worship - 8AM
DESCRIPTION:Join us in-person or online each Sunday at 8:00 AM as we come together to hear from God’s word\, join in prayer and praise\, and celebrate Holy Communion
URL:https://www.lcsavior.org/event/worship-early-2024/2025-05-18/
LOCATION:Lutheran Church of the Savior\, 426 Davis Rd.\, Bedford\, MA\, 01730\, United States
CATEGORIES:Worship
ATTACH;FMTTYPE=image/jpeg:https://www.lcsavior.org/wp-content/uploads/2020/08/cherry-tree-cross.jpg
END:VEVENT
BEGIN:VEVENT
DTSTART;TZID=America/New_York:20250511T104500
DTEND;TZID=America/New_York:20250511T120000
DTSTAMP:20260425T093833
CREATED:20250511T011126Z
LAST-MODIFIED:20250511T011127Z
UID:10001846-1746960300-1746964800@www.lcsavior.org
SUMMARY:Sunday Morning Worship - 10:45AM
DESCRIPTION:Join us in-person or online each Sunday at 10:45 AM as we come together to hear from God’s word\, join in prayer and praise\, and celebrate Holy Communion. \nClick here to join the livestream \nClick here to download the worship bulletin to follow along
URL:https://www.lcsavior.org/event/sunday-worship-late-2024-38/
LOCATION:Lutheran Church of the Savior\, 426 Davis Rd.\, Bedford\, MA\, 01730\, United States
CATEGORIES:streaming,Worship
ATTACH;FMTTYPE=image/png:https://www.lcsavior.org/wp-content/uploads/2024/08/Slide1-Custom-32.png
END:VEVENT
BEGIN:VEVENT
DTSTART;TZID=America/New_York:20250511T093000
DTEND;TZID=America/New_York:20250511T103000
DTSTAMP:20260425T093833
CREATED:20240831T165239Z
LAST-MODIFIED:20250413T005544Z
UID:10001871-1746955800-1746959400@www.lcsavior.org
SUMMARY:Christian Education Hour
DESCRIPTION:Each Sunday from 9:30AM – 10:30AM\, we have a variety of different opportunities to study God’s Word together. We have classes for everybody from age 2 to 102\, and there’s always room for you!
URL:https://www.lcsavior.org/event/christian-education-hour-6/2025-05-11/
LOCATION:Lutheran Church of the Savior\, 426 Davis Rd.\, Bedford\, MA\, 01730\, United States
CATEGORIES:Bible Study
ATTACH;FMTTYPE=image/png:https://www.lcsavior.org/wp-content/uploads/2020/10/bible-study-logo-1080p-e1705168854863.png
END:VEVENT
BEGIN:VEVENT
DTSTART;TZID=America/New_York:20250511T080000
DTEND;TZID=America/New_York:20250511T090000
DTSTAMP:20260425T093833
CREATED:20240831T164626Z
LAST-MODIFIED:20250413T005458Z
UID:10001896-1746950400-1746954000@www.lcsavior.org
SUMMARY:Sunday Morning Worship - 8AM
DESCRIPTION:Join us in-person or online each Sunday at 8:00 AM as we come together to hear from God’s word\, join in prayer and praise\, and celebrate Holy Communion
URL:https://www.lcsavior.org/event/worship-early-2024/2025-05-11/
LOCATION:Lutheran Church of the Savior\, 426 Davis Rd.\, Bedford\, MA\, 01730\, United States
CATEGORIES:Worship
ATTACH;FMTTYPE=image/jpeg:https://www.lcsavior.org/wp-content/uploads/2020/08/cherry-tree-cross.jpg
END:VEVENT
BEGIN:VEVENT
DTSTART;TZID=America/New_York:20250510T100000
DTEND;TZID=America/New_York:20250510T120000
DTSTAMP:20260425T093833
CREATED:20240831T165744Z
LAST-MODIFIED:20250305T012730Z
UID:10001817-1746871200-1746878400@www.lcsavior.org
SUMMARY:Lutheran Women in Mission
DESCRIPTION:Join us the second Saturday of each month at 10:00 AM for Lutheran Women in Mission.
URL:https://www.lcsavior.org/event/lutheran-women-in-mission/2025-05-10/
LOCATION:Lutheran Church of the Savior\, 426 Davis Rd.\, Bedford\, MA\, 01730\, United States
ATTACH;FMTTYPE=image/png:https://www.lcsavior.org/wp-content/uploads/2020/08/lwml-logo-purple.png
END:VEVENT
BEGIN:VEVENT
DTSTART;TZID=America/New_York:20250504T104500
DTEND;TZID=America/New_York:20250504T120000
DTSTAMP:20260425T093833
CREATED:20250503T213143Z
LAST-MODIFIED:20250503T213145Z
UID:10001845-1746355500-1746360000@www.lcsavior.org
SUMMARY:Sunday Morning Worship - 10:45AM
DESCRIPTION:Join us in-person or online each Sunday at 10:45 AM as we come together to hear from God’s word\, join in prayer and praise\, and celebrate Holy Communion. \nClick here to join the livestream \nClick here to download the worship bulletin to follow along
URL:https://www.lcsavior.org/event/sunday-worship-late-2024-37/
LOCATION:Lutheran Church of the Savior\, 426 Davis Rd.\, Bedford\, MA\, 01730\, United States
CATEGORIES:streaming,Worship
ATTACH;FMTTYPE=image/png:https://www.lcsavior.org/wp-content/uploads/2024/08/Slide1-Custom-31.png
END:VEVENT
BEGIN:VEVENT
DTSTART;TZID=America/New_York:20250504T093000
DTEND;TZID=America/New_York:20250504T103000
DTSTAMP:20260425T093833
CREATED:20240831T165239Z
LAST-MODIFIED:20250413T005544Z
UID:10001870-1746351000-1746354600@www.lcsavior.org
SUMMARY:Christian Education Hour
DESCRIPTION:Each Sunday from 9:30AM – 10:30AM\, we have a variety of different opportunities to study God’s Word together. We have classes for everybody from age 2 to 102\, and there’s always room for you!
URL:https://www.lcsavior.org/event/christian-education-hour-6/2025-05-04/
LOCATION:Lutheran Church of the Savior\, 426 Davis Rd.\, Bedford\, MA\, 01730\, United States
CATEGORIES:Bible Study
ATTACH;FMTTYPE=image/png:https://www.lcsavior.org/wp-content/uploads/2020/10/bible-study-logo-1080p-e1705168854863.png
END:VEVENT
BEGIN:VEVENT
DTSTART;TZID=America/New_York:20250504T080000
DTEND;TZID=America/New_York:20250504T090000
DTSTAMP:20260425T093833
CREATED:20240831T164626Z
LAST-MODIFIED:20250413T005458Z
UID:10001895-1746345600-1746349200@www.lcsavior.org
SUMMARY:Sunday Morning Worship - 8AM
DESCRIPTION:Join us in-person or online each Sunday at 8:00 AM as we come together to hear from God’s word\, join in prayer and praise\, and celebrate Holy Communion
URL:https://www.lcsavior.org/event/worship-early-2024/2025-05-04/
LOCATION:Lutheran Church of the Savior\, 426 Davis Rd.\, Bedford\, MA\, 01730\, United States
CATEGORIES:Worship
ATTACH;FMTTYPE=image/jpeg:https://www.lcsavior.org/wp-content/uploads/2020/08/cherry-tree-cross.jpg
END:VEVENT
BEGIN:VEVENT
DTSTART;TZID=America/New_York:20250427T104500
DTEND;TZID=America/New_York:20250427T120000
DTSTAMP:20260425T093833
CREATED:20250426T224347Z
LAST-MODIFIED:20250426T224348Z
UID:10001844-1745750700-1745755200@www.lcsavior.org
SUMMARY:Sunday Morning Worship - 10:45AM
DESCRIPTION:Join us in-person or online each Sunday at 10:45 AM as we come together to hear from God’s word\, join in prayer and praise\, and celebrate Holy Communion. \nClick here to join the livestream \nClick here to download the worship bulletin to follow along
URL:https://www.lcsavior.org/event/sunday-worship-late-2024-36/
LOCATION:Lutheran Church of the Savior\, 426 Davis Rd.\, Bedford\, MA\, 01730\, United States
CATEGORIES:streaming,Worship
ATTACH;FMTTYPE=image/png:https://www.lcsavior.org/wp-content/uploads/2024/08/Slide1-Custom-30.png
END:VEVENT
BEGIN:VEVENT
DTSTART;TZID=America/New_York:20250427T093000
DTEND;TZID=America/New_York:20250427T103000
DTSTAMP:20260425T093833
CREATED:20240831T165239Z
LAST-MODIFIED:20250413T005544Z
UID:10001869-1745746200-1745749800@www.lcsavior.org
SUMMARY:Christian Education Hour
DESCRIPTION:Each Sunday from 9:30AM – 10:30AM\, we have a variety of different opportunities to study God’s Word together. We have classes for everybody from age 2 to 102\, and there’s always room for you!
URL:https://www.lcsavior.org/event/christian-education-hour-6/2025-04-27/
LOCATION:Lutheran Church of the Savior\, 426 Davis Rd.\, Bedford\, MA\, 01730\, United States
CATEGORIES:Bible Study
ATTACH;FMTTYPE=image/png:https://www.lcsavior.org/wp-content/uploads/2020/10/bible-study-logo-1080p-e1705168854863.png
END:VEVENT
BEGIN:VEVENT
DTSTART;TZID=America/New_York:20250427T080000
DTEND;TZID=America/New_York:20250427T090000
DTSTAMP:20260425T093833
CREATED:20240831T164626Z
LAST-MODIFIED:20250413T005458Z
UID:10001894-1745740800-1745744400@www.lcsavior.org
SUMMARY:Sunday Morning Worship - 8AM
DESCRIPTION:Join us in-person or online each Sunday at 8:00 AM as we come together to hear from God’s word\, join in prayer and praise\, and celebrate Holy Communion
URL:https://www.lcsavior.org/event/worship-early-2024/2025-04-27/
LOCATION:Lutheran Church of the Savior\, 426 Davis Rd.\, Bedford\, MA\, 01730\, United States
CATEGORIES:Worship
ATTACH;FMTTYPE=image/jpeg:https://www.lcsavior.org/wp-content/uploads/2020/08/cherry-tree-cross.jpg
END:VEVENT
BEGIN:VEVENT
DTSTART;TZID=America/New_York:20250420T104500
DTEND;TZID=America/New_York:20250420T120000
DTSTAMP:20260425T093833
CREATED:20250413T005154Z
LAST-MODIFIED:20250420T032316Z
UID:10001843-1745145900-1745150400@www.lcsavior.org
SUMMARY:Easter Sunday - 10:45AM
DESCRIPTION:He is risen! He is risen indeed\, alleluia! Join us in the celebration of our new life in Christ\, sealed in His resurrection from the dead! We have pondered\, mourned\, and waited – and now it is time to rejoice! Join us in-person or online at 10:45 AM as we come together to hear from God’s word\, join in prayer and praise\, and celebrate Holy Communion. \nClick here to join the livestream \nClick here to download the worship bulletin to follow along
URL:https://www.lcsavior.org/event/sunday-worship-late-2024-35/
LOCATION:Lutheran Church of the Savior\, 426 Davis Rd.\, Bedford\, MA\, 01730\, United States
CATEGORIES:streaming,Worship
ATTACH;FMTTYPE=image/png:https://www.lcsavior.org/wp-content/uploads/2022/04/Slide1-Featured-Image-WP-5.png
END:VEVENT
BEGIN:VEVENT
DTSTART;TZID=America/New_York:20250420T090000
DTEND;TZID=America/New_York:20250420T103000
DTSTAMP:20260425T093833
CREATED:20250413T004940Z
LAST-MODIFIED:20250413T004940Z
UID:10001919-1745139600-1745145000@www.lcsavior.org
SUMMARY:Easter Breakfast
DESCRIPTION:Join together with our family of faith as we celebrate Easter together between the 8am and 10:45am services!
URL:https://www.lcsavior.org/event/easter-breakfast-2/
LOCATION:Lutheran Church of the Savior\, 426 Davis Rd.\, Bedford\, MA\, 01730\, United States
CATEGORIES:Fellowship
ATTACH;FMTTYPE=image/jpeg:https://www.lcsavior.org/wp-content/uploads/2022/04/easter-eggs_shutterstock_546567733-Featured-Image-WP.jpg
END:VEVENT
BEGIN:VEVENT
DTSTART;TZID=America/New_York:20250420T080000
DTEND;TZID=America/New_York:20250420T090000
DTSTAMP:20260425T093833
CREATED:20250413T005346Z
LAST-MODIFIED:20250413T005346Z
UID:10001920-1745136000-1745139600@www.lcsavior.org
SUMMARY:Easter Sunday - 8:00 AM
DESCRIPTION:He is risen! He is risen indeed\, alleluia! Join us in the celebration of our new life in Christ\, sealed in His resurrection from the dead! We have pondered\, mourned\, and waited – and now it is time to rejoice! Join us in-person at 8:00 AM as we come together to hear from God’s word\, join in prayer and praise\, and celebrate Holy Communion.
URL:https://www.lcsavior.org/event/easter-sunday-800-am/
LOCATION:Lutheran Church of the Savior\, 426 Davis Rd.\, Bedford\, MA\, 01730\, United States
CATEGORIES:Worship
ATTACH;FMTTYPE=image/png:https://www.lcsavior.org/wp-content/uploads/2022/04/Slide1-Featured-Image-WP-5.png
END:VEVENT
BEGIN:VEVENT
DTSTART;TZID=America/New_York:20250420T060000
DTEND;TZID=America/New_York:20250420T070000
DTSTAMP:20260425T093833
CREATED:20250413T004717Z
LAST-MODIFIED:20250413T004736Z
UID:10001918-1745128800-1745132400@www.lcsavior.org
SUMMARY:Easter Sunrise Service
DESCRIPTION:He is risen! He is risen indeed\, alleluia! Join us in the celebration of our new life in Christ\, sealed in His resurrection from the dead! We have pondered\, mourned\, and waited – and now it is time to rejoice!
URL:https://www.lcsavior.org/event/easter-sunrise-service-4/
LOCATION:Lutheran Church of the Savior\, 426 Davis Rd.\, Bedford\, MA\, 01730\, United States
CATEGORIES:Worship
ATTACH;FMTTYPE=image/png:https://www.lcsavior.org/wp-content/uploads/2022/04/Slide1-Featured-Image-WP-5.png
END:VEVENT
BEGIN:VEVENT
DTSTART;TZID=America/New_York:20250418T190000
DTEND;TZID=America/New_York:20250418T200000
DTSTAMP:20260425T093833
CREATED:20250413T004340Z
LAST-MODIFIED:20250418T200437Z
UID:10001917-1745002800-1745006400@www.lcsavior.org
SUMMARY:Good Friday
DESCRIPTION:Join us tonight for the second night of the Sacred Triduum as we meditate on our Lord’s passion\, death\, and burial\, for our sakes. \nClick here to join the livestream \nClick here to download the worship bulletin to follow along
URL:https://www.lcsavior.org/event/good-friday-2/
LOCATION:Lutheran Church of the Savior\, 426 Davis Rd.\, Bedford\, MA\, 01730\, United States
CATEGORIES:streaming,Worship
ATTACH;FMTTYPE=image/png:https://www.lcsavior.org/wp-content/uploads/2022/04/Slide1-Featured-Image-WP-4.png
END:VEVENT
BEGIN:VEVENT
DTSTART;TZID=America/New_York:20250417T190000
DTEND;TZID=America/New_York:20250417T200000
DTSTAMP:20260425T093833
CREATED:20250413T003807Z
LAST-MODIFIED:20250417T213449Z
UID:10001916-1744916400-1744920000@www.lcsavior.org
SUMMARY:Maundy Thursday
DESCRIPTION:On Maundy Thursday\, we remember Jesus’s final instruction to His disciples: “A new command I give you\, that you love one another: just as I have loved you\, you also are to love one another.” Through His washing of their feet\, the institution of Holy Communion\, and His journey to the cross\, Jesus shows us what love truly is. \nYou are welcome in person\, or to join us online on Facebook Live\, or on YouTube after the service. \nClick here to join the livestream \nClick here to download the worship bulletin to follow along
URL:https://www.lcsavior.org/event/maundy-thursday-2/
LOCATION:Lutheran Church of the Savior\, 426 Davis Rd.\, Bedford\, MA\, 01730\, United States
CATEGORIES:streaming,Worship
ATTACH;FMTTYPE=image/png:https://www.lcsavior.org/wp-content/uploads/2022/04/Slide1-Featured-Image-WP-3.png
END:VEVENT
END:VCALENDAR