BEGIN:VCALENDAR
VERSION:2.0
PRODID:-//Lutheran Church of the Savior - ECPv6.15.20//NONSGML v1.0//EN
CALSCALE:GREGORIAN
METHOD:PUBLISH
X-WR-CALNAME:Lutheran Church of the Savior
X-ORIGINAL-URL:https://www.lcsavior.org
X-WR-CALDESC:Events for Lutheran Church of the Savior
REFRESH-INTERVAL;VALUE=DURATION:PT1H
X-Robots-Tag:noindex
X-PUBLISHED-TTL:PT1H
BEGIN:VTIMEZONE
TZID:America/New_York
BEGIN:DAYLIGHT
TZOFFSETFROM:-0500
TZOFFSETTO:-0400
TZNAME:EDT
DTSTART:20240310T070000
END:DAYLIGHT
BEGIN:STANDARD
TZOFFSETFROM:-0400
TZOFFSETTO:-0500
TZNAME:EST
DTSTART:20241103T060000
END:STANDARD
BEGIN:DAYLIGHT
TZOFFSETFROM:-0500
TZOFFSETTO:-0400
TZNAME:EDT
DTSTART:20250309T070000
END:DAYLIGHT
BEGIN:STANDARD
TZOFFSETFROM:-0400
TZOFFSETTO:-0500
TZNAME:EST
DTSTART:20251102T060000
END:STANDARD
BEGIN:DAYLIGHT
TZOFFSETFROM:-0500
TZOFFSETTO:-0400
TZNAME:EDT
DTSTART:20260308T070000
END:DAYLIGHT
BEGIN:STANDARD
TZOFFSETFROM:-0400
TZOFFSETTO:-0500
TZNAME:EST
DTSTART:20261101T060000
END:STANDARD
END:VTIMEZONE
BEGIN:VEVENT
DTSTART;TZID=America/New_York:20250413T104500
DTEND;TZID=America/New_York:20250413T120000
DTSTAMP:20260425T112324
CREATED:20250413T003237Z
LAST-MODIFIED:20250413T003239Z
UID:10001842-1744541100-1744545600@www.lcsavior.org
SUMMARY:Palm Sunday - 10:45AM
DESCRIPTION:At the beginning of Holy Week\, we join together to sing “Hosanna!” to the King of Kings\, and join in the triumph of Jesus’s entry into Jerusalem. How quickly after this comes Good Friday. Join us to hear from God’s word\, join in prayer and praise\, and celebrate Holy Communion as we enter into Holy Week together. \nClick here to join the livestream \nClick here to download the worship bulletin to follow along
URL:https://www.lcsavior.org/event/sunday-worship-late-2024-34/
LOCATION:Lutheran Church of the Savior\, 426 Davis Rd.\, Bedford\, MA\, 01730\, United States
CATEGORIES:streaming,Worship
ATTACH;FMTTYPE=image/png:https://www.lcsavior.org/wp-content/uploads/2024/08/Slide1-Custom-29.png
END:VEVENT
BEGIN:VEVENT
DTSTART;TZID=America/New_York:20250413T093000
DTEND;TZID=America/New_York:20250413T103000
DTSTAMP:20260425T112324
CREATED:20240831T165239Z
LAST-MODIFIED:20250413T005544Z
UID:10001867-1744536600-1744540200@www.lcsavior.org
SUMMARY:Christian Education Hour
DESCRIPTION:Each Sunday from 9:30AM – 10:30AM\, we have a variety of different opportunities to study God’s Word together. We have classes for everybody from age 2 to 102\, and there’s always room for you!
URL:https://www.lcsavior.org/event/christian-education-hour-6/2025-04-13/
LOCATION:Lutheran Church of the Savior\, 426 Davis Rd.\, Bedford\, MA\, 01730\, United States
CATEGORIES:Bible Study
ATTACH;FMTTYPE=image/png:https://www.lcsavior.org/wp-content/uploads/2020/10/bible-study-logo-1080p-e1705168854863.png
END:VEVENT
BEGIN:VEVENT
DTSTART;TZID=America/New_York:20250413T080000
DTEND;TZID=America/New_York:20250413T090000
DTSTAMP:20260425T112324
CREATED:20240831T164626Z
LAST-MODIFIED:20250413T005458Z
UID:10001892-1744531200-1744534800@www.lcsavior.org
SUMMARY:Sunday Morning Worship - 8AM
DESCRIPTION:Join us in-person or online each Sunday at 8:00 AM as we come together to hear from God’s word\, join in prayer and praise\, and celebrate Holy Communion
URL:https://www.lcsavior.org/event/worship-early-2024/2025-04-13/
LOCATION:Lutheran Church of the Savior\, 426 Davis Rd.\, Bedford\, MA\, 01730\, United States
CATEGORIES:Worship
ATTACH;FMTTYPE=image/jpeg:https://www.lcsavior.org/wp-content/uploads/2020/08/cherry-tree-cross.jpg
END:VEVENT
BEGIN:VEVENT
DTSTART;TZID=America/New_York:20250412T100000
DTEND;TZID=America/New_York:20250412T120000
DTSTAMP:20260425T112324
CREATED:20240831T165744Z
LAST-MODIFIED:20250305T012730Z
UID:10001816-1744452000-1744459200@www.lcsavior.org
SUMMARY:Lutheran Women in Mission
DESCRIPTION:Join us the second Saturday of each month at 10:00 AM for Lutheran Women in Mission.
URL:https://www.lcsavior.org/event/lutheran-women-in-mission/2025-04-12/
LOCATION:Lutheran Church of the Savior\, 426 Davis Rd.\, Bedford\, MA\, 01730\, United States
ATTACH;FMTTYPE=image/png:https://www.lcsavior.org/wp-content/uploads/2020/08/lwml-logo-purple.png
END:VEVENT
BEGIN:VEVENT
DTSTART;TZID=America/New_York:20250409T190000
DTEND;TZID=America/New_York:20250409T200000
DTSTAMP:20260425T112324
CREATED:20250409T024403Z
LAST-MODIFIED:20250409T024407Z
UID:10001915-1744225200-1744228800@www.lcsavior.org
SUMMARY:Midweek Lenten Service
DESCRIPTION:Join us every Wednesday evening during the Lenten season for our special midweek worship services beginning at 7:00 PM. These contemplative services offer a meaningful opportunity to deepen your spiritual journey as we prepare our hearts for Easter. \nJoin us at 6:00 PM for a soup supper\, followed by service at 7:00 PM. All are welcome! Services will be livestreamed for those who cannot join in person. \nClick here to join the livestream
URL:https://www.lcsavior.org/event/lent-2025-6/
LOCATION:Lutheran Church of the Savior\, 426 Davis Rd.\, Bedford\, MA\, 01730\, United States
CATEGORIES:streaming,Worship
ATTACH;FMTTYPE=image/jpeg:https://www.lcsavior.org/wp-content/uploads/2025/03/lent_16_9_shutterstock_1335314198-Featured-Image-WP.jpg
END:VEVENT
BEGIN:VEVENT
DTSTART;TZID=America/New_York:20250409T180000
DTEND;TZID=America/New_York:20250409T190000
DTSTAMP:20260425T112324
CREATED:20250305T010642Z
LAST-MODIFIED:20250305T012841Z
UID:10001910-1744221600-1744225200@www.lcsavior.org
SUMMARY:Lenten Soup Supper
DESCRIPTION:Join us each Wednesday during Lent for our Soup Supper at 6:00 PM before our evening service. Enjoy warm fellowship and delicious homemade soups as we gather together in community. \nThis weekly meal provides a perfect opportunity to connect with others in our church family before we enter into worship. All are welcome!
URL:https://www.lcsavior.org/event/lenten-soup-supper/2025-04-09/
LOCATION:Lutheran Church of the Savior\, 426 Davis Rd.\, Bedford\, MA\, 01730\, United States
ATTACH;FMTTYPE=image/jpeg:https://www.lcsavior.org/wp-content/uploads/2025/03/soup_bowl_shutterstock_1007551606-Custom.jpg
END:VEVENT
BEGIN:VEVENT
DTSTART;TZID=America/New_York:20250406T104500
DTEND;TZID=America/New_York:20250406T120000
DTSTAMP:20260425T112324
CREATED:20250406T051332Z
LAST-MODIFIED:20250406T051334Z
UID:10001841-1743936300-1743940800@www.lcsavior.org
SUMMARY:Sunday Morning Worship - 10:45AM
DESCRIPTION:Join us in-person or online each Sunday at 10:45 AM as we come together to hear from God’s word\, join in prayer and praise\, and celebrate Holy Communion. \nClick here to join the livestream \nClick here to download the worship bulletin to follow along
URL:https://www.lcsavior.org/event/sunday-worship-late-2024-33/
LOCATION:Lutheran Church of the Savior\, 426 Davis Rd.\, Bedford\, MA\, 01730\, United States
CATEGORIES:streaming,Worship
ATTACH;FMTTYPE=image/png:https://www.lcsavior.org/wp-content/uploads/2024/08/Slide1-Custom-28.png
END:VEVENT
BEGIN:VEVENT
DTSTART;TZID=America/New_York:20250406T093000
DTEND;TZID=America/New_York:20250406T103000
DTSTAMP:20260425T112324
CREATED:20240831T165239Z
LAST-MODIFIED:20250413T005544Z
UID:10001866-1743931800-1743935400@www.lcsavior.org
SUMMARY:Christian Education Hour
DESCRIPTION:Each Sunday from 9:30AM – 10:30AM\, we have a variety of different opportunities to study God’s Word together. We have classes for everybody from age 2 to 102\, and there’s always room for you!
URL:https://www.lcsavior.org/event/christian-education-hour-6/2025-04-06/
LOCATION:Lutheran Church of the Savior\, 426 Davis Rd.\, Bedford\, MA\, 01730\, United States
CATEGORIES:Bible Study
ATTACH;FMTTYPE=image/png:https://www.lcsavior.org/wp-content/uploads/2020/10/bible-study-logo-1080p-e1705168854863.png
END:VEVENT
BEGIN:VEVENT
DTSTART;TZID=America/New_York:20250406T080000
DTEND;TZID=America/New_York:20250406T090000
DTSTAMP:20260425T112324
CREATED:20240831T164626Z
LAST-MODIFIED:20250413T005458Z
UID:10001891-1743926400-1743930000@www.lcsavior.org
SUMMARY:Sunday Morning Worship - 8AM
DESCRIPTION:Join us in-person or online each Sunday at 8:00 AM as we come together to hear from God’s word\, join in prayer and praise\, and celebrate Holy Communion
URL:https://www.lcsavior.org/event/worship-early-2024/2025-04-06/
LOCATION:Lutheran Church of the Savior\, 426 Davis Rd.\, Bedford\, MA\, 01730\, United States
CATEGORIES:Worship
ATTACH;FMTTYPE=image/jpeg:https://www.lcsavior.org/wp-content/uploads/2020/08/cherry-tree-cross.jpg
END:VEVENT
BEGIN:VEVENT
DTSTART;TZID=America/New_York:20250402T190000
DTEND;TZID=America/New_York:20250402T200000
DTSTAMP:20260425T112324
CREATED:20250402T055417Z
LAST-MODIFIED:20250402T055418Z
UID:10001914-1743620400-1743624000@www.lcsavior.org
SUMMARY:Midweek Lenten Service
DESCRIPTION:Join us every Wednesday evening during the Lenten season for our special midweek worship services beginning at 7:00 PM. These contemplative services offer a meaningful opportunity to deepen your spiritual journey as we prepare our hearts for Easter. \nJoin us at 6:00 PM for a soup supper\, followed by service at 7:00 PM. All are welcome! Services will be livestreamed for those who cannot join in person. \nClick here to join the livestream \nClick here to download the worship bulletin to follow along
URL:https://www.lcsavior.org/event/lent-2025-5/
LOCATION:Lutheran Church of the Savior\, 426 Davis Rd.\, Bedford\, MA\, 01730\, United States
CATEGORIES:streaming,Worship
ATTACH;FMTTYPE=image/jpeg:https://www.lcsavior.org/wp-content/uploads/2025/03/lent_16_9_shutterstock_1335314198-Featured-Image-WP.jpg
END:VEVENT
BEGIN:VEVENT
DTSTART;TZID=America/New_York:20250402T180000
DTEND;TZID=America/New_York:20250402T190000
DTSTAMP:20260425T112324
CREATED:20250305T010642Z
LAST-MODIFIED:20250305T012841Z
UID:10001909-1743616800-1743620400@www.lcsavior.org
SUMMARY:Lenten Soup Supper
DESCRIPTION:Join us each Wednesday during Lent for our Soup Supper at 6:00 PM before our evening service. Enjoy warm fellowship and delicious homemade soups as we gather together in community. \nThis weekly meal provides a perfect opportunity to connect with others in our church family before we enter into worship. All are welcome!
URL:https://www.lcsavior.org/event/lenten-soup-supper/2025-04-02/
LOCATION:Lutheran Church of the Savior\, 426 Davis Rd.\, Bedford\, MA\, 01730\, United States
ATTACH;FMTTYPE=image/jpeg:https://www.lcsavior.org/wp-content/uploads/2025/03/soup_bowl_shutterstock_1007551606-Custom.jpg
END:VEVENT
BEGIN:VEVENT
DTSTART;TZID=America/New_York:20250330T104500
DTEND;TZID=America/New_York:20250330T120000
DTSTAMP:20260425T112324
CREATED:20250329T201723Z
LAST-MODIFIED:20250329T201725Z
UID:10001840-1743331500-1743336000@www.lcsavior.org
SUMMARY:Sunday Morning Worship - 10:45AM
DESCRIPTION:Join us in-person or online each Sunday at 10:45 AM as we come together to hear from God’s word\, join in prayer and praise\, and celebrate Holy Communion. \nClick here to join the livestream \nClick here to download the worship bulletin to follow along \n 
URL:https://www.lcsavior.org/event/sunday-worship-late-2024-32/
LOCATION:Lutheran Church of the Savior\, 426 Davis Rd.\, Bedford\, MA\, 01730\, United States
CATEGORIES:streaming,Worship
ATTACH;FMTTYPE=image/png:https://www.lcsavior.org/wp-content/uploads/2024/08/Slide1-Custom-27.png
END:VEVENT
BEGIN:VEVENT
DTSTART;TZID=America/New_York:20250330T093000
DTEND;TZID=America/New_York:20250330T103000
DTSTAMP:20260425T112324
CREATED:20240831T165239Z
LAST-MODIFIED:20250413T005544Z
UID:10001865-1743327000-1743330600@www.lcsavior.org
SUMMARY:Christian Education Hour
DESCRIPTION:Each Sunday from 9:30AM – 10:30AM\, we have a variety of different opportunities to study God’s Word together. We have classes for everybody from age 2 to 102\, and there’s always room for you!
URL:https://www.lcsavior.org/event/christian-education-hour-6/2025-03-30/
LOCATION:Lutheran Church of the Savior\, 426 Davis Rd.\, Bedford\, MA\, 01730\, United States
CATEGORIES:Bible Study
ATTACH;FMTTYPE=image/png:https://www.lcsavior.org/wp-content/uploads/2020/10/bible-study-logo-1080p-e1705168854863.png
END:VEVENT
BEGIN:VEVENT
DTSTART;TZID=America/New_York:20250330T080000
DTEND;TZID=America/New_York:20250330T090000
DTSTAMP:20260425T112324
CREATED:20240831T164626Z
LAST-MODIFIED:20250413T005458Z
UID:10001890-1743321600-1743325200@www.lcsavior.org
SUMMARY:Sunday Morning Worship - 8AM
DESCRIPTION:Join us in-person or online each Sunday at 8:00 AM as we come together to hear from God’s word\, join in prayer and praise\, and celebrate Holy Communion
URL:https://www.lcsavior.org/event/worship-early-2024/2025-03-30/
LOCATION:Lutheran Church of the Savior\, 426 Davis Rd.\, Bedford\, MA\, 01730\, United States
CATEGORIES:Worship
ATTACH;FMTTYPE=image/jpeg:https://www.lcsavior.org/wp-content/uploads/2020/08/cherry-tree-cross.jpg
END:VEVENT
BEGIN:VEVENT
DTSTART;TZID=America/New_York:20250326T190000
DTEND;TZID=America/New_York:20250326T200000
DTSTAMP:20260425T112324
CREATED:20250326T022050Z
LAST-MODIFIED:20250326T022052Z
UID:10001913-1743015600-1743019200@www.lcsavior.org
SUMMARY:Midweek Lenten Service
DESCRIPTION:Join us every Wednesday evening during the Lenten season for our special midweek worship services beginning at 7:00 PM. These contemplative services offer a meaningful opportunity to deepen your spiritual journey as we prepare our hearts for Easter. \nJoin us at 6:00 PM for a soup supper\, followed by service at 7:00 PM. All are welcome! Services will be livestreamed for those who cannot join in person. \nClick here to join the livestream \nClick here to download the worship bulletin to follow along
URL:https://www.lcsavior.org/event/lent-2025-4/
LOCATION:Lutheran Church of the Savior\, 426 Davis Rd.\, Bedford\, MA\, 01730\, United States
CATEGORIES:streaming,Worship
ATTACH;FMTTYPE=image/jpeg:https://www.lcsavior.org/wp-content/uploads/2025/03/lent_16_9_shutterstock_1335314198-Featured-Image-WP.jpg
END:VEVENT
BEGIN:VEVENT
DTSTART;TZID=America/New_York:20250326T180000
DTEND;TZID=America/New_York:20250326T190000
DTSTAMP:20260425T112324
CREATED:20250305T010642Z
LAST-MODIFIED:20250305T012841Z
UID:10001908-1743012000-1743015600@www.lcsavior.org
SUMMARY:Lenten Soup Supper
DESCRIPTION:Join us each Wednesday during Lent for our Soup Supper at 6:00 PM before our evening service. Enjoy warm fellowship and delicious homemade soups as we gather together in community. \nThis weekly meal provides a perfect opportunity to connect with others in our church family before we enter into worship. All are welcome!
URL:https://www.lcsavior.org/event/lenten-soup-supper/2025-03-26/
LOCATION:Lutheran Church of the Savior\, 426 Davis Rd.\, Bedford\, MA\, 01730\, United States
ATTACH;FMTTYPE=image/jpeg:https://www.lcsavior.org/wp-content/uploads/2025/03/soup_bowl_shutterstock_1007551606-Custom.jpg
END:VEVENT
BEGIN:VEVENT
DTSTART;TZID=America/New_York:20250323T104500
DTEND;TZID=America/New_York:20250323T120000
DTSTAMP:20260425T112324
CREATED:20250323T010125Z
LAST-MODIFIED:20250323T010127Z
UID:10001839-1742726700-1742731200@www.lcsavior.org
SUMMARY:Sunday Morning Worship - 10:45AM
DESCRIPTION:Join us in-person or online each Sunday at 10:45 AM as we come together to hear from God’s word\, join in prayer and praise\, and celebrate Holy Communion. \nClick here to join the livestream \nClick here to download the worship bulletin to follow along
URL:https://www.lcsavior.org/event/sunday-worship-late-2024-31/
LOCATION:Lutheran Church of the Savior\, 426 Davis Rd.\, Bedford\, MA\, 01730\, United States
CATEGORIES:streaming,Worship
ATTACH;FMTTYPE=image/png:https://www.lcsavior.org/wp-content/uploads/2024/08/Slide1-Custom-26.png
END:VEVENT
BEGIN:VEVENT
DTSTART;TZID=America/New_York:20250323T093000
DTEND;TZID=America/New_York:20250323T103000
DTSTAMP:20260425T112324
CREATED:20240831T165239Z
LAST-MODIFIED:20250413T005544Z
UID:10001864-1742722200-1742725800@www.lcsavior.org
SUMMARY:Christian Education Hour
DESCRIPTION:Each Sunday from 9:30AM – 10:30AM\, we have a variety of different opportunities to study God’s Word together. We have classes for everybody from age 2 to 102\, and there’s always room for you!
URL:https://www.lcsavior.org/event/christian-education-hour-6/2025-03-23/
LOCATION:Lutheran Church of the Savior\, 426 Davis Rd.\, Bedford\, MA\, 01730\, United States
CATEGORIES:Bible Study
ATTACH;FMTTYPE=image/png:https://www.lcsavior.org/wp-content/uploads/2020/10/bible-study-logo-1080p-e1705168854863.png
END:VEVENT
BEGIN:VEVENT
DTSTART;TZID=America/New_York:20250323T080000
DTEND;TZID=America/New_York:20250323T090000
DTSTAMP:20260425T112324
CREATED:20240831T164626Z
LAST-MODIFIED:20250413T005458Z
UID:10001889-1742716800-1742720400@www.lcsavior.org
SUMMARY:Sunday Morning Worship - 8AM
DESCRIPTION:Join us in-person or online each Sunday at 8:00 AM as we come together to hear from God’s word\, join in prayer and praise\, and celebrate Holy Communion
URL:https://www.lcsavior.org/event/worship-early-2024/2025-03-23/
LOCATION:Lutheran Church of the Savior\, 426 Davis Rd.\, Bedford\, MA\, 01730\, United States
CATEGORIES:Worship
ATTACH;FMTTYPE=image/jpeg:https://www.lcsavior.org/wp-content/uploads/2020/08/cherry-tree-cross.jpg
END:VEVENT
BEGIN:VEVENT
DTSTART;TZID=America/New_York:20250319T190000
DTEND;TZID=America/New_York:20250319T200000
DTSTAMP:20260425T112324
CREATED:20250319T025137Z
LAST-MODIFIED:20250319T025139Z
UID:10001912-1742410800-1742414400@www.lcsavior.org
SUMMARY:Midweek Lenten Service
DESCRIPTION:Join us every Wednesday evening during the Lenten season for our special midweek worship services beginning at 7:00 PM. These contemplative services offer a meaningful opportunity to deepen your spiritual journey as we prepare our hearts for Easter. \nJoin us at 6:00 PM for a soup supper\, followed by service at 7:00 PM. All are welcome! Services will be livestreamed for those who cannot join in person. \nClick here to join the livestream \nClick here to download the worship bulletin to follow along
URL:https://www.lcsavior.org/event/lent-2025-3/
LOCATION:Lutheran Church of the Savior\, 426 Davis Rd.\, Bedford\, MA\, 01730\, United States
CATEGORIES:streaming,Worship
ATTACH;FMTTYPE=image/jpeg:https://www.lcsavior.org/wp-content/uploads/2025/03/lent_16_9_shutterstock_1335314198-Featured-Image-WP.jpg
END:VEVENT
BEGIN:VEVENT
DTSTART;TZID=America/New_York:20250319T180000
DTEND;TZID=America/New_York:20250319T190000
DTSTAMP:20260425T112324
CREATED:20250305T010642Z
LAST-MODIFIED:20250305T012841Z
UID:10001907-1742407200-1742410800@www.lcsavior.org
SUMMARY:Lenten Soup Supper
DESCRIPTION:Join us each Wednesday during Lent for our Soup Supper at 6:00 PM before our evening service. Enjoy warm fellowship and delicious homemade soups as we gather together in community. \nThis weekly meal provides a perfect opportunity to connect with others in our church family before we enter into worship. All are welcome!
URL:https://www.lcsavior.org/event/lenten-soup-supper/2025-03-19/
LOCATION:Lutheran Church of the Savior\, 426 Davis Rd.\, Bedford\, MA\, 01730\, United States
ATTACH;FMTTYPE=image/jpeg:https://www.lcsavior.org/wp-content/uploads/2025/03/soup_bowl_shutterstock_1007551606-Custom.jpg
END:VEVENT
BEGIN:VEVENT
DTSTART;TZID=America/New_York:20250316T104500
DTEND;TZID=America/New_York:20250316T120000
DTSTAMP:20260425T112324
CREATED:20250315T193947Z
LAST-MODIFIED:20250315T194003Z
UID:10001838-1742121900-1742126400@www.lcsavior.org
SUMMARY:Sunday Morning Worship - 10:45AM
DESCRIPTION:Join us in-person or online each Sunday at 10:45 AM as we come together to hear from God’s word\, join in prayer and praise\, and celebrate Holy Communion. \nClick here to join the livestream
URL:https://www.lcsavior.org/event/sunday-worship-late-2024-30/
LOCATION:Lutheran Church of the Savior\, 426 Davis Rd.\, Bedford\, MA\, 01730\, United States
CATEGORIES:streaming,Worship
ATTACH;FMTTYPE=image/png:https://www.lcsavior.org/wp-content/uploads/2024/08/Slide1-Custom-25.png
END:VEVENT
BEGIN:VEVENT
DTSTART;TZID=America/New_York:20250316T093000
DTEND;TZID=America/New_York:20250316T103000
DTSTAMP:20260425T112324
CREATED:20240831T165239Z
LAST-MODIFIED:20250413T005544Z
UID:10001863-1742117400-1742121000@www.lcsavior.org
SUMMARY:Christian Education Hour
DESCRIPTION:Each Sunday from 9:30AM – 10:30AM\, we have a variety of different opportunities to study God’s Word together. We have classes for everybody from age 2 to 102\, and there’s always room for you!
URL:https://www.lcsavior.org/event/christian-education-hour-6/2025-03-16/
LOCATION:Lutheran Church of the Savior\, 426 Davis Rd.\, Bedford\, MA\, 01730\, United States
CATEGORIES:Bible Study
ATTACH;FMTTYPE=image/png:https://www.lcsavior.org/wp-content/uploads/2020/10/bible-study-logo-1080p-e1705168854863.png
END:VEVENT
BEGIN:VEVENT
DTSTART;TZID=America/New_York:20250316T080000
DTEND;TZID=America/New_York:20250316T090000
DTSTAMP:20260425T112324
CREATED:20240831T164626Z
LAST-MODIFIED:20250413T005458Z
UID:10001888-1742112000-1742115600@www.lcsavior.org
SUMMARY:Sunday Morning Worship - 8AM
DESCRIPTION:Join us in-person or online each Sunday at 8:00 AM as we come together to hear from God’s word\, join in prayer and praise\, and celebrate Holy Communion
URL:https://www.lcsavior.org/event/worship-early-2024/2025-03-16/
LOCATION:Lutheran Church of the Savior\, 426 Davis Rd.\, Bedford\, MA\, 01730\, United States
CATEGORIES:Worship
ATTACH;FMTTYPE=image/jpeg:https://www.lcsavior.org/wp-content/uploads/2020/08/cherry-tree-cross.jpg
END:VEVENT
BEGIN:VEVENT
DTSTART;TZID=America/New_York:20250312T190000
DTEND;TZID=America/New_York:20250312T200000
DTSTAMP:20260425T112324
CREATED:20250312T011708Z
LAST-MODIFIED:20250312T015600Z
UID:10001911-1741806000-1741809600@www.lcsavior.org
SUMMARY:Midweek Lenten Service
DESCRIPTION:Join us every Wednesday evening during the Lenten season for our special midweek worship services beginning at 7:00 PM. These contemplative services offer a meaningful opportunity to deepen your spiritual journey as we prepare our hearts for Easter. \nJoin us at 6:00 PM for a soup supper\, followed by service at 7:00 PM. All are welcome! \nClick here to join the livestream \nClick here to download the worship bulletin to follow along
URL:https://www.lcsavior.org/event/lent-2025-2/
LOCATION:Lutheran Church of the Savior\, 426 Davis Rd.\, Bedford\, MA\, 01730\, United States
CATEGORIES:streaming,Worship
ATTACH;FMTTYPE=image/jpeg:https://www.lcsavior.org/wp-content/uploads/2025/03/lent_16_9_shutterstock_1335314198-Featured-Image-WP.jpg
END:VEVENT
BEGIN:VEVENT
DTSTART;TZID=America/New_York:20250312T180000
DTEND;TZID=America/New_York:20250312T190000
DTSTAMP:20260425T112324
CREATED:20250305T010642Z
LAST-MODIFIED:20250305T012841Z
UID:10001906-1741802400-1741806000@www.lcsavior.org
SUMMARY:Lenten Soup Supper
DESCRIPTION:Join us each Wednesday during Lent for our Soup Supper at 6:00 PM before our evening service. Enjoy warm fellowship and delicious homemade soups as we gather together in community. \nThis weekly meal provides a perfect opportunity to connect with others in our church family before we enter into worship. All are welcome!
URL:https://www.lcsavior.org/event/lenten-soup-supper/2025-03-12/
LOCATION:Lutheran Church of the Savior\, 426 Davis Rd.\, Bedford\, MA\, 01730\, United States
ATTACH;FMTTYPE=image/jpeg:https://www.lcsavior.org/wp-content/uploads/2025/03/soup_bowl_shutterstock_1007551606-Custom.jpg
END:VEVENT
BEGIN:VEVENT
DTSTART;TZID=America/New_York:20250309T104500
DTEND;TZID=America/New_York:20250309T120000
DTSTAMP:20260425T112324
CREATED:20250308T204314Z
LAST-MODIFIED:20250308T204316Z
UID:10001837-1741517100-1741521600@www.lcsavior.org
SUMMARY:Sunday Morning Worship - 10:45AM
DESCRIPTION:Join us in-person or online each Sunday at 10:45 AM as we come together to hear from God’s word\, join in prayer and praise\, and celebrate Holy Communion. \nClick here to join the livestream \nClick here to download the worship bulletin to follow along
URL:https://www.lcsavior.org/event/sunday-worship-late-2024-28/
LOCATION:Lutheran Church of the Savior\, 426 Davis Rd.\, Bedford\, MA\, 01730\, United States
CATEGORIES:streaming,Worship
ATTACH;FMTTYPE=image/png:https://www.lcsavior.org/wp-content/uploads/2024/08/Slide1-Custom-24.png
END:VEVENT
BEGIN:VEVENT
DTSTART;TZID=America/New_York:20250309T093000
DTEND;TZID=America/New_York:20250309T103000
DTSTAMP:20260425T112324
CREATED:20240831T165239Z
LAST-MODIFIED:20250413T005544Z
UID:10001862-1741512600-1741516200@www.lcsavior.org
SUMMARY:Christian Education Hour
DESCRIPTION:Each Sunday from 9:30AM – 10:30AM\, we have a variety of different opportunities to study God’s Word together. We have classes for everybody from age 2 to 102\, and there’s always room for you!
URL:https://www.lcsavior.org/event/christian-education-hour-6/2025-03-09/
LOCATION:Lutheran Church of the Savior\, 426 Davis Rd.\, Bedford\, MA\, 01730\, United States
CATEGORIES:Bible Study
ATTACH;FMTTYPE=image/png:https://www.lcsavior.org/wp-content/uploads/2020/10/bible-study-logo-1080p-e1705168854863.png
END:VEVENT
BEGIN:VEVENT
DTSTART;TZID=America/New_York:20250309T080000
DTEND;TZID=America/New_York:20250309T090000
DTSTAMP:20260425T112324
CREATED:20240831T164626Z
LAST-MODIFIED:20250413T005458Z
UID:10001887-1741507200-1741510800@www.lcsavior.org
SUMMARY:Sunday Morning Worship - 8AM
DESCRIPTION:Join us in-person or online each Sunday at 8:00 AM as we come together to hear from God’s word\, join in prayer and praise\, and celebrate Holy Communion
URL:https://www.lcsavior.org/event/worship-early-2024/2025-03-09/
LOCATION:Lutheran Church of the Savior\, 426 Davis Rd.\, Bedford\, MA\, 01730\, United States
CATEGORIES:Worship
ATTACH;FMTTYPE=image/jpeg:https://www.lcsavior.org/wp-content/uploads/2020/08/cherry-tree-cross.jpg
END:VEVENT
BEGIN:VEVENT
DTSTART;TZID=America/New_York:20250305T190000
DTEND;TZID=America/New_York:20250305T200000
DTSTAMP:20260425T112324
CREATED:20250305T005806Z
LAST-MODIFIED:20250306T001942Z
UID:10001904-1741201200-1741204800@www.lcsavior.org
SUMMARY:Ash Wednesday Service
DESCRIPTION:Join us for our Ash Wednesday service on Wednesday\, March 5th at 7:00 PM as we begin our Lenten journey together. This evening service will include the traditional imposition of ashes and provide a time for reflection and prayer as we enter this season of spiritual preparation. All are welcome to attend as we gather in humble reverence to mark the beginning of Lent. \nJoin us at 6PM for a soup supper\, followed by service at 7PM. \nClick here to join the livestream \n2025-03-05 Ash Wednesday – Livestream \n 
URL:https://www.lcsavior.org/event/ash-wednesday-service/
LOCATION:Lutheran Church of the Savior\, 426 Davis Rd.\, Bedford\, MA\, 01730\, United States
CATEGORIES:streaming,Worship
ATTACH;FMTTYPE=image/png:https://www.lcsavior.org/wp-content/uploads/2022/02/Slide1-Featured-Image-WP.png
END:VEVENT
END:VCALENDAR