BEGIN:VCALENDAR
VERSION:2.0
PRODID:-//Lutheran Church of the Savior - ECPv6.15.20//NONSGML v1.0//EN
CALSCALE:GREGORIAN
METHOD:PUBLISH
X-WR-CALNAME:Lutheran Church of the Savior
X-ORIGINAL-URL:https://www.lcsavior.org
X-WR-CALDESC:Events for Lutheran Church of the Savior
REFRESH-INTERVAL;VALUE=DURATION:PT1H
X-Robots-Tag:noindex
X-PUBLISHED-TTL:PT1H
BEGIN:VTIMEZONE
TZID:America/New_York
BEGIN:DAYLIGHT
TZOFFSETFROM:-0500
TZOFFSETTO:-0400
TZNAME:EDT
DTSTART:20280312T070000
END:DAYLIGHT
BEGIN:STANDARD
TZOFFSETFROM:-0400
TZOFFSETTO:-0500
TZNAME:EST
DTSTART:20281105T060000
END:STANDARD
BEGIN:DAYLIGHT
TZOFFSETFROM:-0500
TZOFFSETTO:-0400
TZNAME:EDT
DTSTART:20290311T070000
END:DAYLIGHT
BEGIN:STANDARD
TZOFFSETFROM:-0400
TZOFFSETTO:-0500
TZNAME:EST
DTSTART:20291104T060000
END:STANDARD
BEGIN:DAYLIGHT
TZOFFSETFROM:-0500
TZOFFSETTO:-0400
TZNAME:EDT
DTSTART:20300310T070000
END:DAYLIGHT
BEGIN:STANDARD
TZOFFSETFROM:-0400
TZOFFSETTO:-0500
TZNAME:EST
DTSTART:20301103T060000
END:STANDARD
END:VTIMEZONE
BEGIN:VEVENT
DTSTART;TZID=America/New_York:20290207T090000
DTEND;TZID=America/New_York:20290207T120000
DTSTAMP:20260425T111557
CREATED:20260227T190216Z
LAST-MODIFIED:20260227T232259Z
UID:10002614-1865149200-1865160000@www.lcsavior.org
SUMMARY:Tool Time
DESCRIPTION:Join us for Tool Time every Wednesday morning at 9:00 AM at the LCS Facility! Tool Time is open to anyone willing to lend a hand with small maintenance projects around the facility. \nWe begin the morning with fellowship—coffee and pastries are provided. A short devotion is led by the Pastor or one of the Tool Time team members. Afterward\, the team works together to complete one or more projects that can be accomplished within an hour or two. \nCome enjoy good company\, meaningful devotion\, and the opportunity to serve!
URL:https://www.lcsavior.org/event/toot-time/2029-02-07/
LOCATION:Lutheran Church of the Savior\, 426 Davis Rd.\, Bedford\, MA\, 01730\, United States
END:VEVENT
BEGIN:VEVENT
DTSTART;TZID=America/New_York:20290214T090000
DTEND;TZID=America/New_York:20290214T120000
DTSTAMP:20260425T111557
CREATED:20260227T190216Z
LAST-MODIFIED:20260227T232259Z
UID:10002615-1865754000-1865764800@www.lcsavior.org
SUMMARY:Tool Time
DESCRIPTION:Join us for Tool Time every Wednesday morning at 9:00 AM at the LCS Facility! Tool Time is open to anyone willing to lend a hand with small maintenance projects around the facility. \nWe begin the morning with fellowship—coffee and pastries are provided. A short devotion is led by the Pastor or one of the Tool Time team members. Afterward\, the team works together to complete one or more projects that can be accomplished within an hour or two. \nCome enjoy good company\, meaningful devotion\, and the opportunity to serve!
URL:https://www.lcsavior.org/event/toot-time/2029-02-14/
LOCATION:Lutheran Church of the Savior\, 426 Davis Rd.\, Bedford\, MA\, 01730\, United States
END:VEVENT
BEGIN:VEVENT
DTSTART;TZID=America/New_York:20290221T090000
DTEND;TZID=America/New_York:20290221T120000
DTSTAMP:20260425T111557
CREATED:20260227T190216Z
LAST-MODIFIED:20260227T232259Z
UID:10002616-1866358800-1866369600@www.lcsavior.org
SUMMARY:Tool Time
DESCRIPTION:Join us for Tool Time every Wednesday morning at 9:00 AM at the LCS Facility! Tool Time is open to anyone willing to lend a hand with small maintenance projects around the facility. \nWe begin the morning with fellowship—coffee and pastries are provided. A short devotion is led by the Pastor or one of the Tool Time team members. Afterward\, the team works together to complete one or more projects that can be accomplished within an hour or two. \nCome enjoy good company\, meaningful devotion\, and the opportunity to serve!
URL:https://www.lcsavior.org/event/toot-time/2029-02-21/
LOCATION:Lutheran Church of the Savior\, 426 Davis Rd.\, Bedford\, MA\, 01730\, United States
END:VEVENT
BEGIN:VEVENT
DTSTART;TZID=America/New_York:20290228T090000
DTEND;TZID=America/New_York:20290228T120000
DTSTAMP:20260425T111557
CREATED:20260227T190216Z
LAST-MODIFIED:20260227T232259Z
UID:10002617-1866963600-1866974400@www.lcsavior.org
SUMMARY:Tool Time
DESCRIPTION:Join us for Tool Time every Wednesday morning at 9:00 AM at the LCS Facility! Tool Time is open to anyone willing to lend a hand with small maintenance projects around the facility. \nWe begin the morning with fellowship—coffee and pastries are provided. A short devotion is led by the Pastor or one of the Tool Time team members. Afterward\, the team works together to complete one or more projects that can be accomplished within an hour or two. \nCome enjoy good company\, meaningful devotion\, and the opportunity to serve!
URL:https://www.lcsavior.org/event/toot-time/2029-02-28/
LOCATION:Lutheran Church of the Savior\, 426 Davis Rd.\, Bedford\, MA\, 01730\, United States
END:VEVENT
BEGIN:VEVENT
DTSTART;TZID=America/New_York:20290303T073000
DTEND;TZID=America/New_York:20290303T090000
DTSTAMP:20260425T111557
CREATED:20251129T191143Z
LAST-MODIFIED:20251129T191143Z
UID:10002163-1867217400-1867222800@www.lcsavior.org
SUMMARY:Men in Prayer
DESCRIPTION:On the first Saturday of the month\, we get together for a hearty breakfast\, some fellowship\, and time in prayer. This is a great opportunity to connect and to share in our life together – men of all ages are welcome!
URL:https://www.lcsavior.org/event/men-in-prayer/2029-03-03/
LOCATION:Lutheran Church of the Savior\, 426 Davis Rd.\, Bedford\, MA\, 01730\, United States
CATEGORIES:Fellowship
ATTACH;FMTTYPE=image/jpeg:https://www.lcsavior.org/wp-content/uploads/2025/11/bacon-and-eggs.jpg
END:VEVENT
BEGIN:VEVENT
DTSTART;TZID=America/New_York:20290307T090000
DTEND;TZID=America/New_York:20290307T120000
DTSTAMP:20260425T111557
CREATED:20260227T190216Z
LAST-MODIFIED:20260227T232259Z
UID:10002618-1867568400-1867579200@www.lcsavior.org
SUMMARY:Tool Time
DESCRIPTION:Join us for Tool Time every Wednesday morning at 9:00 AM at the LCS Facility! Tool Time is open to anyone willing to lend a hand with small maintenance projects around the facility. \nWe begin the morning with fellowship—coffee and pastries are provided. A short devotion is led by the Pastor or one of the Tool Time team members. Afterward\, the team works together to complete one or more projects that can be accomplished within an hour or two. \nCome enjoy good company\, meaningful devotion\, and the opportunity to serve!
URL:https://www.lcsavior.org/event/toot-time/2029-03-07/
LOCATION:Lutheran Church of the Savior\, 426 Davis Rd.\, Bedford\, MA\, 01730\, United States
END:VEVENT
BEGIN:VEVENT
DTSTART;TZID=America/New_York:20290314T090000
DTEND;TZID=America/New_York:20290314T120000
DTSTAMP:20260425T111557
CREATED:20260227T190216Z
LAST-MODIFIED:20260227T232259Z
UID:10002619-1868173200-1868184000@www.lcsavior.org
SUMMARY:Tool Time
DESCRIPTION:Join us for Tool Time every Wednesday morning at 9:00 AM at the LCS Facility! Tool Time is open to anyone willing to lend a hand with small maintenance projects around the facility. \nWe begin the morning with fellowship—coffee and pastries are provided. A short devotion is led by the Pastor or one of the Tool Time team members. Afterward\, the team works together to complete one or more projects that can be accomplished within an hour or two. \nCome enjoy good company\, meaningful devotion\, and the opportunity to serve!
URL:https://www.lcsavior.org/event/toot-time/2029-03-14/
LOCATION:Lutheran Church of the Savior\, 426 Davis Rd.\, Bedford\, MA\, 01730\, United States
END:VEVENT
BEGIN:VEVENT
DTSTART;TZID=America/New_York:20290321T090000
DTEND;TZID=America/New_York:20290321T120000
DTSTAMP:20260425T111557
CREATED:20260227T190216Z
LAST-MODIFIED:20260227T232259Z
UID:10002620-1868778000-1868788800@www.lcsavior.org
SUMMARY:Tool Time
DESCRIPTION:Join us for Tool Time every Wednesday morning at 9:00 AM at the LCS Facility! Tool Time is open to anyone willing to lend a hand with small maintenance projects around the facility. \nWe begin the morning with fellowship—coffee and pastries are provided. A short devotion is led by the Pastor or one of the Tool Time team members. Afterward\, the team works together to complete one or more projects that can be accomplished within an hour or two. \nCome enjoy good company\, meaningful devotion\, and the opportunity to serve!
URL:https://www.lcsavior.org/event/toot-time/2029-03-21/
LOCATION:Lutheran Church of the Savior\, 426 Davis Rd.\, Bedford\, MA\, 01730\, United States
END:VEVENT
BEGIN:VEVENT
DTSTART;TZID=America/New_York:20290328T090000
DTEND;TZID=America/New_York:20290328T120000
DTSTAMP:20260425T111557
CREATED:20260227T190216Z
LAST-MODIFIED:20260227T232259Z
UID:10002621-1869382800-1869393600@www.lcsavior.org
SUMMARY:Tool Time
DESCRIPTION:Join us for Tool Time every Wednesday morning at 9:00 AM at the LCS Facility! Tool Time is open to anyone willing to lend a hand with small maintenance projects around the facility. \nWe begin the morning with fellowship—coffee and pastries are provided. A short devotion is led by the Pastor or one of the Tool Time team members. Afterward\, the team works together to complete one or more projects that can be accomplished within an hour or two. \nCome enjoy good company\, meaningful devotion\, and the opportunity to serve!
URL:https://www.lcsavior.org/event/toot-time/2029-03-28/
LOCATION:Lutheran Church of the Savior\, 426 Davis Rd.\, Bedford\, MA\, 01730\, United States
END:VEVENT
BEGIN:VEVENT
DTSTART;TZID=America/New_York:20290404T090000
DTEND;TZID=America/New_York:20290404T120000
DTSTAMP:20260425T111557
CREATED:20260227T190216Z
LAST-MODIFIED:20260227T232259Z
UID:10002622-1869987600-1869998400@www.lcsavior.org
SUMMARY:Tool Time
DESCRIPTION:Join us for Tool Time every Wednesday morning at 9:00 AM at the LCS Facility! Tool Time is open to anyone willing to lend a hand with small maintenance projects around the facility. \nWe begin the morning with fellowship—coffee and pastries are provided. A short devotion is led by the Pastor or one of the Tool Time team members. Afterward\, the team works together to complete one or more projects that can be accomplished within an hour or two. \nCome enjoy good company\, meaningful devotion\, and the opportunity to serve!
URL:https://www.lcsavior.org/event/toot-time/2029-04-04/
LOCATION:Lutheran Church of the Savior\, 426 Davis Rd.\, Bedford\, MA\, 01730\, United States
END:VEVENT
BEGIN:VEVENT
DTSTART;TZID=America/New_York:20290407T073000
DTEND;TZID=America/New_York:20290407T090000
DTSTAMP:20260425T111557
CREATED:20251129T191143Z
LAST-MODIFIED:20251129T191143Z
UID:10002164-1870241400-1870246800@www.lcsavior.org
SUMMARY:Men in Prayer
DESCRIPTION:On the first Saturday of the month\, we get together for a hearty breakfast\, some fellowship\, and time in prayer. This is a great opportunity to connect and to share in our life together – men of all ages are welcome!
URL:https://www.lcsavior.org/event/men-in-prayer/2029-04-07/
LOCATION:Lutheran Church of the Savior\, 426 Davis Rd.\, Bedford\, MA\, 01730\, United States
CATEGORIES:Fellowship
ATTACH;FMTTYPE=image/jpeg:https://www.lcsavior.org/wp-content/uploads/2025/11/bacon-and-eggs.jpg
END:VEVENT
BEGIN:VEVENT
DTSTART;TZID=America/New_York:20290411T090000
DTEND;TZID=America/New_York:20290411T120000
DTSTAMP:20260425T111557
CREATED:20260227T190216Z
LAST-MODIFIED:20260227T232259Z
UID:10002623-1870592400-1870603200@www.lcsavior.org
SUMMARY:Tool Time
DESCRIPTION:Join us for Tool Time every Wednesday morning at 9:00 AM at the LCS Facility! Tool Time is open to anyone willing to lend a hand with small maintenance projects around the facility. \nWe begin the morning with fellowship—coffee and pastries are provided. A short devotion is led by the Pastor or one of the Tool Time team members. Afterward\, the team works together to complete one or more projects that can be accomplished within an hour or two. \nCome enjoy good company\, meaningful devotion\, and the opportunity to serve!
URL:https://www.lcsavior.org/event/toot-time/2029-04-11/
LOCATION:Lutheran Church of the Savior\, 426 Davis Rd.\, Bedford\, MA\, 01730\, United States
END:VEVENT
BEGIN:VEVENT
DTSTART;TZID=America/New_York:20290418T090000
DTEND;TZID=America/New_York:20290418T120000
DTSTAMP:20260425T111557
CREATED:20260227T190216Z
LAST-MODIFIED:20260227T232259Z
UID:10002624-1871197200-1871208000@www.lcsavior.org
SUMMARY:Tool Time
DESCRIPTION:Join us for Tool Time every Wednesday morning at 9:00 AM at the LCS Facility! Tool Time is open to anyone willing to lend a hand with small maintenance projects around the facility. \nWe begin the morning with fellowship—coffee and pastries are provided. A short devotion is led by the Pastor or one of the Tool Time team members. Afterward\, the team works together to complete one or more projects that can be accomplished within an hour or two. \nCome enjoy good company\, meaningful devotion\, and the opportunity to serve!
URL:https://www.lcsavior.org/event/toot-time/2029-04-18/
LOCATION:Lutheran Church of the Savior\, 426 Davis Rd.\, Bedford\, MA\, 01730\, United States
END:VEVENT
BEGIN:VEVENT
DTSTART;TZID=America/New_York:20290425T090000
DTEND;TZID=America/New_York:20290425T120000
DTSTAMP:20260425T111557
CREATED:20260227T190216Z
LAST-MODIFIED:20260227T232259Z
UID:10002625-1871802000-1871812800@www.lcsavior.org
SUMMARY:Tool Time
DESCRIPTION:Join us for Tool Time every Wednesday morning at 9:00 AM at the LCS Facility! Tool Time is open to anyone willing to lend a hand with small maintenance projects around the facility. \nWe begin the morning with fellowship—coffee and pastries are provided. A short devotion is led by the Pastor or one of the Tool Time team members. Afterward\, the team works together to complete one or more projects that can be accomplished within an hour or two. \nCome enjoy good company\, meaningful devotion\, and the opportunity to serve!
URL:https://www.lcsavior.org/event/toot-time/2029-04-25/
LOCATION:Lutheran Church of the Savior\, 426 Davis Rd.\, Bedford\, MA\, 01730\, United States
END:VEVENT
BEGIN:VEVENT
DTSTART;TZID=America/New_York:20290502T090000
DTEND;TZID=America/New_York:20290502T120000
DTSTAMP:20260425T111557
CREATED:20260227T190216Z
LAST-MODIFIED:20260227T232259Z
UID:10002626-1872406800-1872417600@www.lcsavior.org
SUMMARY:Tool Time
DESCRIPTION:Join us for Tool Time every Wednesday morning at 9:00 AM at the LCS Facility! Tool Time is open to anyone willing to lend a hand with small maintenance projects around the facility. \nWe begin the morning with fellowship—coffee and pastries are provided. A short devotion is led by the Pastor or one of the Tool Time team members. Afterward\, the team works together to complete one or more projects that can be accomplished within an hour or two. \nCome enjoy good company\, meaningful devotion\, and the opportunity to serve!
URL:https://www.lcsavior.org/event/toot-time/2029-05-02/
LOCATION:Lutheran Church of the Savior\, 426 Davis Rd.\, Bedford\, MA\, 01730\, United States
END:VEVENT
BEGIN:VEVENT
DTSTART;TZID=America/New_York:20290505T073000
DTEND;TZID=America/New_York:20290505T090000
DTSTAMP:20260425T111557
CREATED:20251129T191143Z
LAST-MODIFIED:20251129T191143Z
UID:10002165-1872660600-1872666000@www.lcsavior.org
SUMMARY:Men in Prayer
DESCRIPTION:On the first Saturday of the month\, we get together for a hearty breakfast\, some fellowship\, and time in prayer. This is a great opportunity to connect and to share in our life together – men of all ages are welcome!
URL:https://www.lcsavior.org/event/men-in-prayer/2029-05-05/
LOCATION:Lutheran Church of the Savior\, 426 Davis Rd.\, Bedford\, MA\, 01730\, United States
CATEGORIES:Fellowship
ATTACH;FMTTYPE=image/jpeg:https://www.lcsavior.org/wp-content/uploads/2025/11/bacon-and-eggs.jpg
END:VEVENT
BEGIN:VEVENT
DTSTART;TZID=America/New_York:20290509T090000
DTEND;TZID=America/New_York:20290509T120000
DTSTAMP:20260425T111557
CREATED:20260227T190216Z
LAST-MODIFIED:20260227T232259Z
UID:10002627-1873011600-1873022400@www.lcsavior.org
SUMMARY:Tool Time
DESCRIPTION:Join us for Tool Time every Wednesday morning at 9:00 AM at the LCS Facility! Tool Time is open to anyone willing to lend a hand with small maintenance projects around the facility. \nWe begin the morning with fellowship—coffee and pastries are provided. A short devotion is led by the Pastor or one of the Tool Time team members. Afterward\, the team works together to complete one or more projects that can be accomplished within an hour or two. \nCome enjoy good company\, meaningful devotion\, and the opportunity to serve!
URL:https://www.lcsavior.org/event/toot-time/2029-05-09/
LOCATION:Lutheran Church of the Savior\, 426 Davis Rd.\, Bedford\, MA\, 01730\, United States
END:VEVENT
BEGIN:VEVENT
DTSTART;TZID=America/New_York:20290516T090000
DTEND;TZID=America/New_York:20290516T120000
DTSTAMP:20260425T111557
CREATED:20260227T190216Z
LAST-MODIFIED:20260227T232259Z
UID:10002628-1873616400-1873627200@www.lcsavior.org
SUMMARY:Tool Time
DESCRIPTION:Join us for Tool Time every Wednesday morning at 9:00 AM at the LCS Facility! Tool Time is open to anyone willing to lend a hand with small maintenance projects around the facility. \nWe begin the morning with fellowship—coffee and pastries are provided. A short devotion is led by the Pastor or one of the Tool Time team members. Afterward\, the team works together to complete one or more projects that can be accomplished within an hour or two. \nCome enjoy good company\, meaningful devotion\, and the opportunity to serve!
URL:https://www.lcsavior.org/event/toot-time/2029-05-16/
LOCATION:Lutheran Church of the Savior\, 426 Davis Rd.\, Bedford\, MA\, 01730\, United States
END:VEVENT
BEGIN:VEVENT
DTSTART;TZID=America/New_York:20290523T090000
DTEND;TZID=America/New_York:20290523T120000
DTSTAMP:20260425T111557
CREATED:20260227T190216Z
LAST-MODIFIED:20260227T232259Z
UID:10002629-1874221200-1874232000@www.lcsavior.org
SUMMARY:Tool Time
DESCRIPTION:Join us for Tool Time every Wednesday morning at 9:00 AM at the LCS Facility! Tool Time is open to anyone willing to lend a hand with small maintenance projects around the facility. \nWe begin the morning with fellowship—coffee and pastries are provided. A short devotion is led by the Pastor or one of the Tool Time team members. Afterward\, the team works together to complete one or more projects that can be accomplished within an hour or two. \nCome enjoy good company\, meaningful devotion\, and the opportunity to serve!
URL:https://www.lcsavior.org/event/toot-time/2029-05-23/
LOCATION:Lutheran Church of the Savior\, 426 Davis Rd.\, Bedford\, MA\, 01730\, United States
END:VEVENT
BEGIN:VEVENT
DTSTART;TZID=America/New_York:20290530T090000
DTEND;TZID=America/New_York:20290530T120000
DTSTAMP:20260425T111557
CREATED:20260227T190216Z
LAST-MODIFIED:20260227T232259Z
UID:10002630-1874826000-1874836800@www.lcsavior.org
SUMMARY:Tool Time
DESCRIPTION:Join us for Tool Time every Wednesday morning at 9:00 AM at the LCS Facility! Tool Time is open to anyone willing to lend a hand with small maintenance projects around the facility. \nWe begin the morning with fellowship—coffee and pastries are provided. A short devotion is led by the Pastor or one of the Tool Time team members. Afterward\, the team works together to complete one or more projects that can be accomplished within an hour or two. \nCome enjoy good company\, meaningful devotion\, and the opportunity to serve!
URL:https://www.lcsavior.org/event/toot-time/2029-05-30/
LOCATION:Lutheran Church of the Savior\, 426 Davis Rd.\, Bedford\, MA\, 01730\, United States
END:VEVENT
BEGIN:VEVENT
DTSTART;TZID=America/New_York:20290602T073000
DTEND;TZID=America/New_York:20290602T090000
DTSTAMP:20260425T111557
CREATED:20251129T191143Z
LAST-MODIFIED:20251129T191143Z
UID:10002166-1875079800-1875085200@www.lcsavior.org
SUMMARY:Men in Prayer
DESCRIPTION:On the first Saturday of the month\, we get together for a hearty breakfast\, some fellowship\, and time in prayer. This is a great opportunity to connect and to share in our life together – men of all ages are welcome!
URL:https://www.lcsavior.org/event/men-in-prayer/2029-06-02/
LOCATION:Lutheran Church of the Savior\, 426 Davis Rd.\, Bedford\, MA\, 01730\, United States
CATEGORIES:Fellowship
ATTACH;FMTTYPE=image/jpeg:https://www.lcsavior.org/wp-content/uploads/2025/11/bacon-and-eggs.jpg
END:VEVENT
BEGIN:VEVENT
DTSTART;TZID=America/New_York:20290606T090000
DTEND;TZID=America/New_York:20290606T120000
DTSTAMP:20260425T111557
CREATED:20260227T190216Z
LAST-MODIFIED:20260227T232259Z
UID:10002631-1875430800-1875441600@www.lcsavior.org
SUMMARY:Tool Time
DESCRIPTION:Join us for Tool Time every Wednesday morning at 9:00 AM at the LCS Facility! Tool Time is open to anyone willing to lend a hand with small maintenance projects around the facility. \nWe begin the morning with fellowship—coffee and pastries are provided. A short devotion is led by the Pastor or one of the Tool Time team members. Afterward\, the team works together to complete one or more projects that can be accomplished within an hour or two. \nCome enjoy good company\, meaningful devotion\, and the opportunity to serve!
URL:https://www.lcsavior.org/event/toot-time/2029-06-06/
LOCATION:Lutheran Church of the Savior\, 426 Davis Rd.\, Bedford\, MA\, 01730\, United States
END:VEVENT
BEGIN:VEVENT
DTSTART;TZID=America/New_York:20290613T090000
DTEND;TZID=America/New_York:20290613T120000
DTSTAMP:20260425T111557
CREATED:20260227T190216Z
LAST-MODIFIED:20260227T232259Z
UID:10002632-1876035600-1876046400@www.lcsavior.org
SUMMARY:Tool Time
DESCRIPTION:Join us for Tool Time every Wednesday morning at 9:00 AM at the LCS Facility! Tool Time is open to anyone willing to lend a hand with small maintenance projects around the facility. \nWe begin the morning with fellowship—coffee and pastries are provided. A short devotion is led by the Pastor or one of the Tool Time team members. Afterward\, the team works together to complete one or more projects that can be accomplished within an hour or two. \nCome enjoy good company\, meaningful devotion\, and the opportunity to serve!
URL:https://www.lcsavior.org/event/toot-time/2029-06-13/
LOCATION:Lutheran Church of the Savior\, 426 Davis Rd.\, Bedford\, MA\, 01730\, United States
END:VEVENT
BEGIN:VEVENT
DTSTART;TZID=America/New_York:20290620T090000
DTEND;TZID=America/New_York:20290620T120000
DTSTAMP:20260425T111557
CREATED:20260227T190216Z
LAST-MODIFIED:20260227T232259Z
UID:10002633-1876640400-1876651200@www.lcsavior.org
SUMMARY:Tool Time
DESCRIPTION:Join us for Tool Time every Wednesday morning at 9:00 AM at the LCS Facility! Tool Time is open to anyone willing to lend a hand with small maintenance projects around the facility. \nWe begin the morning with fellowship—coffee and pastries are provided. A short devotion is led by the Pastor or one of the Tool Time team members. Afterward\, the team works together to complete one or more projects that can be accomplished within an hour or two. \nCome enjoy good company\, meaningful devotion\, and the opportunity to serve!
URL:https://www.lcsavior.org/event/toot-time/2029-06-20/
LOCATION:Lutheran Church of the Savior\, 426 Davis Rd.\, Bedford\, MA\, 01730\, United States
END:VEVENT
BEGIN:VEVENT
DTSTART;TZID=America/New_York:20290627T090000
DTEND;TZID=America/New_York:20290627T120000
DTSTAMP:20260425T111557
CREATED:20260227T190216Z
LAST-MODIFIED:20260227T232259Z
UID:10002634-1877245200-1877256000@www.lcsavior.org
SUMMARY:Tool Time
DESCRIPTION:Join us for Tool Time every Wednesday morning at 9:00 AM at the LCS Facility! Tool Time is open to anyone willing to lend a hand with small maintenance projects around the facility. \nWe begin the morning with fellowship—coffee and pastries are provided. A short devotion is led by the Pastor or one of the Tool Time team members. Afterward\, the team works together to complete one or more projects that can be accomplished within an hour or two. \nCome enjoy good company\, meaningful devotion\, and the opportunity to serve!
URL:https://www.lcsavior.org/event/toot-time/2029-06-27/
LOCATION:Lutheran Church of the Savior\, 426 Davis Rd.\, Bedford\, MA\, 01730\, United States
END:VEVENT
BEGIN:VEVENT
DTSTART;TZID=America/New_York:20290704T090000
DTEND;TZID=America/New_York:20290704T120000
DTSTAMP:20260425T111557
CREATED:20260227T190216Z
LAST-MODIFIED:20260227T232259Z
UID:10002635-1877850000-1877860800@www.lcsavior.org
SUMMARY:Tool Time
DESCRIPTION:Join us for Tool Time every Wednesday morning at 9:00 AM at the LCS Facility! Tool Time is open to anyone willing to lend a hand with small maintenance projects around the facility. \nWe begin the morning with fellowship—coffee and pastries are provided. A short devotion is led by the Pastor or one of the Tool Time team members. Afterward\, the team works together to complete one or more projects that can be accomplished within an hour or two. \nCome enjoy good company\, meaningful devotion\, and the opportunity to serve!
URL:https://www.lcsavior.org/event/toot-time/2029-07-04/
LOCATION:Lutheran Church of the Savior\, 426 Davis Rd.\, Bedford\, MA\, 01730\, United States
END:VEVENT
BEGIN:VEVENT
DTSTART;TZID=America/New_York:20290707T073000
DTEND;TZID=America/New_York:20290707T090000
DTSTAMP:20260425T111557
CREATED:20251129T191143Z
LAST-MODIFIED:20251129T191143Z
UID:10002167-1878103800-1878109200@www.lcsavior.org
SUMMARY:Men in Prayer
DESCRIPTION:On the first Saturday of the month\, we get together for a hearty breakfast\, some fellowship\, and time in prayer. This is a great opportunity to connect and to share in our life together – men of all ages are welcome!
URL:https://www.lcsavior.org/event/men-in-prayer/2029-07-07/
LOCATION:Lutheran Church of the Savior\, 426 Davis Rd.\, Bedford\, MA\, 01730\, United States
CATEGORIES:Fellowship
ATTACH;FMTTYPE=image/jpeg:https://www.lcsavior.org/wp-content/uploads/2025/11/bacon-and-eggs.jpg
END:VEVENT
BEGIN:VEVENT
DTSTART;TZID=America/New_York:20290711T090000
DTEND;TZID=America/New_York:20290711T120000
DTSTAMP:20260425T111557
CREATED:20260227T190216Z
LAST-MODIFIED:20260227T232259Z
UID:10002636-1878454800-1878465600@www.lcsavior.org
SUMMARY:Tool Time
DESCRIPTION:Join us for Tool Time every Wednesday morning at 9:00 AM at the LCS Facility! Tool Time is open to anyone willing to lend a hand with small maintenance projects around the facility. \nWe begin the morning with fellowship—coffee and pastries are provided. A short devotion is led by the Pastor or one of the Tool Time team members. Afterward\, the team works together to complete one or more projects that can be accomplished within an hour or two. \nCome enjoy good company\, meaningful devotion\, and the opportunity to serve!
URL:https://www.lcsavior.org/event/toot-time/2029-07-11/
LOCATION:Lutheran Church of the Savior\, 426 Davis Rd.\, Bedford\, MA\, 01730\, United States
END:VEVENT
BEGIN:VEVENT
DTSTART;TZID=America/New_York:20290718T090000
DTEND;TZID=America/New_York:20290718T120000
DTSTAMP:20260425T111557
CREATED:20260227T190216Z
LAST-MODIFIED:20260227T232259Z
UID:10002637-1879059600-1879070400@www.lcsavior.org
SUMMARY:Tool Time
DESCRIPTION:Join us for Tool Time every Wednesday morning at 9:00 AM at the LCS Facility! Tool Time is open to anyone willing to lend a hand with small maintenance projects around the facility. \nWe begin the morning with fellowship—coffee and pastries are provided. A short devotion is led by the Pastor or one of the Tool Time team members. Afterward\, the team works together to complete one or more projects that can be accomplished within an hour or two. \nCome enjoy good company\, meaningful devotion\, and the opportunity to serve!
URL:https://www.lcsavior.org/event/toot-time/2029-07-18/
LOCATION:Lutheran Church of the Savior\, 426 Davis Rd.\, Bedford\, MA\, 01730\, United States
END:VEVENT
BEGIN:VEVENT
DTSTART;TZID=America/New_York:20290725T090000
DTEND;TZID=America/New_York:20290725T120000
DTSTAMP:20260425T111558
CREATED:20260227T190216Z
LAST-MODIFIED:20260227T232259Z
UID:10002638-1879664400-1879675200@www.lcsavior.org
SUMMARY:Tool Time
DESCRIPTION:Join us for Tool Time every Wednesday morning at 9:00 AM at the LCS Facility! Tool Time is open to anyone willing to lend a hand with small maintenance projects around the facility. \nWe begin the morning with fellowship—coffee and pastries are provided. A short devotion is led by the Pastor or one of the Tool Time team members. Afterward\, the team works together to complete one or more projects that can be accomplished within an hour or two. \nCome enjoy good company\, meaningful devotion\, and the opportunity to serve!
URL:https://www.lcsavior.org/event/toot-time/2029-07-25/
LOCATION:Lutheran Church of the Savior\, 426 Davis Rd.\, Bedford\, MA\, 01730\, United States
END:VEVENT
END:VCALENDAR