BEGIN:VCALENDAR
VERSION:2.0
PRODID:-//Lutheran Church of the Savior - ECPv6.15.20//NONSGML v1.0//EN
CALSCALE:GREGORIAN
METHOD:PUBLISH
X-WR-CALNAME:Lutheran Church of the Savior
X-ORIGINAL-URL:https://www.lcsavior.org
X-WR-CALDESC:Events for Lutheran Church of the Savior
REFRESH-INTERVAL;VALUE=DURATION:PT1H
X-Robots-Tag:noindex
X-PUBLISHED-TTL:PT1H
BEGIN:VTIMEZONE
TZID:America/New_York
BEGIN:DAYLIGHT
TZOFFSETFROM:-0500
TZOFFSETTO:-0400
TZNAME:EDT
DTSTART:20240310T070000
END:DAYLIGHT
BEGIN:STANDARD
TZOFFSETFROM:-0400
TZOFFSETTO:-0500
TZNAME:EST
DTSTART:20241103T060000
END:STANDARD
BEGIN:DAYLIGHT
TZOFFSETFROM:-0500
TZOFFSETTO:-0400
TZNAME:EDT
DTSTART:20250309T070000
END:DAYLIGHT
BEGIN:STANDARD
TZOFFSETFROM:-0400
TZOFFSETTO:-0500
TZNAME:EST
DTSTART:20251102T060000
END:STANDARD
BEGIN:DAYLIGHT
TZOFFSETFROM:-0500
TZOFFSETTO:-0400
TZNAME:EDT
DTSTART:20260308T070000
END:DAYLIGHT
BEGIN:STANDARD
TZOFFSETFROM:-0400
TZOFFSETTO:-0500
TZNAME:EST
DTSTART:20261101T060000
END:STANDARD
END:VTIMEZONE
BEGIN:VEVENT
DTSTART;TZID=America/New_York:20251102T080000
DTEND;TZID=America/New_York:20251102T090000
DTSTAMP:20260425T082214
CREATED:20250906T230621Z
LAST-MODIFIED:20251221T002607Z
UID:10001995-1762070400-1762074000@www.lcsavior.org
SUMMARY:Sunday Morning Worship - 8:00 AM
DESCRIPTION:Join us in-person each Sunday at 8:00 AM as we come together to hear from God’s word\, join in prayer and praise\, and celebrate Holy Communion.
URL:https://www.lcsavior.org/event/sunday-morning-worship-800-am/2025-11-02/
LOCATION:Lutheran Church of the Savior\, 426 Davis Rd.\, Bedford\, MA\, 01730\, United States
CATEGORIES:Worship
ATTACH;FMTTYPE=image/jpeg:https://www.lcsavior.org/wp-content/uploads/2020/08/cherry-tree-cross.jpg
END:VEVENT
BEGIN:VEVENT
DTSTART;TZID=America/New_York:20251026T104500
DTEND;TZID=America/New_York:20251026T114500
DTSTAMP:20260425T082214
CREATED:20251025T210230Z
LAST-MODIFIED:20251025T210233Z
UID:10002035-1761475500-1761479100@www.lcsavior.org
SUMMARY:Sunday Morning Worship - 10:45 AM
DESCRIPTION:Join us in-person or online each Sunday at 10:45 AM as we come together to hear from God’s word\, join in prayer and praise\, and celebrate Holy Communion. \nClick here to join the livestream \nClick here to download the worship bulletin to follow along \n 
URL:https://www.lcsavior.org/event/sunday-morning-worship-1045-am-25/
LOCATION:Lutheran Church of the Savior\, 426 Davis Rd.\, Bedford\, MA\, 01730\, United States
CATEGORIES:streaming,Worship
ATTACH;FMTTYPE=image/png:https://www.lcsavior.org/wp-content/uploads/2025/09/Slide1-Custom-7.png
END:VEVENT
BEGIN:VEVENT
DTSTART;TZID=America/New_York:20251026T093000
DTEND;TZID=America/New_York:20251026T103000
DTSTAMP:20260425T082214
CREATED:20250906T231224Z
LAST-MODIFIED:20251221T002843Z
UID:10002077-1761471000-1761474600@www.lcsavior.org
SUMMARY:Christian Education Hour
DESCRIPTION:Please join us each week between services for Christian Education hour! There are Bible studies\, discussions\, and classes for people of all ages.
URL:https://www.lcsavior.org/event/christian-education-hour-2025/2025-10-26/
LOCATION:Lutheran Church of the Savior\, 426 Davis Rd.\, Bedford\, MA\, 01730\, United States
CATEGORIES:Bible Study
ATTACH;FMTTYPE=image/jpeg:https://www.lcsavior.org/wp-content/uploads/2021/01/womens-bible-study-shutterstock_738453862-Custom-1.jpg
END:VEVENT
BEGIN:VEVENT
DTSTART;TZID=America/New_York:20251026T080000
DTEND;TZID=America/New_York:20251026T090000
DTSTAMP:20260425T082214
CREATED:20250906T230621Z
LAST-MODIFIED:20251221T002607Z
UID:10001994-1761465600-1761469200@www.lcsavior.org
SUMMARY:Sunday Morning Worship - 8:00 AM
DESCRIPTION:Join us in-person each Sunday at 8:00 AM as we come together to hear from God’s word\, join in prayer and praise\, and celebrate Holy Communion.
URL:https://www.lcsavior.org/event/sunday-morning-worship-800-am/2025-10-26/
LOCATION:Lutheran Church of the Savior\, 426 Davis Rd.\, Bedford\, MA\, 01730\, United States
CATEGORIES:Worship
ATTACH;FMTTYPE=image/jpeg:https://www.lcsavior.org/wp-content/uploads/2020/08/cherry-tree-cross.jpg
END:VEVENT
BEGIN:VEVENT
DTSTART;TZID=America/New_York:20251019T104500
DTEND;TZID=America/New_York:20251019T114500
DTSTAMP:20260425T082214
CREATED:20251018T221628Z
LAST-MODIFIED:20251019T143309Z
UID:10002034-1760870700-1760874300@www.lcsavior.org
SUMMARY:Sunday Morning Worship - 10:45 AM
DESCRIPTION:Join us in-person or online each Sunday at 10:45 AM as we come together to hear from God’s word\, join in prayer and praise\, and celebrate Holy Communion. \nClick here to join the livestream. \nClick here to download the order of service
URL:https://www.lcsavior.org/event/sunday-morning-worship-1045-am-24/
LOCATION:Lutheran Church of the Savior\, 426 Davis Rd.\, Bedford\, MA\, 01730\, United States
CATEGORIES:streaming,Worship
ATTACH;FMTTYPE=image/png:https://www.lcsavior.org/wp-content/uploads/2025/09/Slide1-Custom-6.png
END:VEVENT
BEGIN:VEVENT
DTSTART;TZID=America/New_York:20251019T093000
DTEND;TZID=America/New_York:20251019T103000
DTSTAMP:20260425T082214
CREATED:20250906T231224Z
LAST-MODIFIED:20251221T002843Z
UID:10002076-1760866200-1760869800@www.lcsavior.org
SUMMARY:Christian Education Hour
DESCRIPTION:Please join us each week between services for Christian Education hour! There are Bible studies\, discussions\, and classes for people of all ages.
URL:https://www.lcsavior.org/event/christian-education-hour-2025/2025-10-19/
LOCATION:Lutheran Church of the Savior\, 426 Davis Rd.\, Bedford\, MA\, 01730\, United States
CATEGORIES:Bible Study
ATTACH;FMTTYPE=image/jpeg:https://www.lcsavior.org/wp-content/uploads/2021/01/womens-bible-study-shutterstock_738453862-Custom-1.jpg
END:VEVENT
BEGIN:VEVENT
DTSTART;TZID=America/New_York:20251019T080000
DTEND;TZID=America/New_York:20251019T090000
DTSTAMP:20260425T082214
CREATED:20250906T230621Z
LAST-MODIFIED:20251221T002607Z
UID:10001993-1760860800-1760864400@www.lcsavior.org
SUMMARY:Sunday Morning Worship - 8:00 AM
DESCRIPTION:Join us in-person each Sunday at 8:00 AM as we come together to hear from God’s word\, join in prayer and praise\, and celebrate Holy Communion.
URL:https://www.lcsavior.org/event/sunday-morning-worship-800-am/2025-10-19/
LOCATION:Lutheran Church of the Savior\, 426 Davis Rd.\, Bedford\, MA\, 01730\, United States
CATEGORIES:Worship
ATTACH;FMTTYPE=image/jpeg:https://www.lcsavior.org/wp-content/uploads/2020/08/cherry-tree-cross.jpg
END:VEVENT
BEGIN:VEVENT
DTSTART;TZID=America/New_York:20251012T104500
DTEND;TZID=America/New_York:20251012T114500
DTSTAMP:20260425T082214
CREATED:20251012T014736Z
LAST-MODIFIED:20251012T014740Z
UID:10002033-1760265900-1760269500@www.lcsavior.org
SUMMARY:Sunday Morning Worship - 10:45 AM
DESCRIPTION:Join us in-person or online each Sunday at 10:45 AM as we come together to hear from God’s word\, join in prayer and praise\, and celebrate Holy Communion. \nClick here to join the livestream \nClick here to download the worship bulletin to follow along
URL:https://www.lcsavior.org/event/sunday-morning-worship-1045-am-23/
LOCATION:Lutheran Church of the Savior\, 426 Davis Rd.\, Bedford\, MA\, 01730\, United States
CATEGORIES:streaming,Worship
ATTACH;FMTTYPE=image/png:https://www.lcsavior.org/wp-content/uploads/2025/09/Slide1-Custom-5.png
END:VEVENT
BEGIN:VEVENT
DTSTART;TZID=America/New_York:20251012T093000
DTEND;TZID=America/New_York:20251012T103000
DTSTAMP:20260425T082214
CREATED:20250906T231224Z
LAST-MODIFIED:20251221T002843Z
UID:10002075-1760261400-1760265000@www.lcsavior.org
SUMMARY:Christian Education Hour
DESCRIPTION:Please join us each week between services for Christian Education hour! There are Bible studies\, discussions\, and classes for people of all ages.
URL:https://www.lcsavior.org/event/christian-education-hour-2025/2025-10-12/
LOCATION:Lutheran Church of the Savior\, 426 Davis Rd.\, Bedford\, MA\, 01730\, United States
CATEGORIES:Bible Study
ATTACH;FMTTYPE=image/jpeg:https://www.lcsavior.org/wp-content/uploads/2021/01/womens-bible-study-shutterstock_738453862-Custom-1.jpg
END:VEVENT
BEGIN:VEVENT
DTSTART;TZID=America/New_York:20251012T080000
DTEND;TZID=America/New_York:20251012T090000
DTSTAMP:20260425T082214
CREATED:20250906T230621Z
LAST-MODIFIED:20251221T002607Z
UID:10001992-1760256000-1760259600@www.lcsavior.org
SUMMARY:Sunday Morning Worship - 8:00 AM
DESCRIPTION:Join us in-person each Sunday at 8:00 AM as we come together to hear from God’s word\, join in prayer and praise\, and celebrate Holy Communion.
URL:https://www.lcsavior.org/event/sunday-morning-worship-800-am/2025-10-12/
LOCATION:Lutheran Church of the Savior\, 426 Davis Rd.\, Bedford\, MA\, 01730\, United States
CATEGORIES:Worship
ATTACH;FMTTYPE=image/jpeg:https://www.lcsavior.org/wp-content/uploads/2020/08/cherry-tree-cross.jpg
END:VEVENT
BEGIN:VEVENT
DTSTART;TZID=America/New_York:20251005T104500
DTEND;TZID=America/New_York:20251005T114500
DTSTAMP:20260425T082214
CREATED:20251005T000422Z
LAST-MODIFIED:20251005T144231Z
UID:10002032-1759661100-1759664700@www.lcsavior.org
SUMMARY:Sunday Morning Worship - 10:45 AM
DESCRIPTION:Join us in-person or online each Sunday at 10:45 AM as we come together to hear from God’s word\, join in prayer and praise\, and celebrate Holy Communion. \nClick here to join the livestream \nClick here to download the worship bulletin to follow along
URL:https://www.lcsavior.org/event/sunday-morning-worship-1045-am-22/
LOCATION:Lutheran Church of the Savior\, 426 Davis Rd.\, Bedford\, MA\, 01730\, United States
CATEGORIES:streaming,Worship
ATTACH;FMTTYPE=image/png:https://www.lcsavior.org/wp-content/uploads/2025/09/Slide1-Custom-4.png
END:VEVENT
BEGIN:VEVENT
DTSTART;TZID=America/New_York:20251005T093000
DTEND;TZID=America/New_York:20251005T103000
DTSTAMP:20260425T082214
CREATED:20250906T231224Z
LAST-MODIFIED:20251221T002843Z
UID:10002074-1759656600-1759660200@www.lcsavior.org
SUMMARY:Christian Education Hour
DESCRIPTION:Please join us each week between services for Christian Education hour! There are Bible studies\, discussions\, and classes for people of all ages.
URL:https://www.lcsavior.org/event/christian-education-hour-2025/2025-10-05/
LOCATION:Lutheran Church of the Savior\, 426 Davis Rd.\, Bedford\, MA\, 01730\, United States
CATEGORIES:Bible Study
ATTACH;FMTTYPE=image/jpeg:https://www.lcsavior.org/wp-content/uploads/2021/01/womens-bible-study-shutterstock_738453862-Custom-1.jpg
END:VEVENT
BEGIN:VEVENT
DTSTART;TZID=America/New_York:20251005T080000
DTEND;TZID=America/New_York:20251005T090000
DTSTAMP:20260425T082214
CREATED:20250906T230621Z
LAST-MODIFIED:20251221T002607Z
UID:10001991-1759651200-1759654800@www.lcsavior.org
SUMMARY:Sunday Morning Worship - 8:00 AM
DESCRIPTION:Join us in-person each Sunday at 8:00 AM as we come together to hear from God’s word\, join in prayer and praise\, and celebrate Holy Communion.
URL:https://www.lcsavior.org/event/sunday-morning-worship-800-am/2025-10-05/
LOCATION:Lutheran Church of the Savior\, 426 Davis Rd.\, Bedford\, MA\, 01730\, United States
CATEGORIES:Worship
ATTACH;FMTTYPE=image/jpeg:https://www.lcsavior.org/wp-content/uploads/2020/08/cherry-tree-cross.jpg
END:VEVENT
BEGIN:VEVENT
DTSTART;TZID=America/New_York:20250928T104500
DTEND;TZID=America/New_York:20250928T114500
DTSTAMP:20260425T082214
CREATED:20250928T011437Z
LAST-MODIFIED:20250928T011440Z
UID:10002031-1759056300-1759059900@www.lcsavior.org
SUMMARY:Sunday Morning Worship - 10:45 AM
DESCRIPTION:Join us in-person or online each Sunday at 10:45 AM as we come together to hear from God’s word\, join in prayer and praise\, and celebrate Holy Communion. \nClick here to join the livestream \nClick here to download the worship bulletin to follow along
URL:https://www.lcsavior.org/event/sunday-morning-worship-1045-am-21/
LOCATION:Lutheran Church of the Savior\, 426 Davis Rd.\, Bedford\, MA\, 01730\, United States
CATEGORIES:streaming,Worship
ATTACH;FMTTYPE=image/png:https://www.lcsavior.org/wp-content/uploads/2025/09/Slide1-Custom-3.png
END:VEVENT
BEGIN:VEVENT
DTSTART;TZID=America/New_York:20250928T093000
DTEND;TZID=America/New_York:20250928T103000
DTSTAMP:20260425T082214
CREATED:20250906T231224Z
LAST-MODIFIED:20251221T002843Z
UID:10002073-1759051800-1759055400@www.lcsavior.org
SUMMARY:Christian Education Hour
DESCRIPTION:Please join us each week between services for Christian Education hour! There are Bible studies\, discussions\, and classes for people of all ages.
URL:https://www.lcsavior.org/event/christian-education-hour-2025/2025-09-28/
LOCATION:Lutheran Church of the Savior\, 426 Davis Rd.\, Bedford\, MA\, 01730\, United States
CATEGORIES:Bible Study
ATTACH;FMTTYPE=image/jpeg:https://www.lcsavior.org/wp-content/uploads/2021/01/womens-bible-study-shutterstock_738453862-Custom-1.jpg
END:VEVENT
BEGIN:VEVENT
DTSTART;TZID=America/New_York:20250928T080000
DTEND;TZID=America/New_York:20250928T090000
DTSTAMP:20260425T082214
CREATED:20250906T230621Z
LAST-MODIFIED:20251221T002607Z
UID:10001990-1759046400-1759050000@www.lcsavior.org
SUMMARY:Sunday Morning Worship - 8:00 AM
DESCRIPTION:Join us in-person each Sunday at 8:00 AM as we come together to hear from God’s word\, join in prayer and praise\, and celebrate Holy Communion.
URL:https://www.lcsavior.org/event/sunday-morning-worship-800-am/2025-09-28/
LOCATION:Lutheran Church of the Savior\, 426 Davis Rd.\, Bedford\, MA\, 01730\, United States
CATEGORIES:Worship
ATTACH;FMTTYPE=image/jpeg:https://www.lcsavior.org/wp-content/uploads/2020/08/cherry-tree-cross.jpg
END:VEVENT
BEGIN:VEVENT
DTSTART;TZID=America/New_York:20250921T104500
DTEND;TZID=America/New_York:20250921T114500
DTSTAMP:20260425T082214
CREATED:20250921T002151Z
LAST-MODIFIED:20250921T002153Z
UID:10002030-1758451500-1758455100@www.lcsavior.org
SUMMARY:Sunday Morning Worship - 10:45 AM
DESCRIPTION:Join us in-person or online each Sunday at 10:45 AM as we come together to hear from God’s word\, join in prayer and praise\, and celebrate Holy Communion. \nClick here to join the livestream \nClick here to download the worship bulletin to follow along
URL:https://www.lcsavior.org/event/sunday-morning-worship-1045-am-20/
LOCATION:Lutheran Church of the Savior\, 426 Davis Rd.\, Bedford\, MA\, 01730\, United States
CATEGORIES:streaming,Worship
ATTACH;FMTTYPE=image/png:https://www.lcsavior.org/wp-content/uploads/2025/09/Slide1-Custom-2.png
END:VEVENT
BEGIN:VEVENT
DTSTART;TZID=America/New_York:20250921T093000
DTEND;TZID=America/New_York:20250921T103000
DTSTAMP:20260425T082214
CREATED:20250906T231224Z
LAST-MODIFIED:20251221T002843Z
UID:10002072-1758447000-1758450600@www.lcsavior.org
SUMMARY:Christian Education Hour
DESCRIPTION:Please join us each week between services for Christian Education hour! There are Bible studies\, discussions\, and classes for people of all ages.
URL:https://www.lcsavior.org/event/christian-education-hour-2025/2025-09-21/
LOCATION:Lutheran Church of the Savior\, 426 Davis Rd.\, Bedford\, MA\, 01730\, United States
CATEGORIES:Bible Study
ATTACH;FMTTYPE=image/jpeg:https://www.lcsavior.org/wp-content/uploads/2021/01/womens-bible-study-shutterstock_738453862-Custom-1.jpg
END:VEVENT
BEGIN:VEVENT
DTSTART;TZID=America/New_York:20250921T080000
DTEND;TZID=America/New_York:20250921T090000
DTSTAMP:20260425T082214
CREATED:20250906T230621Z
LAST-MODIFIED:20251221T002607Z
UID:10001989-1758441600-1758445200@www.lcsavior.org
SUMMARY:Sunday Morning Worship - 8:00 AM
DESCRIPTION:Join us in-person each Sunday at 8:00 AM as we come together to hear from God’s word\, join in prayer and praise\, and celebrate Holy Communion.
URL:https://www.lcsavior.org/event/sunday-morning-worship-800-am/2025-09-21/
LOCATION:Lutheran Church of the Savior\, 426 Davis Rd.\, Bedford\, MA\, 01730\, United States
CATEGORIES:Worship
ATTACH;FMTTYPE=image/jpeg:https://www.lcsavior.org/wp-content/uploads/2020/08/cherry-tree-cross.jpg
END:VEVENT
BEGIN:VEVENT
DTSTART;TZID=America/New_York:20250914T104500
DTEND;TZID=America/New_York:20250914T114500
DTSTAMP:20260425T082214
CREATED:20250913T181956Z
LAST-MODIFIED:20250913T181958Z
UID:10002029-1757846700-1757850300@www.lcsavior.org
SUMMARY:Sunday Morning Worship - 10:45 AM
DESCRIPTION:Join us in-person or online each Sunday at 10:45 AM as we come together to hear from God’s word\, join in prayer and praise\, and celebrate Holy Communion. \nClick here to join the livestream. \nClick here to download the worship bulletin to follow along
URL:https://www.lcsavior.org/event/sunday-morning-worship-1045-am-19/
LOCATION:Lutheran Church of the Savior\, 426 Davis Rd.\, Bedford\, MA\, 01730\, United States
CATEGORIES:streaming,Worship
ATTACH;FMTTYPE=image/png:https://www.lcsavior.org/wp-content/uploads/2025/09/Slide1-Custom-1.png
END:VEVENT
BEGIN:VEVENT
DTSTART;TZID=America/New_York:20250914T093000
DTEND;TZID=America/New_York:20250914T103000
DTSTAMP:20260425T082214
CREATED:20250906T231224Z
LAST-MODIFIED:20251221T002843Z
UID:10002071-1757842200-1757845800@www.lcsavior.org
SUMMARY:Christian Education Hour
DESCRIPTION:Please join us each week between services for Christian Education hour! There are Bible studies\, discussions\, and classes for people of all ages.
URL:https://www.lcsavior.org/event/christian-education-hour-2025/2025-09-14/
LOCATION:Lutheran Church of the Savior\, 426 Davis Rd.\, Bedford\, MA\, 01730\, United States
CATEGORIES:Bible Study
ATTACH;FMTTYPE=image/jpeg:https://www.lcsavior.org/wp-content/uploads/2021/01/womens-bible-study-shutterstock_738453862-Custom-1.jpg
END:VEVENT
BEGIN:VEVENT
DTSTART;TZID=America/New_York:20250914T080000
DTEND;TZID=America/New_York:20250914T090000
DTSTAMP:20260425T082214
CREATED:20250906T230621Z
LAST-MODIFIED:20251221T002607Z
UID:10001988-1757836800-1757840400@www.lcsavior.org
SUMMARY:Sunday Morning Worship - 8:00 AM
DESCRIPTION:Join us in-person each Sunday at 8:00 AM as we come together to hear from God’s word\, join in prayer and praise\, and celebrate Holy Communion.
URL:https://www.lcsavior.org/event/sunday-morning-worship-800-am/2025-09-14/
LOCATION:Lutheran Church of the Savior\, 426 Davis Rd.\, Bedford\, MA\, 01730\, United States
CATEGORIES:Worship
ATTACH;FMTTYPE=image/jpeg:https://www.lcsavior.org/wp-content/uploads/2020/08/cherry-tree-cross.jpg
END:VEVENT
BEGIN:VEVENT
DTSTART;TZID=America/New_York:20250907T104500
DTEND;TZID=America/New_York:20250907T114500
DTSTAMP:20260425T082214
CREATED:20250907T141200Z
LAST-MODIFIED:20250907T141203Z
UID:10002028-1757241900-1757245500@www.lcsavior.org
SUMMARY:Sunday Morning Worship - 10:45 AM
DESCRIPTION:Join us in-person or online each Sunday at 10:45 AM as we come together to hear from God’s word\, join in prayer and praise\, and celebrate Holy Communion. \nClick here to join the livestream \nClick here to download the service bulletin
URL:https://www.lcsavior.org/event/sunday-morning-worship-1045-am-18/
LOCATION:Lutheran Church of the Savior\, 426 Davis Rd.\, Bedford\, MA\, 01730\, United States
CATEGORIES:streaming,Worship
ATTACH;FMTTYPE=image/png:https://www.lcsavior.org/wp-content/uploads/2025/09/Slide1-Custom.png
END:VEVENT
BEGIN:VEVENT
DTSTART;TZID=America/New_York:20250907T093000
DTEND;TZID=America/New_York:20250907T103000
DTSTAMP:20260425T082214
CREATED:20250906T231224Z
LAST-MODIFIED:20251221T002843Z
UID:10002070-1757237400-1757241000@www.lcsavior.org
SUMMARY:Christian Education Hour
DESCRIPTION:Please join us each week between services for Christian Education hour! There are Bible studies\, discussions\, and classes for people of all ages.
URL:https://www.lcsavior.org/event/christian-education-hour-2025/2025-09-07/
LOCATION:Lutheran Church of the Savior\, 426 Davis Rd.\, Bedford\, MA\, 01730\, United States
CATEGORIES:Bible Study
ATTACH;FMTTYPE=image/jpeg:https://www.lcsavior.org/wp-content/uploads/2021/01/womens-bible-study-shutterstock_738453862-Custom-1.jpg
END:VEVENT
BEGIN:VEVENT
DTSTART;TZID=America/New_York:20250907T080000
DTEND;TZID=America/New_York:20250907T090000
DTSTAMP:20260425T082214
CREATED:20250906T230621Z
LAST-MODIFIED:20251221T002607Z
UID:10001987-1757232000-1757235600@www.lcsavior.org
SUMMARY:Sunday Morning Worship - 8:00 AM
DESCRIPTION:Join us in-person each Sunday at 8:00 AM as we come together to hear from God’s word\, join in prayer and praise\, and celebrate Holy Communion.
URL:https://www.lcsavior.org/event/sunday-morning-worship-800-am/2025-09-07/
LOCATION:Lutheran Church of the Savior\, 426 Davis Rd.\, Bedford\, MA\, 01730\, United States
CATEGORIES:Worship
ATTACH;FMTTYPE=image/jpeg:https://www.lcsavior.org/wp-content/uploads/2020/08/cherry-tree-cross.jpg
END:VEVENT
BEGIN:VEVENT
DTSTART;TZID=America/New_York:20250831T090000
DTEND;TZID=America/New_York:20250831T100000
DTSTAMP:20260425T082214
CREATED:20250830T191350Z
LAST-MODIFIED:20250830T191352Z
UID:10001933-1756630800-1756634400@www.lcsavior.org
SUMMARY:Sunday Morning Worship
DESCRIPTION:Join us in-person or online each Sunday at 9:00 AM as we come together to hear from God’s word\, join in prayer and praise\, and celebrate Holy Communion. \nClick here to join the livestream \nClick here to download the worship bulletin to follow along
URL:https://www.lcsavior.org/event/worship-summer-2025-13/
LOCATION:Lutheran Church of the Savior\, 426 Davis Rd.\, Bedford\, MA\, 01730\, United States
CATEGORIES:streaming,Worship
ATTACH;FMTTYPE=image/png:https://www.lcsavior.org/wp-content/uploads/2025/06/Slide1-Custom-11.png
END:VEVENT
BEGIN:VEVENT
DTSTART;TZID=America/New_York:20250824T090000
DTEND;TZID=America/New_York:20250824T100000
DTSTAMP:20260425T082214
CREATED:20250823T222642Z
LAST-MODIFIED:20250823T222644Z
UID:10001932-1756026000-1756029600@www.lcsavior.org
SUMMARY:Sunday Morning Worship
DESCRIPTION:Join us in-person or online each Sunday at 9:00 AM as we come together to hear from God’s word\, join in prayer and praise\, and celebrate Holy Communion. \nClick here to join the livestream \nClick here to download the worship bulletin to follow along
URL:https://www.lcsavior.org/event/worship-summer-2025-12/
LOCATION:Lutheran Church of the Savior\, 426 Davis Rd.\, Bedford\, MA\, 01730\, United States
CATEGORIES:streaming,Worship
ATTACH;FMTTYPE=image/png:https://www.lcsavior.org/wp-content/uploads/2025/06/Slide1-Custom-10.png
END:VEVENT
BEGIN:VEVENT
DTSTART;TZID=America/New_York:20250817T090000
DTEND;TZID=America/New_York:20250817T100000
DTSTAMP:20260425T082214
CREATED:20250817T014959Z
LAST-MODIFIED:20250817T015004Z
UID:10001931-1755421200-1755424800@www.lcsavior.org
SUMMARY:Sunday Morning Worship
DESCRIPTION:Join us in-person or online each Sunday at 9:00 AM as we come together to hear from God’s word\, join in prayer and praise\, and celebrate Holy Communion. \nClick here to join the livestream \nClick here to download the worship bulletin to follow along
URL:https://www.lcsavior.org/event/worship-summer-2025-11/
LOCATION:Lutheran Church of the Savior\, 426 Davis Rd.\, Bedford\, MA\, 01730\, United States
CATEGORIES:streaming,Worship
ATTACH;FMTTYPE=image/png:https://www.lcsavior.org/wp-content/uploads/2025/06/Slide1-Custom-9.png
END:VEVENT
BEGIN:VEVENT
DTSTART;TZID=America/New_York:20250810T090000
DTEND;TZID=America/New_York:20250810T100000
DTSTAMP:20260425T082214
CREATED:20250809T231550Z
LAST-MODIFIED:20250809T231552Z
UID:10001930-1754816400-1754820000@www.lcsavior.org
SUMMARY:Sunday Morning Worship
DESCRIPTION:Join us in-person or online each Sunday at 9:00 AM as we come together to hear from God’s word\, join in prayer and praise\, and celebrate Holy Communion. \nClick here to join the livestream \nClick here to download the worship bulletin to follow along
URL:https://www.lcsavior.org/event/worship-summer-2025-10/
LOCATION:Lutheran Church of the Savior\, 426 Davis Rd.\, Bedford\, MA\, 01730\, United States
CATEGORIES:streaming,Worship
ATTACH;FMTTYPE=image/png:https://www.lcsavior.org/wp-content/uploads/2025/06/Slide1-Custom-8.png
END:VEVENT
BEGIN:VEVENT
DTSTART;TZID=America/New_York:20250803T090000
DTEND;TZID=America/New_York:20250803T100000
DTSTAMP:20260425T082214
CREATED:20250802T164627Z
LAST-MODIFIED:20250802T164649Z
UID:10001929-1754211600-1754215200@www.lcsavior.org
SUMMARY:Sunday Morning Worship
DESCRIPTION:Join us in-person or online each Sunday at 9:00 AM as we come together to hear from God’s word\, join in prayer and praise\, and celebrate Holy Communion. \nClick here to join the livestream \n 
URL:https://www.lcsavior.org/event/worship-summer-2025-9/
LOCATION:Lutheran Church of the Savior\, 426 Davis Rd.\, Bedford\, MA\, 01730\, United States
CATEGORIES:streaming,Worship
ATTACH;FMTTYPE=image/png:https://www.lcsavior.org/wp-content/uploads/2025/06/Slide1-Custom-7.png
END:VEVENT
END:VCALENDAR