BEGIN:VCALENDAR
VERSION:2.0
PRODID:-//Lutheran Church of the Savior - ECPv6.15.20//NONSGML v1.0//EN
CALSCALE:GREGORIAN
METHOD:PUBLISH
X-ORIGINAL-URL:https://www.lcsavior.org
X-WR-CALDESC:Events for Lutheran Church of the Savior
REFRESH-INTERVAL;VALUE=DURATION:PT1H
X-Robots-Tag:noindex
X-PUBLISHED-TTL:PT1H
BEGIN:VTIMEZONE
TZID:America/New_York
BEGIN:DAYLIGHT
TZOFFSETFROM:-0500
TZOFFSETTO:-0400
TZNAME:EDT
DTSTART:20220313T070000
END:DAYLIGHT
BEGIN:STANDARD
TZOFFSETFROM:-0400
TZOFFSETTO:-0500
TZNAME:EST
DTSTART:20221106T060000
END:STANDARD
BEGIN:DAYLIGHT
TZOFFSETFROM:-0500
TZOFFSETTO:-0400
TZNAME:EDT
DTSTART:20230312T070000
END:DAYLIGHT
BEGIN:STANDARD
TZOFFSETFROM:-0400
TZOFFSETTO:-0500
TZNAME:EST
DTSTART:20231105T060000
END:STANDARD
BEGIN:DAYLIGHT
TZOFFSETFROM:-0500
TZOFFSETTO:-0400
TZNAME:EDT
DTSTART:20240310T070000
END:DAYLIGHT
BEGIN:STANDARD
TZOFFSETFROM:-0400
TZOFFSETTO:-0500
TZNAME:EST
DTSTART:20241103T060000
END:STANDARD
BEGIN:DAYLIGHT
TZOFFSETFROM:-0500
TZOFFSETTO:-0400
TZNAME:EDT
DTSTART:20250309T070000
END:DAYLIGHT
BEGIN:STANDARD
TZOFFSETFROM:-0400
TZOFFSETTO:-0500
TZNAME:EST
DTSTART:20251102T060000
END:STANDARD
END:VTIMEZONE
BEGIN:VEVENT
DTSTART;TZID=America/New_York:20240218T104500
DTEND;TZID=America/New_York:20240218T114500
DTSTAMP:20260425T221330
CREATED:20240217T155744Z
LAST-MODIFIED:20240217T155746Z
UID:10001638-1708253100-1708256700@www.lcsavior.org
SUMMARY:Worship Service - Late
DESCRIPTION:Join us in-person or online each Sunday at 10:45 AM as we come together to hear from God’s word\, join in prayer and praise\, and celebrate Holy Communion. \nClick here to join the livestream. \nClick here for the worship bulletin to follow along
URL:https://www.lcsavior.org/event/late-service-7/
LOCATION:Lutheran Church of the Savior\, 426 Davis Rd.\, Bedford\, MA\, 01730\, United States
CATEGORIES:streaming,Worship
ATTACH;FMTTYPE=image/png:https://www.lcsavior.org/wp-content/uploads/2024/01/Slide1-Custom-5.png
END:VEVENT
BEGIN:VEVENT
DTSTART;TZID=America/New_York:20240218T080000
DTEND;TZID=America/New_York:20240218T090000
DTSTAMP:20260425T221330
CREATED:20240113T174744Z
LAST-MODIFIED:20240113T174746Z
UID:10001613-1708243200-1708246800@www.lcsavior.org
SUMMARY:Worship Service - Early
DESCRIPTION:Join us in-person each Sunday at 8:00 AM as we come together to hear from God’s word\, join in prayer and praise\, and celebrate Holy Communion. This service is liturgical in form with hymns led by our organist.
URL:https://www.lcsavior.org/event/early-service/2024-02-18/
LOCATION:Lutheran Church of the Savior\, 426 Davis Rd.\, Bedford\, MA\, 01730\, United States
CATEGORIES:Worship
ATTACH;FMTTYPE=image/jpeg:https://www.lcsavior.org/wp-content/uploads/2020/08/cherry-tree-cross.jpg
END:VEVENT
BEGIN:VEVENT
DTSTART;TZID=America/New_York:20240214T190000
DTEND;TZID=America/New_York:20240214T200000
DTSTAMP:20260425T221330
CREATED:20240214T004721Z
LAST-MODIFIED:20240214T235728Z
UID:10001685-1707937200-1707940800@www.lcsavior.org
SUMMARY:Ash Wednesday
DESCRIPTION:All are welcome as we begin the season of Lent with our Ash Wednesday Service at 7:00 PM on Wednesday\, February 14th. From ancient times\, the season of Lent has been kept as a time of special devotion\, self-denial\, and humble repentance born of a faithful heart that dwells confidently on His Word and draws from it life and hope. Join us for a time of reflection\, repentance\, and anticipation of the new life we live in Christ. \nClick here to join the livestream \nClick here to download the worship bulletin to follow along
URL:https://www.lcsavior.org/event/ash-wednesday-2/
LOCATION:Lutheran Church of the Savior\, 426 Davis Rd.\, Bedford\, MA\, 01730\, United States
CATEGORIES:streaming,Worship
ATTACH;FMTTYPE=image/png:https://www.lcsavior.org/wp-content/uploads/2024/02/Slide1-Custom.png
END:VEVENT
BEGIN:VEVENT
DTSTART;TZID=America/New_York:20240211T104500
DTEND;TZID=America/New_York:20240211T114500
DTSTAMP:20260425T221330
CREATED:20240210T215125Z
LAST-MODIFIED:20240210T215127Z
UID:10001637-1707648300-1707651900@www.lcsavior.org
SUMMARY:Worship Service - Late
DESCRIPTION:Join us in-person or online each Sunday at 10:45 AM as we come together to hear from God’s word\, join in prayer and praise\, and celebrate Holy Communion. \nClick here to join the livestream \nClick here to download the worship bulletin to follow along
URL:https://www.lcsavior.org/event/late-service-6/
LOCATION:Lutheran Church of the Savior\, 426 Davis Rd.\, Bedford\, MA\, 01730\, United States
CATEGORIES:streaming,Worship
ATTACH;FMTTYPE=image/png:https://www.lcsavior.org/wp-content/uploads/2024/01/Slide1-Custom-4.png
END:VEVENT
BEGIN:VEVENT
DTSTART;TZID=America/New_York:20240211T080000
DTEND;TZID=America/New_York:20240211T090000
DTSTAMP:20260425T221330
CREATED:20240113T174744Z
LAST-MODIFIED:20240113T174746Z
UID:10001612-1707638400-1707642000@www.lcsavior.org
SUMMARY:Worship Service - Early
DESCRIPTION:Join us in-person each Sunday at 8:00 AM as we come together to hear from God’s word\, join in prayer and praise\, and celebrate Holy Communion. This service is liturgical in form with hymns led by our organist.
URL:https://www.lcsavior.org/event/early-service/2024-02-11/
LOCATION:Lutheran Church of the Savior\, 426 Davis Rd.\, Bedford\, MA\, 01730\, United States
CATEGORIES:Worship
ATTACH;FMTTYPE=image/jpeg:https://www.lcsavior.org/wp-content/uploads/2020/08/cherry-tree-cross.jpg
END:VEVENT
BEGIN:VEVENT
DTSTART;TZID=America/New_York:20240204T104500
DTEND;TZID=America/New_York:20240204T114500
DTSTAMP:20260425T221330
CREATED:20240203T154229Z
LAST-MODIFIED:20240203T154231Z
UID:10001636-1707043500-1707047100@www.lcsavior.org
SUMMARY:Worship Service - Late
DESCRIPTION:Join us in-person or online each Sunday at 10:45 AM as we come together to hear from God’s word\, join in prayer and praise\, and celebrate Holy Communion. \nClick here to join the livestream \n 
URL:https://www.lcsavior.org/event/late-service-5/
LOCATION:Lutheran Church of the Savior\, 426 Davis Rd.\, Bedford\, MA\, 01730\, United States
CATEGORIES:streaming,Worship
ATTACH;FMTTYPE=image/png:https://www.lcsavior.org/wp-content/uploads/2024/01/Slide1-Custom-3.png
END:VEVENT
BEGIN:VEVENT
DTSTART;TZID=America/New_York:20240204T080000
DTEND;TZID=America/New_York:20240204T090000
DTSTAMP:20260425T221330
CREATED:20240113T174744Z
LAST-MODIFIED:20240113T174746Z
UID:10001611-1707033600-1707037200@www.lcsavior.org
SUMMARY:Worship Service - Early
DESCRIPTION:Join us in-person each Sunday at 8:00 AM as we come together to hear from God’s word\, join in prayer and praise\, and celebrate Holy Communion. This service is liturgical in form with hymns led by our organist.
URL:https://www.lcsavior.org/event/early-service/2024-02-04/
LOCATION:Lutheran Church of the Savior\, 426 Davis Rd.\, Bedford\, MA\, 01730\, United States
CATEGORIES:Worship
ATTACH;FMTTYPE=image/jpeg:https://www.lcsavior.org/wp-content/uploads/2020/08/cherry-tree-cross.jpg
END:VEVENT
BEGIN:VEVENT
DTSTART;TZID=America/New_York:20240128T104500
DTEND;TZID=America/New_York:20240128T114500
DTSTAMP:20260425T221330
CREATED:20240128T010115Z
LAST-MODIFIED:20240128T010117Z
UID:10001635-1706438700-1706442300@www.lcsavior.org
SUMMARY:Worship Service - Late
DESCRIPTION:Join us in-person or online each Sunday at 10:45 AM as we come together to hear from God’s word\, join in prayer and praise\, and celebrate Holy Communion. \nClick here to join the livestream. \nClick here for the worship bulletin to follow along
URL:https://www.lcsavior.org/event/late-service-4/
LOCATION:Lutheran Church of the Savior\, 426 Davis Rd.\, Bedford\, MA\, 01730\, United States
CATEGORIES:streaming,Worship
ATTACH;FMTTYPE=image/png:https://www.lcsavior.org/wp-content/uploads/2024/01/Slide1-Custom-2.png
END:VEVENT
BEGIN:VEVENT
DTSTART;TZID=America/New_York:20240128T080000
DTEND;TZID=America/New_York:20240128T090000
DTSTAMP:20260425T221330
CREATED:20240113T174744Z
LAST-MODIFIED:20240113T174746Z
UID:10001610-1706428800-1706432400@www.lcsavior.org
SUMMARY:Worship Service - Early
DESCRIPTION:Join us in-person each Sunday at 8:00 AM as we come together to hear from God’s word\, join in prayer and praise\, and celebrate Holy Communion. This service is liturgical in form with hymns led by our organist.
URL:https://www.lcsavior.org/event/early-service/2024-01-28/
LOCATION:Lutheran Church of the Savior\, 426 Davis Rd.\, Bedford\, MA\, 01730\, United States
CATEGORIES:Worship
ATTACH;FMTTYPE=image/jpeg:https://www.lcsavior.org/wp-content/uploads/2020/08/cherry-tree-cross.jpg
END:VEVENT
BEGIN:VEVENT
DTSTART;TZID=America/New_York:20240121T104500
DTEND;TZID=America/New_York:20240121T114500
DTSTAMP:20260425T221330
CREATED:20240120T182626Z
LAST-MODIFIED:20240120T182628Z
UID:10001634-1705833900-1705837500@www.lcsavior.org
SUMMARY:Worship Service - Late
DESCRIPTION:Join us in-person or online each Sunday at 10:45 AM as we come together to hear from God’s word\, join in prayer and praise\, and celebrate Holy Communion. \nClick here for the livestream \nClick here for the worship bulletin to follow along
URL:https://www.lcsavior.org/event/late-service-3/
LOCATION:Lutheran Church of the Savior\, 426 Davis Rd.\, Bedford\, MA\, 01730\, United States
CATEGORIES:streaming,Worship
ATTACH;FMTTYPE=image/png:https://www.lcsavior.org/wp-content/uploads/2024/01/Slide1-Custom-1.png
END:VEVENT
BEGIN:VEVENT
DTSTART;TZID=America/New_York:20240121T080000
DTEND;TZID=America/New_York:20240121T090000
DTSTAMP:20260425T221330
CREATED:20240113T174744Z
LAST-MODIFIED:20240113T174746Z
UID:10001609-1705824000-1705827600@www.lcsavior.org
SUMMARY:Worship Service - Early
DESCRIPTION:Join us in-person each Sunday at 8:00 AM as we come together to hear from God’s word\, join in prayer and praise\, and celebrate Holy Communion. This service is liturgical in form with hymns led by our organist.
URL:https://www.lcsavior.org/event/early-service/2024-01-21/
LOCATION:Lutheran Church of the Savior\, 426 Davis Rd.\, Bedford\, MA\, 01730\, United States
CATEGORIES:Worship
ATTACH;FMTTYPE=image/jpeg:https://www.lcsavior.org/wp-content/uploads/2020/08/cherry-tree-cross.jpg
END:VEVENT
BEGIN:VEVENT
DTSTART;TZID=America/New_York:20240114T104500
DTEND;TZID=America/New_York:20240114T114500
DTSTAMP:20260425T221330
CREATED:20240113T180419Z
LAST-MODIFIED:20240113T180420Z
UID:10001633-1705229100-1705232700@www.lcsavior.org
SUMMARY:Worship Service - Late
DESCRIPTION:Join us in-person or online each Sunday at 10:45 AM as we come together to hear from God’s word\, join in prayer and praise\, and celebrate Holy Communion. \nClick here to join the livestream \nClick here for the worship bulletin to follow along
URL:https://www.lcsavior.org/event/late-service-2/
LOCATION:Lutheran Church of the Savior\, 426 Davis Rd.\, Bedford\, MA\, 01730\, United States
CATEGORIES:streaming,Worship
ATTACH;FMTTYPE=image/png:https://www.lcsavior.org/wp-content/uploads/2024/01/Slide1-Custom.png
END:VEVENT
BEGIN:VEVENT
DTSTART;TZID=America/New_York:20240114T080000
DTEND;TZID=America/New_York:20240114T090000
DTSTAMP:20260425T221330
CREATED:20240113T174744Z
LAST-MODIFIED:20240113T174746Z
UID:10001608-1705219200-1705222800@www.lcsavior.org
SUMMARY:Worship Service - Early
DESCRIPTION:Join us in-person each Sunday at 8:00 AM as we come together to hear from God’s word\, join in prayer and praise\, and celebrate Holy Communion. This service is liturgical in form with hymns led by our organist.
URL:https://www.lcsavior.org/event/early-service/2024-01-14/
LOCATION:Lutheran Church of the Savior\, 426 Davis Rd.\, Bedford\, MA\, 01730\, United States
CATEGORIES:Worship
ATTACH;FMTTYPE=image/jpeg:https://www.lcsavior.org/wp-content/uploads/2020/08/cherry-tree-cross.jpg
END:VEVENT
BEGIN:VEVENT
DTSTART;TZID=America/New_York:20231231T190000
DTEND;TZID=America/New_York:20231231T200000
DTSTAMP:20260425T221330
CREATED:20231218T021511Z
LAST-MODIFIED:20231218T021511Z
UID:10001607-1704049200-1704052800@www.lcsavior.org
SUMMARY:New Year's Eve Service - 7:00 PM
DESCRIPTION:As we come to the close of the year and look forward to the new year ahead\, we remember God’s blessings on our lives and ask for His continued favor on the coming year. All are welcome for an evening of reflection\, remembrance\, celebration\, and prayer.
URL:https://www.lcsavior.org/event/new-years-eve-service-700-pm/
LOCATION:Lutheran Church of the Savior\, 426 Davis Rd.\, Bedford\, MA\, 01730\, United States
CATEGORIES:streaming,Worship
ATTACH;FMTTYPE=image/jpeg:https://www.lcsavior.org/wp-content/uploads/2022/12/christmas_star_shutterstock_66189505-Featured-Image-WP.jpg
END:VEVENT
BEGIN:VEVENT
DTSTART;TZID=America/New_York:20231231T090000
DTEND;TZID=America/New_York:20231231T100000
DTSTAMP:20260425T221330
CREATED:20231218T021110Z
LAST-MODIFIED:20231230T155751Z
UID:10001601-1704013200-1704016800@www.lcsavior.org
SUMMARY:Sunday Morning Worship - 9:00 AM
DESCRIPTION:Join us in-person or online this Sunday at 9:00 AM as we come together to hear from God’s word\, join in prayer and praise\, and continue the celebration of Christmas. \nClick here to join the livestream. \nClick here for the worship bulletin to follow along
URL:https://www.lcsavior.org/event/sunday-morning-worship-18/
LOCATION:Lutheran Church of the Savior\, 426 Davis Rd.\, Bedford\, MA\, 01730\, United States
CATEGORIES:streaming,Worship
ATTACH;FMTTYPE=image/png:https://www.lcsavior.org/wp-content/uploads/2023/12/Slide1-Custom-2.png
END:VEVENT
BEGIN:VEVENT
DTSTART;TZID=America/New_York:20231225T090000
DTEND;TZID=America/New_York:20231225T100000
DTSTAMP:20260425T221330
CREATED:20231209T200250Z
LAST-MODIFIED:20231224T021320Z
UID:10001606-1703494800-1703498400@www.lcsavior.org
SUMMARY:Christmas Day - 9 AM
DESCRIPTION:He’s finally here! Today\, we celebrate the birth of the savior of all mankind\, Jesus Christ. All are welcome for a traditional service of celebration and carols as we celebrate the day that God came to Earth. \nClick here to join the livestream \nClick here to download the bulletin to follow along
URL:https://www.lcsavior.org/event/christmas-day-9-am/
LOCATION:Lutheran Church of the Savior\, 426 Davis Rd.\, Bedford\, MA\, 01730\, United States
CATEGORIES:streaming,Worship
ATTACH;FMTTYPE=image/jpeg:https://www.lcsavior.org/wp-content/uploads/2022/12/christmas_star_shutterstock_66189505-Featured-Image-WP.jpg
END:VEVENT
BEGIN:VEVENT
DTSTART;TZID=America/New_York:20231224T190000
DTEND;TZID=America/New_York:20231224T200000
DTSTAMP:20260425T221330
CREATED:20231209T195920Z
LAST-MODIFIED:20231223T220230Z
UID:10001605-1703444400-1703448000@www.lcsavior.org
SUMMARY:Christmas Eve Service - 7PM
DESCRIPTION:O Come\, O Come\, Emmanuel! Join us for a traditional Christmas Eve worship service at 7:00 PM. Jesus has come\, and He will come again! \nClick here to join the livestream. \nClick here for the worship bulletin to follow along
URL:https://www.lcsavior.org/event/christmas-eve-service-7pm/
LOCATION:Lutheran Church of the Savior\, 426 Davis Rd.\, Bedford\, MA\, 01730\, United States
CATEGORIES:streaming,Worship
ATTACH;FMTTYPE=image/png:https://www.lcsavior.org/wp-content/uploads/2022/12/Slide1-Featured-Image-WP.png
END:VEVENT
BEGIN:VEVENT
DTSTART;TZID=America/New_York:20231224T090000
DTEND;TZID=America/New_York:20231224T100000
DTSTAMP:20260425T221330
CREATED:20231218T020816Z
LAST-MODIFIED:20231223T154627Z
UID:10001600-1703408400-1703412000@www.lcsavior.org
SUMMARY:Sunday Morning Worship - 9:00 AM
DESCRIPTION:Join us in-person or online this Sunday at 9:00 AM as we come together to hear from God’s word\, join in prayer and praise\, and celebrate Holy Communion. \nClick here to join the livestream \nClick here for the worship bulletin to follow along
URL:https://www.lcsavior.org/event/sunday-morning-worship-1045-am-17/
LOCATION:Lutheran Church of the Savior\, 426 Davis Rd.\, Bedford\, MA\, 01730\, United States
CATEGORIES:streaming,Worship
ATTACH;FMTTYPE=image/png:https://www.lcsavior.org/wp-content/uploads/2023/12/Slide1-Custom-1.png
END:VEVENT
BEGIN:VEVENT
DTSTART;TZID=America/New_York:20231220T190000
DTEND;TZID=America/New_York:20231220T200000
DTSTAMP:20260425T221330
CREATED:20231220T020135Z
LAST-MODIFIED:20231220T020138Z
UID:10001604-1703098800-1703102400@www.lcsavior.org
SUMMARY:Midweek Advent Service
DESCRIPTION:All are welcome as we gather together in Advent worship to prepare our hearts and our souls for Jesus. \nClick here to join the livestream. \nClick here for the worship bulletin to follow along
URL:https://www.lcsavior.org/event/midweek-advent-service-3-4/
LOCATION:Lutheran Church of the Savior\, 426 Davis Rd.\, Bedford\, MA\, 01730\, United States
CATEGORIES:streaming,Worship
ATTACH;FMTTYPE=image/png:https://www.lcsavior.org/wp-content/uploads/2023/12/Slide1-Custom.png
END:VEVENT
BEGIN:VEVENT
DTSTART;TZID=America/New_York:20231217T104500
DTEND;TZID=America/New_York:20231217T114500
DTSTAMP:20260425T221330
CREATED:20231216T171711Z
LAST-MODIFIED:20231216T171713Z
UID:10001599-1702809900-1702813500@www.lcsavior.org
SUMMARY:Sunday Morning Worship - 10:45 AM
DESCRIPTION:Join us in-person or online each Sunday at 10:45 AM as we come together to hear from God’s word\, join in prayer and praise\, and celebrate Holy Communion. \nClick here to join the livestream
URL:https://www.lcsavior.org/event/sunday-morning-worship-1045-am-16/
LOCATION:Lutheran Church of the Savior\, 426 Davis Rd.\, Bedford\, MA\, 01730\, United States
CATEGORIES:streaming,Worship
ATTACH;FMTTYPE=image/png:https://www.lcsavior.org/wp-content/uploads/2023/09/Slide1-Custom-14.png
END:VEVENT
BEGIN:VEVENT
DTSTART;TZID=America/New_York:20231217T080000
DTEND;TZID=America/New_York:20231217T090000
DTSTAMP:20260425T221330
CREATED:20230909T121039Z
LAST-MODIFIED:20230909T122714Z
UID:10001513-1702800000-1702803600@www.lcsavior.org
SUMMARY:Sunday Morning Worship - 8:00 AM
DESCRIPTION:Join us in-person each Sunday at 8:00 AM as we come together to hear from God’s word\, join in prayer and praise\, and celebrate Holy Communion. This service is liturgical in form with hymns led by our organist.
URL:https://www.lcsavior.org/event/early-service-2023/2023-12-17/
LOCATION:Lutheran Church of the Savior\, 426 Davis Rd.\, Bedford\, MA\, 01730\, United States
CATEGORIES:Worship
ATTACH;FMTTYPE=image/jpeg:https://www.lcsavior.org/wp-content/uploads/2020/08/cherry-tree-cross.jpg
END:VEVENT
BEGIN:VEVENT
DTSTART;TZID=America/New_York:20231213T190000
DTEND;TZID=America/New_York:20231213T200000
DTSTAMP:20260425T221330
CREATED:20231213T234352Z
LAST-MODIFIED:20231213T234354Z
UID:10001603-1702494000-1702497600@www.lcsavior.org
SUMMARY:Midweek Advent Service
DESCRIPTION:All are welcome as we gather together in Advent worship to prepare our hearts and our souls for Jesus. \nClick here to join the livestream. \nClick here to download the worship bulletin to follow along
URL:https://www.lcsavior.org/event/midweek-advent-service-3-3/
LOCATION:Lutheran Church of the Savior\, 426 Davis Rd.\, Bedford\, MA\, 01730\, United States
CATEGORIES:streaming,Worship
ATTACH;FMTTYPE=image/png:https://www.lcsavior.org/wp-content/uploads/2023/12/Slide1-Custom.png
END:VEVENT
BEGIN:VEVENT
DTSTART;TZID=America/New_York:20231210T104500
DTEND;TZID=America/New_York:20231210T114500
DTSTAMP:20260425T221331
CREATED:20231209T195548Z
LAST-MODIFIED:20231209T195550Z
UID:10001598-1702205100-1702208700@www.lcsavior.org
SUMMARY:Sunday Morning Worship - 10:45 AM
DESCRIPTION:Join us in-person or online each Sunday at 10:45 AM as we come together to hear from God’s word\, join in prayer and praise\, and celebrate Holy Communion. \nClick here to join the livestream \nClick here for the worship bulletin to follow along
URL:https://www.lcsavior.org/event/sunday-morning-worship-1045-am-15/
LOCATION:Lutheran Church of the Savior\, 426 Davis Rd.\, Bedford\, MA\, 01730\, United States
CATEGORIES:streaming,Worship
ATTACH;FMTTYPE=image/png:https://www.lcsavior.org/wp-content/uploads/2023/09/Slide1-Custom-13.png
END:VEVENT
BEGIN:VEVENT
DTSTART;TZID=America/New_York:20231210T080000
DTEND;TZID=America/New_York:20231210T090000
DTSTAMP:20260425T221331
CREATED:20230909T121039Z
LAST-MODIFIED:20230909T122714Z
UID:10001512-1702195200-1702198800@www.lcsavior.org
SUMMARY:Sunday Morning Worship - 8:00 AM
DESCRIPTION:Join us in-person each Sunday at 8:00 AM as we come together to hear from God’s word\, join in prayer and praise\, and celebrate Holy Communion. This service is liturgical in form with hymns led by our organist.
URL:https://www.lcsavior.org/event/early-service-2023/2023-12-10/
LOCATION:Lutheran Church of the Savior\, 426 Davis Rd.\, Bedford\, MA\, 01730\, United States
CATEGORIES:Worship
ATTACH;FMTTYPE=image/jpeg:https://www.lcsavior.org/wp-content/uploads/2020/08/cherry-tree-cross.jpg
END:VEVENT
BEGIN:VEVENT
DTSTART;TZID=America/New_York:20231206T190000
DTEND;TZID=America/New_York:20231206T200000
DTSTAMP:20260425T221331
CREATED:20231206T235552Z
LAST-MODIFIED:20231206T235554Z
UID:10001602-1701889200-1701892800@www.lcsavior.org
SUMMARY:Midweek Advent Service
DESCRIPTION:All are welcome as we gather together in Advent worship to prepare our hearts and our souls for Jesus. \nClick here to join the livestream. \nClick here to download the worship bulletin to follow along
URL:https://www.lcsavior.org/event/midweek-advent-service-3-2/
LOCATION:Lutheran Church of the Savior\, 426 Davis Rd.\, Bedford\, MA\, 01730\, United States
CATEGORIES:streaming,Worship
ATTACH;FMTTYPE=image/png:https://www.lcsavior.org/wp-content/uploads/2023/12/Slide1-Custom.png
END:VEVENT
BEGIN:VEVENT
DTSTART;TZID=America/New_York:20231203T104500
DTEND;TZID=America/New_York:20231203T114500
DTSTAMP:20260425T221331
CREATED:20231203T024743Z
LAST-MODIFIED:20231203T024745Z
UID:10001597-1701600300-1701603900@www.lcsavior.org
SUMMARY:Sunday Morning Worship - 10:45 AM
DESCRIPTION:Join us in-person or online each Sunday at 10:45 AM as we come together to hear from God’s word\, join in prayer and praise\, and celebrate Holy Communion. \nClick here to join the livestream \nClick here for the worship bulletin to follow along \n 
URL:https://www.lcsavior.org/event/sunday-morning-worship-1045-am-14/
LOCATION:Lutheran Church of the Savior\, 426 Davis Rd.\, Bedford\, MA\, 01730\, United States
CATEGORIES:streaming,Worship
ATTACH;FMTTYPE=image/png:https://www.lcsavior.org/wp-content/uploads/2023/09/Slide1-Custom-12.png
END:VEVENT
BEGIN:VEVENT
DTSTART;TZID=America/New_York:20231203T080000
DTEND;TZID=America/New_York:20231203T090000
DTSTAMP:20260425T221331
CREATED:20230909T121039Z
LAST-MODIFIED:20230909T122714Z
UID:10001511-1701590400-1701594000@www.lcsavior.org
SUMMARY:Sunday Morning Worship - 8:00 AM
DESCRIPTION:Join us in-person each Sunday at 8:00 AM as we come together to hear from God’s word\, join in prayer and praise\, and celebrate Holy Communion. This service is liturgical in form with hymns led by our organist.
URL:https://www.lcsavior.org/event/early-service-2023/2023-12-03/
LOCATION:Lutheran Church of the Savior\, 426 Davis Rd.\, Bedford\, MA\, 01730\, United States
CATEGORIES:Worship
ATTACH;FMTTYPE=image/jpeg:https://www.lcsavior.org/wp-content/uploads/2020/08/cherry-tree-cross.jpg
END:VEVENT
BEGIN:VEVENT
DTSTART;TZID=America/New_York:20231126T104500
DTEND;TZID=America/New_York:20231126T114500
DTSTAMP:20260425T221331
CREATED:20231125T181655Z
LAST-MODIFIED:20231125T181657Z
UID:10001596-1700995500-1700999100@www.lcsavior.org
SUMMARY:Sunday Morning Worship - 10:45 AM
DESCRIPTION:Join us in-person or online each Sunday at 10:45 AM as we come together to hear from God’s word\, join in prayer and praise\, and celebrate our life together in Christ. \nClick here to join the livestream. \nClick here for the worship bulletin to follow along \n 
URL:https://www.lcsavior.org/event/sunday-morning-worship-1045-am-13/
LOCATION:Lutheran Church of the Savior\, 426 Davis Rd.\, Bedford\, MA\, 01730\, United States
CATEGORIES:streaming,Worship
ATTACH;FMTTYPE=image/png:https://www.lcsavior.org/wp-content/uploads/2023/09/Slide1-Custom-11.png
END:VEVENT
BEGIN:VEVENT
DTSTART;TZID=America/New_York:20231126T080000
DTEND;TZID=America/New_York:20231126T090000
DTSTAMP:20260425T221331
CREATED:20230909T121039Z
LAST-MODIFIED:20230909T122714Z
UID:10001510-1700985600-1700989200@www.lcsavior.org
SUMMARY:Sunday Morning Worship - 8:00 AM
DESCRIPTION:Join us in-person each Sunday at 8:00 AM as we come together to hear from God’s word\, join in prayer and praise\, and celebrate Holy Communion. This service is liturgical in form with hymns led by our organist.
URL:https://www.lcsavior.org/event/early-service-2023/2023-11-26/
LOCATION:Lutheran Church of the Savior\, 426 Davis Rd.\, Bedford\, MA\, 01730\, United States
CATEGORIES:Worship
ATTACH;FMTTYPE=image/jpeg:https://www.lcsavior.org/wp-content/uploads/2020/08/cherry-tree-cross.jpg
END:VEVENT
BEGIN:VEVENT
DTSTART;TZID=America/New_York:20231119T104500
DTEND;TZID=America/New_York:20231119T114500
DTSTAMP:20260425T221331
CREATED:20231118T154553Z
LAST-MODIFIED:20231119T154316Z
UID:10001595-1700390700-1700394300@www.lcsavior.org
SUMMARY:Sunday Morning Worship - 10:45 AM
DESCRIPTION:Join us in-person or online each Sunday at 10:45 AM as we come together to hear from God’s word\, join in prayer and praise\, and celebrate Holy Communion. \nClick here to join the livestream. \nClick here to download the worship bulletin to follow along
URL:https://www.lcsavior.org/event/sunday-morning-worship-1045-am-12/
LOCATION:Lutheran Church of the Savior\, 426 Davis Rd.\, Bedford\, MA\, 01730\, United States
CATEGORIES:streaming,Worship
ATTACH;FMTTYPE=image/png:https://www.lcsavior.org/wp-content/uploads/2023/09/Slide1-Custom-10.png
END:VEVENT
END:VCALENDAR