BEGIN:VCALENDAR
VERSION:2.0
PRODID:-//Lutheran Church of the Savior - ECPv6.15.20//NONSGML v1.0//EN
CALSCALE:GREGORIAN
METHOD:PUBLISH
X-WR-CALNAME:Lutheran Church of the Savior
X-ORIGINAL-URL:https://www.lcsavior.org
X-WR-CALDESC:Events for Lutheran Church of the Savior
REFRESH-INTERVAL;VALUE=DURATION:PT1H
X-Robots-Tag:noindex
X-PUBLISHED-TTL:PT1H
BEGIN:VTIMEZONE
TZID:America/New_York
BEGIN:DAYLIGHT
TZOFFSETFROM:-0500
TZOFFSETTO:-0400
TZNAME:EDT
DTSTART:20230312T070000
END:DAYLIGHT
BEGIN:STANDARD
TZOFFSETFROM:-0400
TZOFFSETTO:-0500
TZNAME:EST
DTSTART:20231105T060000
END:STANDARD
BEGIN:DAYLIGHT
TZOFFSETFROM:-0500
TZOFFSETTO:-0400
TZNAME:EDT
DTSTART:20240310T070000
END:DAYLIGHT
BEGIN:STANDARD
TZOFFSETFROM:-0400
TZOFFSETTO:-0500
TZNAME:EST
DTSTART:20241103T060000
END:STANDARD
BEGIN:DAYLIGHT
TZOFFSETFROM:-0500
TZOFFSETTO:-0400
TZNAME:EDT
DTSTART:20250309T070000
END:DAYLIGHT
BEGIN:STANDARD
TZOFFSETFROM:-0400
TZOFFSETTO:-0500
TZNAME:EST
DTSTART:20251102T060000
END:STANDARD
END:VTIMEZONE
BEGIN:VEVENT
DTSTART;TZID=America/New_York:20240526T104500
DTEND;TZID=America/New_York:20240526T114500
DTSTAMP:20260425T182930
CREATED:20240526T000412Z
LAST-MODIFIED:20240526T000414Z
UID:10001652-1716720300-1716723900@www.lcsavior.org
SUMMARY:Worship Service - Late
DESCRIPTION:Join us in-person or online each Sunday at 10:45 AM as we come together to hear from God’s word\, join in prayer and praise\, and celebrate Holy Communion. This week\, we celebrate the mystery of the Trinity — God in three persons\, but one substance. If you’ve never heard the Athanasian Creed\, this is your chance! \nClick here to join the livestream \nClick here for the worship bulletin to follow along
URL:https://www.lcsavior.org/event/late-service-20/
LOCATION:Lutheran Church of the Savior\, 426 Davis Rd.\, Bedford\, MA\, 01730\, United States
CATEGORIES:streaming,Worship
ATTACH;FMTTYPE=image/png:https://www.lcsavior.org/wp-content/uploads/2024/01/Slide1-Custom-16.png
END:VEVENT
BEGIN:VEVENT
DTSTART;TZID=America/New_York:20240526T080000
DTEND;TZID=America/New_York:20240526T090000
DTSTAMP:20260425T182930
CREATED:20240316T155209Z
LAST-MODIFIED:20240316T155212Z
UID:10001627-1716710400-1716714000@www.lcsavior.org
SUMMARY:Worship Service - Early
DESCRIPTION:Join us in-person each Sunday at 8:00 AM as we come together to hear from God’s word\, join in prayer and praise\, and celebrate Holy Communion. This service is liturgical in form with hymns led by our organist.
URL:https://www.lcsavior.org/event/early-service-2/2024-05-26/
LOCATION:Lutheran Church of the Savior\, 426 Davis Rd.\, Bedford\, MA\, 01730\, United States
CATEGORIES:Worship
ATTACH;FMTTYPE=image/jpeg:https://www.lcsavior.org/wp-content/uploads/2020/08/cherry-tree-cross.jpg
END:VEVENT
BEGIN:VEVENT
DTSTART;TZID=America/New_York:20240519T104500
DTEND;TZID=America/New_York:20240519T114500
DTSTAMP:20260425T182930
CREATED:20240518T150434Z
LAST-MODIFIED:20240518T194922Z
UID:10001651-1716115500-1716119100@www.lcsavior.org
SUMMARY:Worship Service - Late
DESCRIPTION:Join us in-person or online each Sunday at 10:45 AM as we come together to hear from God’s word\, join in prayer and praise\, and celebrate Holy Communion. \nClick here to join the livestream \nClick here to download the worship bulletin to follow along
URL:https://www.lcsavior.org/event/late-service-19/
LOCATION:Lutheran Church of the Savior\, 426 Davis Rd.\, Bedford\, MA\, 01730\, United States
CATEGORIES:streaming,Worship
ATTACH;FMTTYPE=image/png:https://www.lcsavior.org/wp-content/uploads/2024/01/Slide1-Custom-15.png
END:VEVENT
BEGIN:VEVENT
DTSTART;TZID=America/New_York:20240519T080000
DTEND;TZID=America/New_York:20240519T090000
DTSTAMP:20260425T182930
CREATED:20240316T155209Z
LAST-MODIFIED:20240316T155212Z
UID:10001626-1716105600-1716109200@www.lcsavior.org
SUMMARY:Worship Service - Early
DESCRIPTION:Join us in-person each Sunday at 8:00 AM as we come together to hear from God’s word\, join in prayer and praise\, and celebrate Holy Communion. This service is liturgical in form with hymns led by our organist.
URL:https://www.lcsavior.org/event/early-service-2/2024-05-19/
LOCATION:Lutheran Church of the Savior\, 426 Davis Rd.\, Bedford\, MA\, 01730\, United States
CATEGORIES:Worship
ATTACH;FMTTYPE=image/jpeg:https://www.lcsavior.org/wp-content/uploads/2020/08/cherry-tree-cross.jpg
END:VEVENT
BEGIN:VEVENT
DTSTART;TZID=America/New_York:20240512T104500
DTEND;TZID=America/New_York:20240512T114500
DTSTAMP:20260425T182930
CREATED:20240511T181856Z
LAST-MODIFIED:20240511T181858Z
UID:10001650-1715510700-1715514300@www.lcsavior.org
SUMMARY:Worship Service - Late
DESCRIPTION:Join us in-person or online each Sunday at 10:45 AM as we come together to hear from God’s word\, join in prayer and praise\, and celebrate Holy Communion. \nClick here to join the livestream \nClick here to download the worship bulletin to follow along
URL:https://www.lcsavior.org/event/late-service-18/
LOCATION:Lutheran Church of the Savior\, 426 Davis Rd.\, Bedford\, MA\, 01730\, United States
CATEGORIES:streaming,Worship
ATTACH;FMTTYPE=image/png:https://www.lcsavior.org/wp-content/uploads/2024/01/Slide1-Custom-14.png
END:VEVENT
BEGIN:VEVENT
DTSTART;TZID=America/New_York:20240512T080000
DTEND;TZID=America/New_York:20240512T090000
DTSTAMP:20260425T182930
CREATED:20240316T155209Z
LAST-MODIFIED:20240316T155212Z
UID:10001625-1715500800-1715504400@www.lcsavior.org
SUMMARY:Worship Service - Early
DESCRIPTION:Join us in-person each Sunday at 8:00 AM as we come together to hear from God’s word\, join in prayer and praise\, and celebrate Holy Communion. This service is liturgical in form with hymns led by our organist.
URL:https://www.lcsavior.org/event/early-service-2/2024-05-12/
LOCATION:Lutheran Church of the Savior\, 426 Davis Rd.\, Bedford\, MA\, 01730\, United States
CATEGORIES:Worship
ATTACH;FMTTYPE=image/jpeg:https://www.lcsavior.org/wp-content/uploads/2020/08/cherry-tree-cross.jpg
END:VEVENT
BEGIN:VEVENT
DTSTART;TZID=America/New_York:20240505T104500
DTEND;TZID=America/New_York:20240505T114500
DTSTAMP:20260425T182930
CREATED:20240505T003435Z
LAST-MODIFIED:20240505T003437Z
UID:10001649-1714905900-1714909500@www.lcsavior.org
SUMMARY:Worship Service - Late
DESCRIPTION:Join us in-person or online each Sunday at 10:45 AM as we come together to hear from God’s word\, and join in prayer and praise. \nClick here to join the livestream \nClick here for the worship bulletin to follow along \n 
URL:https://www.lcsavior.org/event/late-service-17/
LOCATION:Lutheran Church of the Savior\, 426 Davis Rd.\, Bedford\, MA\, 01730\, United States
CATEGORIES:streaming,Worship
ATTACH;FMTTYPE=image/png:https://www.lcsavior.org/wp-content/uploads/2024/01/Slide1-Custom-13.png
END:VEVENT
BEGIN:VEVENT
DTSTART;TZID=America/New_York:20240505T080000
DTEND;TZID=America/New_York:20240505T090000
DTSTAMP:20260425T182930
CREATED:20240316T155209Z
LAST-MODIFIED:20240316T155212Z
UID:10001624-1714896000-1714899600@www.lcsavior.org
SUMMARY:Worship Service - Early
DESCRIPTION:Join us in-person each Sunday at 8:00 AM as we come together to hear from God’s word\, join in prayer and praise\, and celebrate Holy Communion. This service is liturgical in form with hymns led by our organist.
URL:https://www.lcsavior.org/event/early-service-2/2024-05-05/
LOCATION:Lutheran Church of the Savior\, 426 Davis Rd.\, Bedford\, MA\, 01730\, United States
CATEGORIES:Worship
ATTACH;FMTTYPE=image/jpeg:https://www.lcsavior.org/wp-content/uploads/2020/08/cherry-tree-cross.jpg
END:VEVENT
BEGIN:VEVENT
DTSTART;TZID=America/New_York:20240428T104500
DTEND;TZID=America/New_York:20240428T114500
DTSTAMP:20260425T182930
CREATED:20240427T145012Z
LAST-MODIFIED:20240427T145015Z
UID:10001648-1714301100-1714304700@www.lcsavior.org
SUMMARY:Worship Service - Late
DESCRIPTION:Join us in-person or online each Sunday at 10:45 AM as we come together to hear from God’s word and join in prayer and praise. \nClick here to join the livestream \nClick here to download the worship bulletin to follow along
URL:https://www.lcsavior.org/event/late-service-16/
LOCATION:Lutheran Church of the Savior\, 426 Davis Rd.\, Bedford\, MA\, 01730\, United States
CATEGORIES:streaming,Worship
ATTACH;FMTTYPE=image/png:https://www.lcsavior.org/wp-content/uploads/2024/01/Slide1-Custom-12.png
END:VEVENT
BEGIN:VEVENT
DTSTART;TZID=America/New_York:20240428T080000
DTEND;TZID=America/New_York:20240428T090000
DTSTAMP:20260425T182930
CREATED:20240316T155209Z
LAST-MODIFIED:20240316T155212Z
UID:10001623-1714291200-1714294800@www.lcsavior.org
SUMMARY:Worship Service - Early
DESCRIPTION:Join us in-person each Sunday at 8:00 AM as we come together to hear from God’s word\, join in prayer and praise\, and celebrate Holy Communion. This service is liturgical in form with hymns led by our organist.
URL:https://www.lcsavior.org/event/early-service-2/2024-04-28/
LOCATION:Lutheran Church of the Savior\, 426 Davis Rd.\, Bedford\, MA\, 01730\, United States
CATEGORIES:Worship
ATTACH;FMTTYPE=image/jpeg:https://www.lcsavior.org/wp-content/uploads/2020/08/cherry-tree-cross.jpg
END:VEVENT
BEGIN:VEVENT
DTSTART;TZID=America/New_York:20240421T104500
DTEND;TZID=America/New_York:20240421T114500
DTSTAMP:20260425T182930
CREATED:20240420T151844Z
LAST-MODIFIED:20240420T151845Z
UID:10001647-1713696300-1713699900@www.lcsavior.org
SUMMARY:Worship Service - Late
DESCRIPTION:Join us in-person or online each Sunday at 10:45 AM as we come together to hear from God’s word\, join in prayer and praise\, and celebrate Holy Communion. \nClick here to join the livestream \nClick here to download the worship bulletin to follow along
URL:https://www.lcsavior.org/event/late-service-15/
LOCATION:Lutheran Church of the Savior\, 426 Davis Rd.\, Bedford\, MA\, 01730\, United States
CATEGORIES:streaming,Worship
ATTACH;FMTTYPE=image/png:https://www.lcsavior.org/wp-content/uploads/2024/01/Slide1-Custom-11.png
END:VEVENT
BEGIN:VEVENT
DTSTART;TZID=America/New_York:20240421T080000
DTEND;TZID=America/New_York:20240421T090000
DTSTAMP:20260425T182930
CREATED:20240316T155209Z
LAST-MODIFIED:20240316T155212Z
UID:10001622-1713686400-1713690000@www.lcsavior.org
SUMMARY:Worship Service - Early
DESCRIPTION:Join us in-person each Sunday at 8:00 AM as we come together to hear from God’s word\, join in prayer and praise\, and celebrate Holy Communion. This service is liturgical in form with hymns led by our organist.
URL:https://www.lcsavior.org/event/early-service-2/2024-04-21/
LOCATION:Lutheran Church of the Savior\, 426 Davis Rd.\, Bedford\, MA\, 01730\, United States
CATEGORIES:Worship
ATTACH;FMTTYPE=image/jpeg:https://www.lcsavior.org/wp-content/uploads/2020/08/cherry-tree-cross.jpg
END:VEVENT
BEGIN:VEVENT
DTSTART;TZID=America/New_York:20240414T104500
DTEND;TZID=America/New_York:20240414T114500
DTSTAMP:20260425T182930
CREATED:20240414T011931Z
LAST-MODIFIED:20240414T011933Z
UID:10001646-1713091500-1713095100@www.lcsavior.org
SUMMARY:Worship Service - Late
DESCRIPTION:Join us in-person or online each Sunday at 10:45 AM as we come together to hear from God’s word\, join in prayer and praise\, and celebrate Holy Communion. \nClick here to join the livestream \nClick here to download the worship bulletin to follow along
URL:https://www.lcsavior.org/event/late-service-14/
LOCATION:Lutheran Church of the Savior\, 426 Davis Rd.\, Bedford\, MA\, 01730\, United States
CATEGORIES:streaming,Worship
ATTACH;FMTTYPE=image/png:https://www.lcsavior.org/wp-content/uploads/2024/01/Slide1-Custom-10.png
END:VEVENT
BEGIN:VEVENT
DTSTART;TZID=America/New_York:20240414T080000
DTEND;TZID=America/New_York:20240414T090000
DTSTAMP:20260425T182930
CREATED:20240316T155209Z
LAST-MODIFIED:20240316T155212Z
UID:10001621-1713081600-1713085200@www.lcsavior.org
SUMMARY:Worship Service - Early
DESCRIPTION:Join us in-person each Sunday at 8:00 AM as we come together to hear from God’s word\, join in prayer and praise\, and celebrate Holy Communion. This service is liturgical in form with hymns led by our organist.
URL:https://www.lcsavior.org/event/early-service-2/2024-04-14/
LOCATION:Lutheran Church of the Savior\, 426 Davis Rd.\, Bedford\, MA\, 01730\, United States
CATEGORIES:Worship
ATTACH;FMTTYPE=image/jpeg:https://www.lcsavior.org/wp-content/uploads/2020/08/cherry-tree-cross.jpg
END:VEVENT
BEGIN:VEVENT
DTSTART;TZID=America/New_York:20240407T104500
DTEND;TZID=America/New_York:20240407T114500
DTSTAMP:20260425T182930
CREATED:20240406T190824Z
LAST-MODIFIED:20240406T190845Z
UID:10001645-1712486700-1712490300@www.lcsavior.org
SUMMARY:Worship Service - Late
DESCRIPTION:Join us in-person or online each Sunday at 10:45 AM as we come together to hear from God’s word\, join in prayer and praise\, and celebrate Holy Communion. \nClick here to join the livestream \nClick here to download the worship bulletin to follow along
URL:https://www.lcsavior.org/event/late-service-13/
LOCATION:Lutheran Church of the Savior\, 426 Davis Rd.\, Bedford\, MA\, 01730\, United States
CATEGORIES:streaming,Worship
ATTACH;FMTTYPE=image/png:https://www.lcsavior.org/wp-content/uploads/2022/04/Slide1-Featured-Image-WP-2.png
END:VEVENT
BEGIN:VEVENT
DTSTART;TZID=America/New_York:20240407T080000
DTEND;TZID=America/New_York:20240407T090000
DTSTAMP:20260425T182930
CREATED:20240316T155209Z
LAST-MODIFIED:20240316T155212Z
UID:10001620-1712476800-1712480400@www.lcsavior.org
SUMMARY:Worship Service - Early
DESCRIPTION:Join us in-person each Sunday at 8:00 AM as we come together to hear from God’s word\, join in prayer and praise\, and celebrate Holy Communion. This service is liturgical in form with hymns led by our organist.
URL:https://www.lcsavior.org/event/early-service-2/2024-04-07/
LOCATION:Lutheran Church of the Savior\, 426 Davis Rd.\, Bedford\, MA\, 01730\, United States
CATEGORIES:Worship
ATTACH;FMTTYPE=image/jpeg:https://www.lcsavior.org/wp-content/uploads/2020/08/cherry-tree-cross.jpg
END:VEVENT
BEGIN:VEVENT
DTSTART;TZID=America/New_York:20240331T104500
DTEND;TZID=America/New_York:20240331T120000
DTSTAMP:20260425T182930
CREATED:20240316T155008Z
LAST-MODIFIED:20240330T171906Z
UID:10001696-1711881900-1711886400@www.lcsavior.org
SUMMARY:Easter Service - 10:45 AM
DESCRIPTION:He is risen! All are welcome to join us for a celebration of the resurrection of our Lord and our new life in Him! \nClick here to join the livestream \nClick here for the worship bulletin to follow along
URL:https://www.lcsavior.org/event/easter-service-1045-am/
LOCATION:Lutheran Church of the Savior\, 426 Davis Rd.\, Bedford\, MA\, 01730\, United States
CATEGORIES:streaming,Worship
ATTACH;FMTTYPE=image/png:https://www.lcsavior.org/wp-content/uploads/2022/04/Slide1-Featured-Image-WP-2.png
END:VEVENT
BEGIN:VEVENT
DTSTART;TZID=America/New_York:20240331T080000
DTEND;TZID=America/New_York:20240331T090000
DTSTAMP:20260425T182930
CREATED:20240316T154912Z
LAST-MODIFIED:20240330T171627Z
UID:10001695-1711872000-1711875600@www.lcsavior.org
SUMMARY:Easter Service - 8 AM
DESCRIPTION:He is risen! Come join us for a celebration of the resurrection of our Lord and our new life in Him! \nClick here to join the livestream \nClick here for the worship bulletin to follow along
URL:https://www.lcsavior.org/event/easter-service-8-am/
LOCATION:Lutheran Church of the Savior\, 426 Davis Rd.\, Bedford\, MA\, 01730\, United States
CATEGORIES:streaming,Worship
ATTACH;FMTTYPE=image/png:https://www.lcsavior.org/wp-content/uploads/2022/04/Slide1-Featured-Image-WP-2.png
END:VEVENT
BEGIN:VEVENT
DTSTART;TZID=America/New_York:20240331T060000
DTEND;TZID=America/New_York:20240331T070000
DTSTAMP:20260425T182930
CREATED:20240316T154811Z
LAST-MODIFIED:20240316T154811Z
UID:10001694-1711864800-1711868400@www.lcsavior.org
SUMMARY:Easter Sunrise Service
DESCRIPTION:
URL:https://www.lcsavior.org/event/easter-sunrise-service-3/
LOCATION:Lutheran Church of the Savior\, 426 Davis Rd.\, Bedford\, MA\, 01730\, United States
CATEGORIES:Worship
ATTACH;FMTTYPE=image/png:https://www.lcsavior.org/wp-content/uploads/2022/04/Slide1-Featured-Image-WP-2.png
END:VEVENT
BEGIN:VEVENT
DTSTART;TZID=America/New_York:20240329T190000
DTEND;TZID=America/New_York:20240329T200000
DTSTAMP:20260425T182930
CREATED:20240316T154530Z
LAST-MODIFIED:20240328T004605Z
UID:10001693-1711738800-1711742400@www.lcsavior.org
SUMMARY:Good Friday Service
DESCRIPTION:On Good Friday\, the drama and the tragedy of Lent comes to a head: Jesus Christ\, the Son of God\, is condemned and dies the death we deserve\, all out of love for us\, His broken children. All are welcome for our solemn commemoration of this great sacrifice. \nClick here to join the livestream \nClick here for the worship bulletin to follow along
URL:https://www.lcsavior.org/event/good-friday-service-2/
LOCATION:Lutheran Church of the Savior\, 426 Davis Rd.\, Bedford\, MA\, 01730\, United States
CATEGORIES:streaming,Worship
ATTACH;FMTTYPE=image/png:https://www.lcsavior.org/wp-content/uploads/2022/04/Slide1-Featured-Image-WP-4.png
END:VEVENT
BEGIN:VEVENT
DTSTART;TZID=America/New_York:20240328T190000
DTEND;TZID=America/New_York:20240328T200000
DTSTAMP:20260425T182930
CREATED:20240316T154432Z
LAST-MODIFIED:20240328T003850Z
UID:10001692-1711652400-1711656000@www.lcsavior.org
SUMMARY:Maundy Thursday Service
DESCRIPTION:Maundy Thursday is a time for celebrating The Last Supper. As part of this celebration\, Jesus gives us a new commandment\, which is where the name “Maundy” comes from. The Latin word “Mandatum” (“commandment”) focuses us on what Jesus said: “I give you a new commandment; that you love one another.” \nAt the conclusion of this service\, the altar is stripped of any ornamentation and crosses are removed or veiled to mark the humiliation of the Christ and the solemnity of our Lenten vigil. \nClick here to join the livestream \nClick here for the worship bulletin to follow along
URL:https://www.lcsavior.org/event/maundy-thursday-service/
LOCATION:Lutheran Church of the Savior\, 426 Davis Rd.\, Bedford\, MA\, 01730\, United States
CATEGORIES:streaming,Worship
ATTACH;FMTTYPE=image/png:https://www.lcsavior.org/wp-content/uploads/2022/04/Slide1-Featured-Image-WP-3.png
END:VEVENT
BEGIN:VEVENT
DTSTART;TZID=America/New_York:20240324T104500
DTEND;TZID=America/New_York:20240324T114500
DTSTAMP:20260425T182930
CREATED:20240322T224401Z
LAST-MODIFIED:20240322T224403Z
UID:10001643-1711277100-1711280700@www.lcsavior.org
SUMMARY:Worship Service - Late
DESCRIPTION:Join us in-person or online each Sunday at 10:45 AM as we come together to hear from God’s word\, join in prayer and praise\, and celebrate Holy Communion. \nClick here to join the livestream \nClick here for the worship bulletin to follow along
URL:https://www.lcsavior.org/event/late-service-12/
LOCATION:Lutheran Church of the Savior\, 426 Davis Rd.\, Bedford\, MA\, 01730\, United States
CATEGORIES:streaming,Worship
ATTACH;FMTTYPE=image/png:https://www.lcsavior.org/wp-content/uploads/2022/01/Slide1-Featured-Image-WP-12.png
END:VEVENT
BEGIN:VEVENT
DTSTART;TZID=America/New_York:20240324T080000
DTEND;TZID=America/New_York:20240324T090000
DTSTAMP:20260425T182930
CREATED:20240316T155209Z
LAST-MODIFIED:20240316T155212Z
UID:10001618-1711267200-1711270800@www.lcsavior.org
SUMMARY:Worship Service - Early
DESCRIPTION:Join us in-person each Sunday at 8:00 AM as we come together to hear from God’s word\, join in prayer and praise\, and celebrate Holy Communion. This service is liturgical in form with hymns led by our organist.
URL:https://www.lcsavior.org/event/early-service-2/2024-03-24/
LOCATION:Lutheran Church of the Savior\, 426 Davis Rd.\, Bedford\, MA\, 01730\, United States
CATEGORIES:Worship
ATTACH;FMTTYPE=image/jpeg:https://www.lcsavior.org/wp-content/uploads/2020/08/cherry-tree-cross.jpg
END:VEVENT
BEGIN:VEVENT
DTSTART;TZID=America/New_York:20240320T190000
DTEND;TZID=America/New_York:20240320T200000
DTSTAMP:20260425T182930
CREATED:20240320T020730Z
LAST-MODIFIED:20240320T225732Z
UID:10001690-1710961200-1710964800@www.lcsavior.org
SUMMARY:Midweek Lenten Service
DESCRIPTION:Join us each Wednesday during Lent for a midweek worship service at 7:00 PM\, with a soup supper at 6:00 PM. \nFrom ancient times the season of Lent has been kept as a time of special devotion\, self-denial\, and humble repentance born of a faithful heart that dwells confidently on His Word and draws from it life and hope. Join us for a time of reflection\, repentance\, and anticipation of the new life we live in Christ. \nClick here to join the livestream \nClick here to download the worship bulletin to follow along
URL:https://www.lcsavior.org/event/midweek-lenten-service-8-6/
LOCATION:Lutheran Church of the Savior\, 426 Davis Rd.\, Bedford\, MA\, 01730\, United States
CATEGORIES:streaming,Worship
ATTACH;FMTTYPE=image/jpeg:https://www.lcsavior.org/wp-content/uploads/2022/02/lent_16_9_shutterstock_1335314198-Featured-Image-WP.jpg
END:VEVENT
BEGIN:VEVENT
DTSTART;TZID=America/New_York:20240317T104500
DTEND;TZID=America/New_York:20240317T114500
DTSTAMP:20260425T182930
CREATED:20240316T153952Z
LAST-MODIFIED:20240316T153954Z
UID:10001642-1710672300-1710675900@www.lcsavior.org
SUMMARY:Worship Service - Late
DESCRIPTION:Join us in-person or online each Sunday at 10:45 AM as we come together to hear from God’s word\, join in prayer and praise\, and celebrate Holy Communion. \nClick here to join the livestream \nClick here for the worship bulletin to follow along
URL:https://www.lcsavior.org/event/late-service-11/
LOCATION:Lutheran Church of the Savior\, 426 Davis Rd.\, Bedford\, MA\, 01730\, United States
CATEGORIES:streaming,Worship
ATTACH;FMTTYPE=image/png:https://www.lcsavior.org/wp-content/uploads/2024/01/Slide1-Custom-9.png
END:VEVENT
BEGIN:VEVENT
DTSTART;TZID=America/New_York:20240317T080000
DTEND;TZID=America/New_York:20240317T090000
DTSTAMP:20260425T182930
CREATED:20240316T155209Z
LAST-MODIFIED:20240316T155212Z
UID:10001617-1710662400-1710666000@www.lcsavior.org
SUMMARY:Worship Service - Early
DESCRIPTION:Join us in-person each Sunday at 8:00 AM as we come together to hear from God’s word\, join in prayer and praise\, and celebrate Holy Communion. This service is liturgical in form with hymns led by our organist.
URL:https://www.lcsavior.org/event/early-service-2/2024-03-17/
LOCATION:Lutheran Church of the Savior\, 426 Davis Rd.\, Bedford\, MA\, 01730\, United States
CATEGORIES:Worship
ATTACH;FMTTYPE=image/jpeg:https://www.lcsavior.org/wp-content/uploads/2020/08/cherry-tree-cross.jpg
END:VEVENT
BEGIN:VEVENT
DTSTART;TZID=America/New_York:20240313T190000
DTEND;TZID=America/New_York:20240313T200000
DTSTAMP:20260425T182930
CREATED:20240312T233034Z
LAST-MODIFIED:20240312T233036Z
UID:10001689-1710356400-1710360000@www.lcsavior.org
SUMMARY:Midweek Lenten Service
DESCRIPTION:Join us each Wednesday during Lent for a midweek worship service at 7:00 PM\, with a soup supper at 6:00 PM. \nFrom ancient times the season of Lent has been kept as a time of special devotion\, self-denial\, and humble repentance born of a faithful heart that dwells confidently on His Word and draws from it life and hope. Join us for a time of reflection\, repentance\, and anticipation of the new life we live in Christ. \nClick here to join the livestream \nClick here for the worship bulletin to follow along
URL:https://www.lcsavior.org/event/midweek-lenten-service-8-5/
LOCATION:Lutheran Church of the Savior\, 426 Davis Rd.\, Bedford\, MA\, 01730\, United States
CATEGORIES:streaming,Worship
ATTACH;FMTTYPE=image/jpeg:https://www.lcsavior.org/wp-content/uploads/2022/02/lent_16_9_shutterstock_1335314198-Featured-Image-WP.jpg
END:VEVENT
BEGIN:VEVENT
DTSTART;TZID=America/New_York:20240310T104500
DTEND;TZID=America/New_York:20240310T114500
DTSTAMP:20260425T182930
CREATED:20240309T204221Z
LAST-MODIFIED:20240309T204223Z
UID:10001641-1710067500-1710071100@www.lcsavior.org
SUMMARY:Worship Service - Late
DESCRIPTION:Join us in-person or online each Sunday at 10:45 AM as we come together to hear from God’s word\, join in prayer and praise\, and celebrate Holy Communion. \nClick here to join the livestream \nClick here for the worship bulletin to follow along
URL:https://www.lcsavior.org/event/late-service-10/
LOCATION:Lutheran Church of the Savior\, 426 Davis Rd.\, Bedford\, MA\, 01730\, United States
CATEGORIES:streaming,Worship
ATTACH;FMTTYPE=image/png:https://www.lcsavior.org/wp-content/uploads/2024/01/Slide1-Custom-8.png
END:VEVENT
BEGIN:VEVENT
DTSTART;TZID=America/New_York:20240310T080000
DTEND;TZID=America/New_York:20240310T090000
DTSTAMP:20260425T182930
CREATED:20240113T174744Z
LAST-MODIFIED:20240113T174746Z
UID:10001616-1710057600-1710061200@www.lcsavior.org
SUMMARY:Worship Service - Early
DESCRIPTION:Join us in-person each Sunday at 8:00 AM as we come together to hear from God’s word\, join in prayer and praise\, and celebrate Holy Communion. This service is liturgical in form with hymns led by our organist.
URL:https://www.lcsavior.org/event/early-service/2024-03-10/
LOCATION:Lutheran Church of the Savior\, 426 Davis Rd.\, Bedford\, MA\, 01730\, United States
CATEGORIES:Worship
ATTACH;FMTTYPE=image/jpeg:https://www.lcsavior.org/wp-content/uploads/2020/08/cherry-tree-cross.jpg
END:VEVENT
BEGIN:VEVENT
DTSTART;TZID=America/New_York:20240306T190000
DTEND;TZID=America/New_York:20240306T200000
DTSTAMP:20260425T182930
CREATED:20240306T025133Z
LAST-MODIFIED:20240306T025135Z
UID:10001688-1709751600-1709755200@www.lcsavior.org
SUMMARY:Midweek Lenten Service
DESCRIPTION:Join us each Wednesday during Lent for a midweek worship service at 7:00 PM\, with a soup supper at 6:00 PM. \nFrom ancient times the season of Lent has been kept as a time of special devotion\, self-denial\, and humble repentance born of a faithful heart that dwells confidently on His Word and draws from it life and hope. Join us for a time of reflection\, repentance\, and anticipation of the new life we live in Christ. \nClick here to join the livestream \nClick here for the worship bulletin to follow along
URL:https://www.lcsavior.org/event/midweek-lenten-service-8-4/
LOCATION:Lutheran Church of the Savior\, 426 Davis Rd.\, Bedford\, MA\, 01730\, United States
CATEGORIES:streaming,Worship
ATTACH;FMTTYPE=image/jpeg:https://www.lcsavior.org/wp-content/uploads/2022/02/lent_16_9_shutterstock_1335314198-Featured-Image-WP.jpg
END:VEVENT
END:VCALENDAR