BEGIN:VCALENDAR
VERSION:2.0
PRODID:-//Lutheran Church of the Savior - ECPv6.15.20//NONSGML v1.0//EN
CALSCALE:GREGORIAN
METHOD:PUBLISH
X-WR-CALNAME:Lutheran Church of the Savior
X-ORIGINAL-URL:https://www.lcsavior.org
X-WR-CALDESC:Events for Lutheran Church of the Savior
REFRESH-INTERVAL;VALUE=DURATION:PT1H
X-Robots-Tag:noindex
X-PUBLISHED-TTL:PT1H
BEGIN:VTIMEZONE
TZID:America/New_York
BEGIN:DAYLIGHT
TZOFFSETFROM:-0500
TZOFFSETTO:-0400
TZNAME:EDT
DTSTART:20230312T070000
END:DAYLIGHT
BEGIN:STANDARD
TZOFFSETFROM:-0400
TZOFFSETTO:-0500
TZNAME:EST
DTSTART:20231105T060000
END:STANDARD
BEGIN:DAYLIGHT
TZOFFSETFROM:-0500
TZOFFSETTO:-0400
TZNAME:EDT
DTSTART:20240310T070000
END:DAYLIGHT
BEGIN:STANDARD
TZOFFSETFROM:-0400
TZOFFSETTO:-0500
TZNAME:EST
DTSTART:20241103T060000
END:STANDARD
BEGIN:DAYLIGHT
TZOFFSETFROM:-0500
TZOFFSETTO:-0400
TZNAME:EDT
DTSTART:20250309T070000
END:DAYLIGHT
BEGIN:STANDARD
TZOFFSETFROM:-0400
TZOFFSETTO:-0500
TZNAME:EST
DTSTART:20251102T060000
END:STANDARD
END:VTIMEZONE
BEGIN:VEVENT
DTSTART;TZID=America/New_York:20241229T090000
DTEND;TZID=America/New_York:20241229T100000
DTSTAMP:20260424T234814
CREATED:20241224T191312Z
LAST-MODIFIED:20241228T233611Z
UID:10001792-1735462800-1735466400@www.lcsavior.org
SUMMARY:Sunday Morning Worship - 9:00 AM
DESCRIPTION:Join us this Sunday for a combined worship service at 9:00 AM\, as we continue the Christmas celebration! \nClick here to join the livestream \nClick here to download the worship bulletin to follow along
URL:https://www.lcsavior.org/event/sunday-worship-late-2024-18/
LOCATION:Lutheran Church of the Savior\, 426 Davis Rd.\, Bedford\, MA\, 01730\, United States
CATEGORIES:streaming,Worship
ATTACH;FMTTYPE=image/png:https://www.lcsavior.org/wp-content/uploads/2024/12/Slide1-Custom.png
END:VEVENT
BEGIN:VEVENT
DTSTART;TZID=America/New_York:20241225T090000
DTEND;TZID=America/New_York:20241225T100000
DTSTAMP:20260424T234814
CREATED:20241123T174708Z
LAST-MODIFIED:20241225T021901Z
UID:10001824-1735117200-1735120800@www.lcsavior.org
SUMMARY:Christmas Day Worship - 9AM
DESCRIPTION:“The Word became flesh and dwelt among us.” (John 1:14) The king has come\, and it is time to celebrate! Join us for a time of praise and prayer as we celebrate Christmas together as a family of faith. \nClick here to join the livestream \nClick here to download the worship bulletin to follow along
URL:https://www.lcsavior.org/event/christmas-day-worship-9am/
LOCATION:Lutheran Church of the Savior\, 426 Davis Rd.\, Bedford\, MA\, 01730\, United States
CATEGORIES:Christmas,streaming,Worship
ATTACH;FMTTYPE=image/png:https://www.lcsavior.org/wp-content/uploads/2024/11/LCMS-Advent-Christmas-Media-Kit-Rejoice-Social-Media-Shareable-Christmas-Day-B-Custom.png
END:VEVENT
BEGIN:VEVENT
DTSTART;TZID=America/New_York:20241224T190000
DTEND;TZID=America/New_York:20241224T200000
DTSTAMP:20260424T234814
CREATED:20241123T174301Z
LAST-MODIFIED:20241224T162937Z
UID:10001823-1735066800-1735070400@www.lcsavior.org
SUMMARY:Christmas Eve Service - 7PM
DESCRIPTION:He’s almost here! The long awaited Messiah\, Jesus Christ\, is given for you. Join us at 7PM for our traditional candlelight Christmas Eve service\, either in person\, or online. \nClick here to join the livestream. \nClick here to download the worship bulletin to follow along
URL:https://www.lcsavior.org/event/christmas-eve-service-7pm-2/
LOCATION:Lutheran Church of the Savior\, 426 Davis Rd.\, Bedford\, MA\, 01730\, United States
CATEGORIES:Christmas,streaming,Worship
ATTACH;FMTTYPE=image/png:https://www.lcsavior.org/wp-content/uploads/2024/11/LCMS-Advent-Christmas-Media-Kit-Rejoice-Social-Media-Shareable-Christmas-Eve-C-Custom.png
END:VEVENT
BEGIN:VEVENT
DTSTART;TZID=America/New_York:20241222T104500
DTEND;TZID=America/New_York:20241222T120000
DTSTAMP:20260424T234814
CREATED:20241221T221035Z
LAST-MODIFIED:20241221T221037Z
UID:10001791-1734864300-1734868800@www.lcsavior.org
SUMMARY:Sunday Morning Worship - 10:45AM
DESCRIPTION:Join us in-person or online each Sunday at 10:45 AM as we come together to hear from God’s word\, join in prayer and praise\, and celebrate our life of faith together. \nClick here to join the livestream \nClick here to download the worship bulletin to follow along \n 
URL:https://www.lcsavior.org/event/sunday-worship-late-2024-17/
LOCATION:Lutheran Church of the Savior\, 426 Davis Rd.\, Bedford\, MA\, 01730\, United States
CATEGORIES:streaming,Worship
ATTACH;FMTTYPE=image/png:https://www.lcsavior.org/wp-content/uploads/2024/08/Slide1-Custom-14.png
END:VEVENT
BEGIN:VEVENT
DTSTART;TZID=America/New_York:20241218T190000
DTEND;TZID=America/New_York:20241218T200000
DTSTAMP:20260424T234814
CREATED:20241218T231207Z
LAST-MODIFIED:20241218T231209Z
UID:10001821-1734548400-1734552000@www.lcsavior.org
SUMMARY:Midweek Advent Service
DESCRIPTION:Since ancient times\, Christians have gathered during the season of Advent to worship\, pray\, and prepare their hearts for Christmas. We remember when Christ came as a baby\, but we look forward to when Christ will come again in glory. All are welcome to join us at 7PM during this season of preparation. \nClick here to join the livestream \nClick here to download the worship bulletin to follow along
URL:https://www.lcsavior.org/event/midweek-advent-service-4-4/
LOCATION:Lutheran Church of the Savior\, 426 Davis Rd.\, Bedford\, MA\, 01730\, United States
CATEGORIES:Christmas,streaming,Worship
ATTACH;FMTTYPE=image/png:https://www.lcsavior.org/wp-content/uploads/2023/12/Slide1-Custom.png
END:VEVENT
BEGIN:VEVENT
DTSTART;TZID=America/New_York:20241215T104500
DTEND;TZID=America/New_York:20241215T120000
DTSTAMP:20260424T234814
CREATED:20241214T175440Z
LAST-MODIFIED:20241214T175442Z
UID:10001790-1734259500-1734264000@www.lcsavior.org
SUMMARY:Sunday Morning Worship - 10:45AM
DESCRIPTION:Join us in-person or online each Sunday at 10:45 AM as we come together to hear from God’s word\, join in prayer and praise\, and celebrate Holy Communion. \nClick here to join the livestream \nClick here to download the worship bulletin to follow along
URL:https://www.lcsavior.org/event/sunday-worship-late-2024-16/
LOCATION:Lutheran Church of the Savior\, 426 Davis Rd.\, Bedford\, MA\, 01730\, United States
CATEGORIES:streaming,Worship
ATTACH;FMTTYPE=image/png:https://www.lcsavior.org/wp-content/uploads/2024/08/Slide1-Custom-13.png
END:VEVENT
BEGIN:VEVENT
DTSTART;TZID=America/New_York:20241211T190000
DTEND;TZID=America/New_York:20241211T200000
DTSTAMP:20260424T234814
CREATED:20241211T043848Z
LAST-MODIFIED:20241211T043850Z
UID:10001820-1733943600-1733947200@www.lcsavior.org
SUMMARY:Midweek Advent Service
DESCRIPTION:Since ancient times\, Christians have gathered during the season of Advent to worship\, pray\, and prepare their hearts for Christmas. We remember when Christ came as a baby\, but we look forward to when Christ will come again in glory. All are welcome to join us at 7PM during this season of preparation. \nClick here to join the livestream \nClick here to download the worship bulletin to follow along
URL:https://www.lcsavior.org/event/midweek-advent-service-4-3/
LOCATION:Lutheran Church of the Savior\, 426 Davis Rd.\, Bedford\, MA\, 01730\, United States
CATEGORIES:Christmas,streaming,Worship
ATTACH;FMTTYPE=image/png:https://www.lcsavior.org/wp-content/uploads/2023/12/Slide1-Custom.png
END:VEVENT
BEGIN:VEVENT
DTSTART;TZID=America/New_York:20241208T104500
DTEND;TZID=America/New_York:20241208T120000
DTSTAMP:20260424T234815
CREATED:20241208T000708Z
LAST-MODIFIED:20241208T000710Z
UID:10001789-1733654700-1733659200@www.lcsavior.org
SUMMARY:Sunday Morning Worship - 10:45AM
DESCRIPTION:Join us in-person or online each Sunday at 10:45 AM as we come together to hear from God’s word\, join in prayer and praise\, and celebrate our life of faith together. \nClick here to join the livestream \nClick here to download the worship bulletin to follow along
URL:https://www.lcsavior.org/event/sunday-worship-late-2024-15/
LOCATION:Lutheran Church of the Savior\, 426 Davis Rd.\, Bedford\, MA\, 01730\, United States
CATEGORIES:streaming,Worship
ATTACH;FMTTYPE=image/png:https://www.lcsavior.org/wp-content/uploads/2024/08/Slide1-Custom-12.png
END:VEVENT
BEGIN:VEVENT
DTSTART;TZID=America/New_York:20241204T190000
DTEND;TZID=America/New_York:20241204T200000
DTSTAMP:20260424T234815
CREATED:20241204T020452Z
LAST-MODIFIED:20241204T020454Z
UID:10001819-1733338800-1733342400@www.lcsavior.org
SUMMARY:Midweek Advent Service
DESCRIPTION:Since ancient times\, Christians have gathered during the season of Advent to worship\, pray\, and prepare their hearts for Christmas. We remember when Christ came as a baby\, but we look forward to when Christ will come again in glory. All are welcome to join us at 7PM during this season of preparation. \nClick here to join the livestream
URL:https://www.lcsavior.org/event/midweek-advent-service-4-2/
LOCATION:Lutheran Church of the Savior\, 426 Davis Rd.\, Bedford\, MA\, 01730\, United States
CATEGORIES:Christmas,streaming,Worship
ATTACH;FMTTYPE=image/png:https://www.lcsavior.org/wp-content/uploads/2023/12/Slide1-Custom.png
END:VEVENT
BEGIN:VEVENT
DTSTART;TZID=America/New_York:20241201T104500
DTEND;TZID=America/New_York:20241201T120000
DTSTAMP:20260424T234815
CREATED:20241130T185225Z
LAST-MODIFIED:20241130T185228Z
UID:10001788-1733049900-1733054400@www.lcsavior.org
SUMMARY:Sunday Morning Worship - 10:45AM
DESCRIPTION:Join us in-person or online each Sunday at 10:45 AM as we come together to hear from God’s word\, join in prayer and praise\, and celebrate Holy Communion. \nClick here to join the livestream \nClick here to download the worship bulletin to follow along
URL:https://www.lcsavior.org/event/sunday-worship-late-2024-14/
LOCATION:Lutheran Church of the Savior\, 426 Davis Rd.\, Bedford\, MA\, 01730\, United States
CATEGORIES:streaming,Worship
ATTACH;FMTTYPE=image/png:https://www.lcsavior.org/wp-content/uploads/2024/08/Slide1-Custom-11.png
END:VEVENT
BEGIN:VEVENT
DTSTART;TZID=America/New_York:20241124T104500
DTEND;TZID=America/New_York:20241124T120000
DTSTAMP:20260424T234815
CREATED:20241123T155732Z
LAST-MODIFIED:20241123T175756Z
UID:10001787-1732445100-1732449600@www.lcsavior.org
SUMMARY:Sunday Morning Worship - 10:45AM
DESCRIPTION:Join us in-person or online each Sunday at 10:45 AM as we come together to hear from God’s word\, join in prayer and praise\, and celebrate Holy Communion. \nClick here to join the livestream. \nClick here to download the worship bulletin to follow along
URL:https://www.lcsavior.org/event/sunday-worship-late-2024-13/
LOCATION:Lutheran Church of the Savior\, 426 Davis Rd.\, Bedford\, MA\, 01730\, United States
CATEGORIES:streaming,Worship
ATTACH;FMTTYPE=image/png:https://www.lcsavior.org/wp-content/uploads/2024/08/Slide1-Custom-10.png
END:VEVENT
BEGIN:VEVENT
DTSTART;TZID=America/New_York:20241117T104500
DTEND;TZID=America/New_York:20241117T120000
DTSTAMP:20260424T234815
CREATED:20241116T171034Z
LAST-MODIFIED:20241116T171326Z
UID:10001786-1731840300-1731844800@www.lcsavior.org
SUMMARY:Sunday Morning Worship - 10:45AM
DESCRIPTION:Join us in-person or online each Sunday at 10:45 AM as we come together to hear from God’s word\, join in prayer and praise\, and celebrate Holy Communion. \nClick here to join the livestream \nClick here to download the worship bulletin to follow along
URL:https://www.lcsavior.org/event/sunday-worship-late-2024-12/
LOCATION:Lutheran Church of the Savior\, 426 Davis Rd.\, Bedford\, MA\, 01730\, United States
CATEGORIES:streaming,Worship
ATTACH;FMTTYPE=image/png:https://www.lcsavior.org/wp-content/uploads/2024/08/Slide1-Custom-9.png
END:VEVENT
BEGIN:VEVENT
DTSTART;TZID=America/New_York:20241110T104500
DTEND;TZID=America/New_York:20241110T120000
DTSTAMP:20260424T234815
CREATED:20241109T182150Z
LAST-MODIFIED:20241109T182152Z
UID:10001785-1731235500-1731240000@www.lcsavior.org
SUMMARY:Sunday Morning Worship - 10:45AM
DESCRIPTION:Join us in-person or online each Sunday at 10:45 AM as we come together to hear from God’s word\, join in prayer and praise\, and celebrate Holy Communion. \nClick here to join the livestream \nClick here to download the worship bulletin to follow along
URL:https://www.lcsavior.org/event/sunday-worship-late-2024-11/
LOCATION:Lutheran Church of the Savior\, 426 Davis Rd.\, Bedford\, MA\, 01730\, United States
CATEGORIES:streaming,Worship
ATTACH;FMTTYPE=image/png:https://www.lcsavior.org/wp-content/uploads/2024/08/Slide1-Custom-8.png
END:VEVENT
BEGIN:VEVENT
DTSTART;TZID=America/New_York:20241103T104500
DTEND;TZID=America/New_York:20241103T120000
DTSTAMP:20260424T234815
CREATED:20241102T191957Z
LAST-MODIFIED:20241102T191959Z
UID:10001784-1730630700-1730635200@www.lcsavior.org
SUMMARY:Sunday Morning Worship - 10:45AM
DESCRIPTION:Join us in-person or online each Sunday at 10:45 AM as we come together to hear from God’s word\, join in prayer and praise\, and celebrate our life in faith together. This Sunday we remember our brothers and sisters in Christ who have preceded us into His presence in glory forever. We remember their example\, and look forward to joining them before God’s throne! \nClick here to join the livestream \nClick here to download the worship bulletin to follow along \n 
URL:https://www.lcsavior.org/event/sunday-worship-late-2024-10/
LOCATION:Lutheran Church of the Savior\, 426 Davis Rd.\, Bedford\, MA\, 01730\, United States
CATEGORIES:streaming,Worship
ATTACH;FMTTYPE=image/png:https://www.lcsavior.org/wp-content/uploads/2024/08/Slide1-Custom-7.png
END:VEVENT
BEGIN:VEVENT
DTSTART;TZID=America/New_York:20241027T104500
DTEND;TZID=America/New_York:20241027T120000
DTSTAMP:20260424T234815
CREATED:20241026T180446Z
LAST-MODIFIED:20241026T180448Z
UID:10001783-1730025900-1730030400@www.lcsavior.org
SUMMARY:Sunday Morning Worship - 10:45AM
DESCRIPTION:Join us in-person or online each Sunday at 10:45 AM as we come together to hear from God’s word\, join in prayer and praise\, and celebrate our life of faith together. \nThis Sunday we remember the work of the reformers who brought God’s word to His people and breathed new life back into the Church. We pray that God continues the work of reforming our hearts and our lives and our churches! \nClick here to join the livestream
URL:https://www.lcsavior.org/event/sunday-worship-late-2024-9/
LOCATION:Lutheran Church of the Savior\, 426 Davis Rd.\, Bedford\, MA\, 01730\, United States
CATEGORIES:streaming,Worship
ATTACH;FMTTYPE=image/png:https://www.lcsavior.org/wp-content/uploads/2024/08/Slide1-Custom-6.png
END:VEVENT
BEGIN:VEVENT
DTSTART;TZID=America/New_York:20241020T104500
DTEND;TZID=America/New_York:20241020T120000
DTSTAMP:20260424T234815
CREATED:20241019T233614Z
LAST-MODIFIED:20241019T233616Z
UID:10001782-1729421100-1729425600@www.lcsavior.org
SUMMARY:Sunday Morning Worship - 10:45AM
DESCRIPTION:Join us in-person or online each Sunday at 10:45 AM as we come together to hear from God’s word\, join in prayer and praise\, and celebrate Holy Communion. \nClick here to join the livestream \nClick here to download the worship bulletin to follow along
URL:https://www.lcsavior.org/event/sunday-worship-late-2024-8/
LOCATION:Lutheran Church of the Savior\, 426 Davis Rd.\, Bedford\, MA\, 01730\, United States
CATEGORIES:streaming,Worship
ATTACH;FMTTYPE=image/png:https://www.lcsavior.org/wp-content/uploads/2024/08/Slide1-Custom-5.png
END:VEVENT
BEGIN:VEVENT
DTSTART;TZID=America/New_York:20241013T104500
DTEND;TZID=America/New_York:20241013T120000
DTSTAMP:20260424T234815
CREATED:20241012T183318Z
LAST-MODIFIED:20241012T183320Z
UID:10001781-1728816300-1728820800@www.lcsavior.org
SUMMARY:Sunday Morning Worship - 10:45AM
DESCRIPTION:Join us in-person or online each Sunday at 10:45 AM as we come together to hear from God’s word\, join in prayer and praise\, and celebrate Holy Communion. \nClick here to join the livestream \nClick here to download the worship bulletin to follow along
URL:https://www.lcsavior.org/event/sunday-worship-late-2024-7/
LOCATION:Lutheran Church of the Savior\, 426 Davis Rd.\, Bedford\, MA\, 01730\, United States
CATEGORIES:streaming,Worship
ATTACH;FMTTYPE=image/png:https://www.lcsavior.org/wp-content/uploads/2024/08/Slide1-Custom-4.png
END:VEVENT
BEGIN:VEVENT
DTSTART;TZID=America/New_York:20241006T104500
DTEND;TZID=America/New_York:20241006T120000
DTSTAMP:20260424T234815
CREATED:20241006T024017Z
LAST-MODIFIED:20241006T024121Z
UID:10001780-1728211500-1728216000@www.lcsavior.org
SUMMARY:Sunday Morning Worship - 10:45AM
DESCRIPTION:Join us in-person or online each Sunday at 10:45 AM as we come together to hear from God’s word\, join in prayer and praise\, and celebrate life in faith together. \nClick here to join the livestream. \nClick here to download the worship bulletin to follow along \n 
URL:https://www.lcsavior.org/event/sunday-worship-late-2024-6/
LOCATION:Lutheran Church of the Savior\, 426 Davis Rd.\, Bedford\, MA\, 01730\, United States
CATEGORIES:streaming,Worship
ATTACH;FMTTYPE=image/png:https://www.lcsavior.org/wp-content/uploads/2024/08/Slide1.png
END:VEVENT
BEGIN:VEVENT
DTSTART;TZID=America/New_York:20240929T104500
DTEND;TZID=America/New_York:20240929T120000
DTSTAMP:20260424T234815
CREATED:20240928T191021Z
LAST-MODIFIED:20240928T191023Z
UID:10001779-1727606700-1727611200@www.lcsavior.org
SUMMARY:Sunday Morning Worship - 10:45AM
DESCRIPTION:Join us in-person or online each Sunday at 10:45 AM as we come together to hear from God’s word\, join in prayer and praise\, and celebrate Holy Communion. \nClick here to join the livestream \nClick here to download the worship bulletin to follow along
URL:https://www.lcsavior.org/event/sunday-worship-late-2024-5/
LOCATION:Lutheran Church of the Savior\, 426 Davis Rd.\, Bedford\, MA\, 01730\, United States
CATEGORIES:streaming,Worship
ATTACH;FMTTYPE=image/png:https://www.lcsavior.org/wp-content/uploads/2024/08/Slide1-Custom-3.png
END:VEVENT
BEGIN:VEVENT
DTSTART;TZID=America/New_York:20240922T104500
DTEND;TZID=America/New_York:20240922T120000
DTSTAMP:20260424T234815
CREATED:20240921T183037Z
LAST-MODIFIED:20240921T183039Z
UID:10001778-1727001900-1727006400@www.lcsavior.org
SUMMARY:Sunday Morning Worship - 10:45AM
DESCRIPTION:Join us in-person or online each Sunday at 10:45 AM as we come together to hear from God’s word\, join in prayer and praise\, and celebrate life in Christ together. \nClick here to join the livestream \nClick here to download the worship bulletin to follow along
URL:https://www.lcsavior.org/event/sunday-worship-late-2024-4/
LOCATION:Lutheran Church of the Savior\, 426 Davis Rd.\, Bedford\, MA\, 01730\, United States
CATEGORIES:streaming,Worship
ATTACH;FMTTYPE=image/png:https://www.lcsavior.org/wp-content/uploads/2024/08/Slide1-Custom-2.png
END:VEVENT
BEGIN:VEVENT
DTSTART;TZID=America/New_York:20240915T104500
DTEND;TZID=America/New_York:20240915T120000
DTSTAMP:20260424T234815
CREATED:20240914T211115Z
LAST-MODIFIED:20240914T211117Z
UID:10001777-1726397100-1726401600@www.lcsavior.org
SUMMARY:Sunday Morning Worship - 10:45AM
DESCRIPTION:Join us in-person or online each Sunday at 10:45 AM as we come together to hear from God’s word\, join in prayer and praise\, and celebrate Holy Communion. \nClick here to join the livestream \nClick here to download the worship bulletin to follow along
URL:https://www.lcsavior.org/event/sunday-worship-late-2024-3/
LOCATION:Lutheran Church of the Savior\, 426 Davis Rd.\, Bedford\, MA\, 01730\, United States
CATEGORIES:streaming,Worship
ATTACH;FMTTYPE=image/png:https://www.lcsavior.org/wp-content/uploads/2024/08/Slide1-Custom-1.png
END:VEVENT
BEGIN:VEVENT
DTSTART;TZID=America/New_York:20240908T104500
DTEND;TZID=America/New_York:20240908T120000
DTSTAMP:20260424T234815
CREATED:20240907T170346Z
LAST-MODIFIED:20240907T170348Z
UID:10001776-1725792300-1725796800@www.lcsavior.org
SUMMARY:Sunday Morning Worship - 10:45AM
DESCRIPTION:Join us in-person or online each Sunday at 10:45 AM as we come together to hear from God’s word\, join in prayer and praise\, and celebrate life in faith together! \nClick here to join the livestream \nClick here to download the worship bulletin to follow along \n 
URL:https://www.lcsavior.org/event/sunday-worship-late-2024-2/
LOCATION:Lutheran Church of the Savior\, 426 Davis Rd.\, Bedford\, MA\, 01730\, United States
CATEGORIES:streaming,Worship
ATTACH;FMTTYPE=image/png:https://www.lcsavior.org/wp-content/uploads/2024/08/Slide1-Custom.png
END:VEVENT
BEGIN:VEVENT
DTSTART;TZID=America/New_York:20240901T090000
DTEND;TZID=America/New_York:20240901T100000
DTSTAMP:20260424T234815
CREATED:20240831T163142Z
LAST-MODIFIED:20240831T163144Z
UID:10001706-1725181200-1725184800@www.lcsavior.org
SUMMARY:Sunday Morning Worship
DESCRIPTION:Join us in-person or online each Sunday this summer at 9:00 AM as we come together to hear from God’s word\, join in prayer and praise\, and celebrate our life of faith together. \nClick here to join the livestream \nClick here to download the worship bulletin to follow along
URL:https://www.lcsavior.org/event/sunday-morning-worship-2-20/
LOCATION:Lutheran Church of the Savior\, 426 Davis Rd.\, Bedford\, MA\, 01730\, United States
CATEGORIES:streaming,Worship
ATTACH;FMTTYPE=image/png:https://www.lcsavior.org/wp-content/uploads/2024/06/Slide1-Custom-8.png
END:VEVENT
BEGIN:VEVENT
DTSTART;TZID=America/New_York:20240825T090000
DTEND;TZID=America/New_York:20240825T100000
DTSTAMP:20260424T234815
CREATED:20240825T004347Z
LAST-MODIFIED:20240825T004349Z
UID:10001705-1724576400-1724580000@www.lcsavior.org
SUMMARY:Sunday Morning Worship
DESCRIPTION:Join us in-person or online each Sunday this summer at 9:00 AM as we come together to hear from God’s word\, join in prayer and praise\, and celebrate Holy Communion. \nClick here to join the livestream \nClick here to download the worship bulletin to follow along
URL:https://www.lcsavior.org/event/sunday-morning-worship-2-19/
LOCATION:Lutheran Church of the Savior\, 426 Davis Rd.\, Bedford\, MA\, 01730\, United States
CATEGORIES:streaming,Worship
ATTACH;FMTTYPE=image/png:https://www.lcsavior.org/wp-content/uploads/2024/06/Slide1-Custom-7.png
END:VEVENT
BEGIN:VEVENT
DTSTART;TZID=America/New_York:20240818T090000
DTEND;TZID=America/New_York:20240818T100000
DTSTAMP:20260424T234815
CREATED:20240817T155541Z
LAST-MODIFIED:20240817T202717Z
UID:10001704-1723971600-1723975200@www.lcsavior.org
SUMMARY:Sunday Morning Worship
DESCRIPTION:Join us in-person or online each Sunday this summer at 9:00 AM as we come together to hear from God’s word\, join in prayer and praise\, and celebrate life together as a family of faith. \nClick here to join the livestream \nClick here for the worship bulletin to follow along \n 
URL:https://www.lcsavior.org/event/sunday-morning-worship-2-18/
LOCATION:Lutheran Church of the Savior\, 426 Davis Rd.\, Bedford\, MA\, 01730\, United States
CATEGORIES:streaming,Worship
ATTACH;FMTTYPE=image/png:https://www.lcsavior.org/wp-content/uploads/2024/06/Slide1-Custom-6.png
END:VEVENT
BEGIN:VEVENT
DTSTART;TZID=America/New_York:20240811T090000
DTEND;TZID=America/New_York:20240811T100000
DTSTAMP:20260424T234815
CREATED:20240810T214912Z
LAST-MODIFIED:20240810T214914Z
UID:10001703-1723366800-1723370400@www.lcsavior.org
SUMMARY:Sunday Morning Worship
DESCRIPTION:Join us in-person or online each Sunday this summer at 9:00 AM as we come together to hear from God’s word\, join in prayer and praise\, and celebrate our life of faith together. \nClick here to join the livestream \nClick here to download the worship bulletin to follow along
URL:https://www.lcsavior.org/event/sunday-morning-worship-2-17/
LOCATION:Lutheran Church of the Savior\, 426 Davis Rd.\, Bedford\, MA\, 01730\, United States
CATEGORIES:streaming,Worship
ATTACH;FMTTYPE=image/png:https://www.lcsavior.org/wp-content/uploads/2024/06/Slide1-Custom-5.png
END:VEVENT
BEGIN:VEVENT
DTSTART;TZID=America/New_York:20240804T090000
DTEND;TZID=America/New_York:20240804T100000
DTSTAMP:20260424T234815
CREATED:20240803T153415Z
LAST-MODIFIED:20240803T153417Z
UID:10001702-1722762000-1722765600@www.lcsavior.org
SUMMARY:Sunday Morning Worship
DESCRIPTION:Join us in-person or online each Sunday this summer at 9:00 AM as we come together to hear from God’s word\, join in prayer and praise\, and celebrate Holy Communion. \nClick here to join the livestream \nClick here to download the worship bulletin to follow along \n 
URL:https://www.lcsavior.org/event/sunday-morning-worship-2-16/
LOCATION:Lutheran Church of the Savior\, 426 Davis Rd.\, Bedford\, MA\, 01730\, United States
CATEGORIES:streaming,Worship
ATTACH;FMTTYPE=image/png:https://www.lcsavior.org/wp-content/uploads/2024/06/Slide1-Custom-4.png
END:VEVENT
BEGIN:VEVENT
DTSTART;TZID=America/New_York:20240728T090000
DTEND;TZID=America/New_York:20240728T100000
DTSTAMP:20260424T234815
CREATED:20240728T005530Z
LAST-MODIFIED:20240728T005533Z
UID:10001701-1722157200-1722160800@www.lcsavior.org
SUMMARY:Sunday Morning Worship
DESCRIPTION:Join us in-person or online each Sunday this summer at 9:00 AM as we come together to hear from God’s word\, join in prayer and praise\, and celebrate life together as a family of faith. \nClick here to join the livestream \nClick here to download the worship bulletin to follow along
URL:https://www.lcsavior.org/event/sunday-morning-worship-2-15/
LOCATION:Lutheran Church of the Savior\, 426 Davis Rd.\, Bedford\, MA\, 01730\, United States
CATEGORIES:streaming,Worship
ATTACH;FMTTYPE=image/png:https://www.lcsavior.org/wp-content/uploads/2024/06/Slide1-Custom-3.png
END:VEVENT
BEGIN:VEVENT
DTSTART;TZID=America/New_York:20240721T090000
DTEND;TZID=America/New_York:20240721T100000
DTSTAMP:20260424T234815
CREATED:20240720T222035Z
LAST-MODIFIED:20240720T222037Z
UID:10001700-1721552400-1721556000@www.lcsavior.org
SUMMARY:Sunday Morning Worship
DESCRIPTION:Join us in-person or online each Sunday this summer at 9:00 AM as we come together to hear from God’s word\, join in prayer and praise\, and celebrate life together as a family of faith. \nClick here to join the livestream \nClick here to download the worship bulletin to follow along
URL:https://www.lcsavior.org/event/sunday-morning-worship-2-14/
LOCATION:Lutheran Church of the Savior\, 426 Davis Rd.\, Bedford\, MA\, 01730\, United States
CATEGORIES:streaming,Worship
ATTACH;FMTTYPE=image/png:https://www.lcsavior.org/wp-content/uploads/2024/06/Slide1-Custom-2.png
END:VEVENT
BEGIN:VEVENT
DTSTART;TZID=America/New_York:20240714T090000
DTEND;TZID=America/New_York:20240714T100000
DTSTAMP:20260424T234815
CREATED:20240713T143747Z
LAST-MODIFIED:20240713T143749Z
UID:10001699-1720947600-1720951200@www.lcsavior.org
SUMMARY:Sunday Morning Worship
DESCRIPTION:Join us in-person or online each Sunday this summer at 9:00 AM as we come together to hear from God’s word\, join in prayer and praise\, and celebrate Holy Communion. \nClick here to join the livestream \nClick here to download the worship bulletin to follow along
URL:https://www.lcsavior.org/event/sunday-morning-worship-2-13/
LOCATION:Lutheran Church of the Savior\, 426 Davis Rd.\, Bedford\, MA\, 01730\, United States
CATEGORIES:streaming,Worship
ATTACH;FMTTYPE=image/png:https://www.lcsavior.org/wp-content/uploads/2024/06/Slide1-Custom-1.png
END:VEVENT
END:VCALENDAR