BEGIN:VCALENDAR
VERSION:2.0
PRODID:-//Lutheran Church of the Savior - ECPv6.15.20//NONSGML v1.0//EN
CALSCALE:GREGORIAN
METHOD:PUBLISH
X-WR-CALNAME:Lutheran Church of the Savior
X-ORIGINAL-URL:https://www.lcsavior.org
X-WR-CALDESC:Events for Lutheran Church of the Savior
REFRESH-INTERVAL;VALUE=DURATION:PT1H
X-Robots-Tag:noindex
X-PUBLISHED-TTL:PT1H
BEGIN:VTIMEZONE
TZID:America/New_York
BEGIN:DAYLIGHT
TZOFFSETFROM:-0500
TZOFFSETTO:-0400
TZNAME:EDT
DTSTART:20250309T070000
END:DAYLIGHT
BEGIN:STANDARD
TZOFFSETFROM:-0400
TZOFFSETTO:-0500
TZNAME:EST
DTSTART:20251102T060000
END:STANDARD
BEGIN:DAYLIGHT
TZOFFSETFROM:-0500
TZOFFSETTO:-0400
TZNAME:EDT
DTSTART:20260308T070000
END:DAYLIGHT
BEGIN:STANDARD
TZOFFSETFROM:-0400
TZOFFSETTO:-0500
TZNAME:EST
DTSTART:20261101T060000
END:STANDARD
BEGIN:DAYLIGHT
TZOFFSETFROM:-0500
TZOFFSETTO:-0400
TZNAME:EDT
DTSTART:20270314T070000
END:DAYLIGHT
BEGIN:STANDARD
TZOFFSETFROM:-0400
TZOFFSETTO:-0500
TZNAME:EST
DTSTART:20271107T060000
END:STANDARD
END:VTIMEZONE
BEGIN:VEVENT
DTSTART;TZID=America/New_York:20260402T190000
DTEND;TZID=America/New_York:20260402T200000
DTSTAMP:20260425T081809
CREATED:20260328T212309Z
LAST-MODIFIED:20260402T225927Z
UID:10002724-1775156400-1775160000@www.lcsavior.org
SUMMARY:Maundy Thursday Service
DESCRIPTION:2026-04-02 Maundy Thursday – Holy Thursday Service – Livestream
URL:https://www.lcsavior.org/event/maundy-thursday-service-2/
LOCATION:Lutheran Church of the Savior\, 426 Davis Rd.\, Bedford\, MA\, 01730\, United States
CATEGORIES:streaming,Worship
ATTACH;FMTTYPE=image/jpeg:https://www.lcsavior.org/wp-content/uploads/2023/04/jesus-communion_shutterstock_1953999844-Custom.jpg
END:VEVENT
BEGIN:VEVENT
DTSTART;TZID=America/New_York:20260403T190000
DTEND;TZID=America/New_York:20260403T200000
DTSTAMP:20260425T081809
CREATED:20260328T212436Z
LAST-MODIFIED:20260403T010113Z
UID:10002725-1775242800-1775246400@www.lcsavior.org
SUMMARY:Good Friday
DESCRIPTION:On Good Friday\, we remember the crucifixion and death of Jesus – it was our sin that put Jesus there\, and His love for us that kept Him there. The service begins right where Maundy Thursday ended\, in silence\, as we walk with Jesus to the cross. \nClick here to join the livestream \nClick here to download the worship bulletin to follow along
URL:https://www.lcsavior.org/event/good-friday-3/
LOCATION:Lutheran Church of the Savior\, 426 Davis Rd.\, Bedford\, MA\, 01730\, United States
CATEGORIES:streaming,Worship
ATTACH;FMTTYPE=image/png:https://www.lcsavior.org/wp-content/uploads/2022/04/Slide1-Featured-Image-WP-1.png
END:VEVENT
BEGIN:VEVENT
DTSTART;TZID=America/New_York:20260404T190000
DTEND;TZID=America/New_York:20260404T200000
DTSTAMP:20260425T081809
CREATED:20260328T212737Z
LAST-MODIFIED:20260404T012152Z
UID:10002726-1775329200-1775332800@www.lcsavior.org
SUMMARY:Easter Vigil
DESCRIPTION:Jesus’ death on the cross couldn’t be the end of the story\, could it? Join us as we wait for Easter and celebrate the light of Christ’s victory over death and the grave! \nClick here to join the livestream \nClick here to download the worship bulletin to follow along
URL:https://www.lcsavior.org/event/easter-vigil/
LOCATION:Lutheran Church of the Savior\, 426 Davis Rd.\, Bedford\, MA\, 01730\, United States
CATEGORIES:streaming,Worship
ATTACH;FMTTYPE=image/png:https://www.lcsavior.org/wp-content/uploads/2026/03/Slide1-Custom.png
END:VEVENT
BEGIN:VEVENT
DTSTART;TZID=America/New_York:20260405T110000
DTEND;TZID=America/New_York:20260405T120000
DTSTAMP:20260425T081809
CREATED:20260328T213418Z
LAST-MODIFIED:20260404T211433Z
UID:10002058-1775386800-1775390400@www.lcsavior.org
SUMMARY:Easter Morning Worship - 11 AM
DESCRIPTION:He is risen – He is risen indeed! Come and join the celebration with us! \nClick here to join the livestream \nClick here to download the worship bulletin to follow along
URL:https://www.lcsavior.org/event/sunday-morning-worship-1045-am-47/
LOCATION:Lutheran Church of the Savior\, 426 Davis Rd.\, Bedford\, MA\, 01730\, United States
CATEGORIES:streaming,Worship
ATTACH;FMTTYPE=image/png:https://www.lcsavior.org/wp-content/uploads/2024/08/Slide1-Custom-34.png
END:VEVENT
BEGIN:VEVENT
DTSTART;TZID=America/New_York:20260411T110000
DTEND;TZID=America/New_York:20260411T120000
DTSTAMP:20260425T081809
CREATED:20260411T021556Z
LAST-MODIFIED:20260411T021556Z
UID:10002727-1775905200-1775908800@www.lcsavior.org
SUMMARY:Memorial Service - William J. Clements\, Jr.
DESCRIPTION:Our friend and brother\, William J. Clements\, Jr.\, went to be with his Lord and Savior on March 4\, 2026. He was 89 years old. \nA memorial service for Bill will be Saturday\, April 11\, 2026\, at\nThe Lutheran Church of the Savior\n426 Davis Road\, Bedford\, MA 01730\n9:00 am – 11:00 am Calling Hours\n11:00 am – 12:00 pm Church Service\n12:00 pm Lunch (RSVP please) \nAll who knew Bill are encouraged to come to give thanks to God for Bill’s life and to hear His resurrection promises given to those who mourn–promises that those who trust in Christ shall never die\, but live again\, forever\, in blessedness with Him. \nClick here to join the livestream \nClick here to download the service bulletin and follow along
URL:https://www.lcsavior.org/event/memorial-service-william-j-clements-jr/
LOCATION:Lutheran Church of the Savior\, 426 Davis Rd.\, Bedford\, MA\, 01730\, United States
CATEGORIES:streaming
ATTACH;FMTTYPE=image/png:https://www.lcsavior.org/wp-content/uploads/2026/04/Slide1-Custom.png
END:VEVENT
BEGIN:VEVENT
DTSTART;TZID=America/New_York:20260412T104500
DTEND;TZID=America/New_York:20260412T114500
DTSTAMP:20260425T081809
CREATED:20260411T132027Z
LAST-MODIFIED:20260411T195453Z
UID:10002059-1775990700-1775994300@www.lcsavior.org
SUMMARY:Sunday Morning Worship - 10:45 AM
DESCRIPTION:Join us in-person or online each Sunday at 10:45 AM as we come together to hear from God’s word\, join in prayer and praise\, and celebrate Holy Communion. \nClick here to join the livestream \nClick here to download the worship bulletin to follow along
URL:https://www.lcsavior.org/event/sunday-morning-worship-1045-am-48/
LOCATION:Lutheran Church of the Savior\, 426 Davis Rd.\, Bedford\, MA\, 01730\, United States
CATEGORIES:streaming,Worship
ATTACH;FMTTYPE=image/png:https://www.lcsavior.org/wp-content/uploads/2025/09/Slide1-Custom-29.png
END:VEVENT
BEGIN:VEVENT
DTSTART;TZID=America/New_York:20260419T104500
DTEND;TZID=America/New_York:20260419T114500
DTSTAMP:20260425T081809
CREATED:20260419T013004Z
LAST-MODIFIED:20260419T013006Z
UID:10002060-1776595500-1776599100@www.lcsavior.org
SUMMARY:Sunday Morning Worship - 10:45 AM
DESCRIPTION:Join us in-person or online each Sunday at 10:45 AM as we come together to hear from God’s word\, join in prayer and praise\, and celebrate Holy Communion. \nClick here to join the livestream \nClick here to download the worship bulletin to follow along
URL:https://www.lcsavior.org/event/sunday-morning-worship-1045-am-49/
LOCATION:Lutheran Church of the Savior\, 426 Davis Rd.\, Bedford\, MA\, 01730\, United States
CATEGORIES:streaming,Worship
ATTACH;FMTTYPE=image/png:https://www.lcsavior.org/wp-content/uploads/2025/09/Slide1-Custom-30.png
END:VEVENT
BEGIN:VEVENT
DTSTART;TZID=America/New_York:20260426T104500
DTEND;TZID=America/New_York:20260426T114500
DTSTAMP:20260425T081809
CREATED:20250906T230945Z
LAST-MODIFIED:20250906T230945Z
UID:10002061-1777200300-1777203900@www.lcsavior.org
SUMMARY:Sunday Morning Worship - 10:45 AM
DESCRIPTION:Join us in-person or online each Sunday at 10:45 AM as we come together to hear from God’s word\, join in prayer and praise\, and celebrate Holy Communion. \nServices are livestreamed on our Facebook Live page. After the service\, they are posted on our YouTube page.
URL:https://www.lcsavior.org/event/sunday-morning-worship-1045-am/2026-04-26/
LOCATION:Lutheran Church of the Savior\, 426 Davis Rd.\, Bedford\, MA\, 01730\, United States
CATEGORIES:streaming,Worship
ATTACH;FMTTYPE=image/jpeg:https://www.lcsavior.org/wp-content/uploads/2020/08/cherry-tree-cross.jpg
END:VEVENT
BEGIN:VEVENT
DTSTART;TZID=America/New_York:20260503T104500
DTEND;TZID=America/New_York:20260503T114500
DTSTAMP:20260425T081809
CREATED:20250906T230945Z
LAST-MODIFIED:20250906T230945Z
UID:10002062-1777805100-1777808700@www.lcsavior.org
SUMMARY:Sunday Morning Worship - 10:45 AM
DESCRIPTION:Join us in-person or online each Sunday at 10:45 AM as we come together to hear from God’s word\, join in prayer and praise\, and celebrate Holy Communion. \nServices are livestreamed on our Facebook Live page. After the service\, they are posted on our YouTube page.
URL:https://www.lcsavior.org/event/sunday-morning-worship-1045-am/2026-05-03/
LOCATION:Lutheran Church of the Savior\, 426 Davis Rd.\, Bedford\, MA\, 01730\, United States
CATEGORIES:streaming,Worship
ATTACH;FMTTYPE=image/jpeg:https://www.lcsavior.org/wp-content/uploads/2020/08/cherry-tree-cross.jpg
END:VEVENT
BEGIN:VEVENT
DTSTART;TZID=America/New_York:20260510T104500
DTEND;TZID=America/New_York:20260510T114500
DTSTAMP:20260425T081809
CREATED:20250906T230945Z
LAST-MODIFIED:20250906T230945Z
UID:10002063-1778409900-1778413500@www.lcsavior.org
SUMMARY:Sunday Morning Worship - 10:45 AM
DESCRIPTION:Join us in-person or online each Sunday at 10:45 AM as we come together to hear from God’s word\, join in prayer and praise\, and celebrate Holy Communion. \nServices are livestreamed on our Facebook Live page. After the service\, they are posted on our YouTube page.
URL:https://www.lcsavior.org/event/sunday-morning-worship-1045-am/2026-05-10/
LOCATION:Lutheran Church of the Savior\, 426 Davis Rd.\, Bedford\, MA\, 01730\, United States
CATEGORIES:streaming,Worship
ATTACH;FMTTYPE=image/jpeg:https://www.lcsavior.org/wp-content/uploads/2020/08/cherry-tree-cross.jpg
END:VEVENT
BEGIN:VEVENT
DTSTART;TZID=America/New_York:20260517T104500
DTEND;TZID=America/New_York:20260517T114500
DTSTAMP:20260425T081809
CREATED:20250906T230945Z
LAST-MODIFIED:20250906T230945Z
UID:10002064-1779014700-1779018300@www.lcsavior.org
SUMMARY:Sunday Morning Worship - 10:45 AM
DESCRIPTION:Join us in-person or online each Sunday at 10:45 AM as we come together to hear from God’s word\, join in prayer and praise\, and celebrate Holy Communion. \nServices are livestreamed on our Facebook Live page. After the service\, they are posted on our YouTube page.
URL:https://www.lcsavior.org/event/sunday-morning-worship-1045-am/2026-05-17/
LOCATION:Lutheran Church of the Savior\, 426 Davis Rd.\, Bedford\, MA\, 01730\, United States
CATEGORIES:streaming,Worship
ATTACH;FMTTYPE=image/jpeg:https://www.lcsavior.org/wp-content/uploads/2020/08/cherry-tree-cross.jpg
END:VEVENT
BEGIN:VEVENT
DTSTART;TZID=America/New_York:20260524T104500
DTEND;TZID=America/New_York:20260524T114500
DTSTAMP:20260425T081809
CREATED:20250906T230945Z
LAST-MODIFIED:20250906T230945Z
UID:10002065-1779619500-1779623100@www.lcsavior.org
SUMMARY:Sunday Morning Worship - 10:45 AM
DESCRIPTION:Join us in-person or online each Sunday at 10:45 AM as we come together to hear from God’s word\, join in prayer and praise\, and celebrate Holy Communion. \nServices are livestreamed on our Facebook Live page. After the service\, they are posted on our YouTube page.
URL:https://www.lcsavior.org/event/sunday-morning-worship-1045-am/2026-05-24/
LOCATION:Lutheran Church of the Savior\, 426 Davis Rd.\, Bedford\, MA\, 01730\, United States
CATEGORIES:streaming,Worship
ATTACH;FMTTYPE=image/jpeg:https://www.lcsavior.org/wp-content/uploads/2020/08/cherry-tree-cross.jpg
END:VEVENT
BEGIN:VEVENT
DTSTART;TZID=America/New_York:20260531T104500
DTEND;TZID=America/New_York:20260531T114500
DTSTAMP:20260425T081809
CREATED:20250906T230945Z
LAST-MODIFIED:20250906T230945Z
UID:10002066-1780224300-1780227900@www.lcsavior.org
SUMMARY:Sunday Morning Worship - 10:45 AM
DESCRIPTION:Join us in-person or online each Sunday at 10:45 AM as we come together to hear from God’s word\, join in prayer and praise\, and celebrate Holy Communion. \nServices are livestreamed on our Facebook Live page. After the service\, they are posted on our YouTube page.
URL:https://www.lcsavior.org/event/sunday-morning-worship-1045-am/2026-05-31/
LOCATION:Lutheran Church of the Savior\, 426 Davis Rd.\, Bedford\, MA\, 01730\, United States
CATEGORIES:streaming,Worship
ATTACH;FMTTYPE=image/jpeg:https://www.lcsavior.org/wp-content/uploads/2020/08/cherry-tree-cross.jpg
END:VEVENT
BEGIN:VEVENT
DTSTART;TZID=America/New_York:20260607T104500
DTEND;TZID=America/New_York:20260607T114500
DTSTAMP:20260425T081809
CREATED:20250906T230945Z
LAST-MODIFIED:20250906T230945Z
UID:10002067-1780829100-1780832700@www.lcsavior.org
SUMMARY:Sunday Morning Worship - 10:45 AM
DESCRIPTION:Join us in-person or online each Sunday at 10:45 AM as we come together to hear from God’s word\, join in prayer and praise\, and celebrate Holy Communion. \nServices are livestreamed on our Facebook Live page. After the service\, they are posted on our YouTube page.
URL:https://www.lcsavior.org/event/sunday-morning-worship-1045-am/2026-06-07/
LOCATION:Lutheran Church of the Savior\, 426 Davis Rd.\, Bedford\, MA\, 01730\, United States
CATEGORIES:streaming,Worship
ATTACH;FMTTYPE=image/jpeg:https://www.lcsavior.org/wp-content/uploads/2020/08/cherry-tree-cross.jpg
END:VEVENT
BEGIN:VEVENT
DTSTART;TZID=America/New_York:20260614T104500
DTEND;TZID=America/New_York:20260614T114500
DTSTAMP:20260425T081809
CREATED:20250906T230945Z
LAST-MODIFIED:20250906T230945Z
UID:10002068-1781433900-1781437500@www.lcsavior.org
SUMMARY:Sunday Morning Worship - 10:45 AM
DESCRIPTION:Join us in-person or online each Sunday at 10:45 AM as we come together to hear from God’s word\, join in prayer and praise\, and celebrate Holy Communion. \nServices are livestreamed on our Facebook Live page. After the service\, they are posted on our YouTube page.
URL:https://www.lcsavior.org/event/sunday-morning-worship-1045-am/2026-06-14/
LOCATION:Lutheran Church of the Savior\, 426 Davis Rd.\, Bedford\, MA\, 01730\, United States
CATEGORIES:streaming,Worship
ATTACH;FMTTYPE=image/jpeg:https://www.lcsavior.org/wp-content/uploads/2020/08/cherry-tree-cross.jpg
END:VEVENT
END:VCALENDAR