BEGIN:VCALENDAR
VERSION:2.0
PRODID:-//Lutheran Church of the Savior - ECPv6.15.20//NONSGML v1.0//EN
CALSCALE:GREGORIAN
METHOD:PUBLISH
X-WR-CALNAME:Lutheran Church of the Savior
X-ORIGINAL-URL:https://www.lcsavior.org
X-WR-CALDESC:Events for Lutheran Church of the Savior
REFRESH-INTERVAL;VALUE=DURATION:PT1H
X-Robots-Tag:noindex
X-PUBLISHED-TTL:PT1H
BEGIN:VTIMEZONE
TZID:America/New_York
BEGIN:DAYLIGHT
TZOFFSETFROM:-0500
TZOFFSETTO:-0400
TZNAME:EDT
DTSTART:20240310T070000
END:DAYLIGHT
BEGIN:STANDARD
TZOFFSETFROM:-0400
TZOFFSETTO:-0500
TZNAME:EST
DTSTART:20241103T060000
END:STANDARD
BEGIN:DAYLIGHT
TZOFFSETFROM:-0500
TZOFFSETTO:-0400
TZNAME:EDT
DTSTART:20250309T070000
END:DAYLIGHT
BEGIN:STANDARD
TZOFFSETFROM:-0400
TZOFFSETTO:-0500
TZNAME:EST
DTSTART:20251102T060000
END:STANDARD
BEGIN:DAYLIGHT
TZOFFSETFROM:-0500
TZOFFSETTO:-0400
TZNAME:EDT
DTSTART:20260308T070000
END:DAYLIGHT
BEGIN:STANDARD
TZOFFSETFROM:-0400
TZOFFSETTO:-0500
TZNAME:EST
DTSTART:20261101T060000
END:STANDARD
BEGIN:DAYLIGHT
TZOFFSETFROM:-0500
TZOFFSETTO:-0400
TZNAME:EDT
DTSTART:20270314T070000
END:DAYLIGHT
BEGIN:STANDARD
TZOFFSETFROM:-0400
TZOFFSETTO:-0500
TZNAME:EST
DTSTART:20271107T060000
END:STANDARD
END:VTIMEZONE
BEGIN:VEVENT
DTSTART;TZID=America/New_York:20251005T104500
DTEND;TZID=America/New_York:20251005T114500
DTSTAMP:20260425T114152
CREATED:20251005T000422Z
LAST-MODIFIED:20251005T144231Z
UID:10002032-1759661100-1759664700@www.lcsavior.org
SUMMARY:Sunday Morning Worship - 10:45 AM
DESCRIPTION:Join us in-person or online each Sunday at 10:45 AM as we come together to hear from God’s word\, join in prayer and praise\, and celebrate Holy Communion. \nClick here to join the livestream \nClick here to download the worship bulletin to follow along
URL:https://www.lcsavior.org/event/sunday-morning-worship-1045-am-22/
LOCATION:Lutheran Church of the Savior\, 426 Davis Rd.\, Bedford\, MA\, 01730\, United States
CATEGORIES:streaming,Worship
ATTACH;FMTTYPE=image/png:https://www.lcsavior.org/wp-content/uploads/2025/09/Slide1-Custom-4.png
END:VEVENT
BEGIN:VEVENT
DTSTART;TZID=America/New_York:20251012T104500
DTEND;TZID=America/New_York:20251012T114500
DTSTAMP:20260425T114152
CREATED:20251012T014736Z
LAST-MODIFIED:20251012T014740Z
UID:10002033-1760265900-1760269500@www.lcsavior.org
SUMMARY:Sunday Morning Worship - 10:45 AM
DESCRIPTION:Join us in-person or online each Sunday at 10:45 AM as we come together to hear from God’s word\, join in prayer and praise\, and celebrate Holy Communion. \nClick here to join the livestream \nClick here to download the worship bulletin to follow along
URL:https://www.lcsavior.org/event/sunday-morning-worship-1045-am-23/
LOCATION:Lutheran Church of the Savior\, 426 Davis Rd.\, Bedford\, MA\, 01730\, United States
CATEGORIES:streaming,Worship
ATTACH;FMTTYPE=image/png:https://www.lcsavior.org/wp-content/uploads/2025/09/Slide1-Custom-5.png
END:VEVENT
BEGIN:VEVENT
DTSTART;TZID=America/New_York:20251019T104500
DTEND;TZID=America/New_York:20251019T114500
DTSTAMP:20260425T114152
CREATED:20251018T221628Z
LAST-MODIFIED:20251019T143309Z
UID:10002034-1760870700-1760874300@www.lcsavior.org
SUMMARY:Sunday Morning Worship - 10:45 AM
DESCRIPTION:Join us in-person or online each Sunday at 10:45 AM as we come together to hear from God’s word\, join in prayer and praise\, and celebrate Holy Communion. \nClick here to join the livestream. \nClick here to download the order of service
URL:https://www.lcsavior.org/event/sunday-morning-worship-1045-am-24/
LOCATION:Lutheran Church of the Savior\, 426 Davis Rd.\, Bedford\, MA\, 01730\, United States
CATEGORIES:streaming,Worship
ATTACH;FMTTYPE=image/png:https://www.lcsavior.org/wp-content/uploads/2025/09/Slide1-Custom-6.png
END:VEVENT
BEGIN:VEVENT
DTSTART;TZID=America/New_York:20251026T104500
DTEND;TZID=America/New_York:20251026T114500
DTSTAMP:20260425T114152
CREATED:20251025T210230Z
LAST-MODIFIED:20251025T210233Z
UID:10002035-1761475500-1761479100@www.lcsavior.org
SUMMARY:Sunday Morning Worship - 10:45 AM
DESCRIPTION:Join us in-person or online each Sunday at 10:45 AM as we come together to hear from God’s word\, join in prayer and praise\, and celebrate Holy Communion. \nClick here to join the livestream \nClick here to download the worship bulletin to follow along \n 
URL:https://www.lcsavior.org/event/sunday-morning-worship-1045-am-25/
LOCATION:Lutheran Church of the Savior\, 426 Davis Rd.\, Bedford\, MA\, 01730\, United States
CATEGORIES:streaming,Worship
ATTACH;FMTTYPE=image/png:https://www.lcsavior.org/wp-content/uploads/2025/09/Slide1-Custom-7.png
END:VEVENT
BEGIN:VEVENT
DTSTART;TZID=America/New_York:20251102T104500
DTEND;TZID=America/New_York:20251102T114500
DTSTAMP:20260425T114152
CREATED:20251102T023332Z
LAST-MODIFIED:20251102T023334Z
UID:10002036-1762080300-1762083900@www.lcsavior.org
SUMMARY:Sunday Morning Worship - 10:45 AM
DESCRIPTION:Join us in-person or online each Sunday at 10:45 AM as we come together to hear from God’s word\, join in prayer and praise\, and celebrate Holy Communion. \nClick here to join the livestream \nClick here to download the worship bulletin to follow along
URL:https://www.lcsavior.org/event/sunday-morning-worship-1045-am-26/
LOCATION:Lutheran Church of the Savior\, 426 Davis Rd.\, Bedford\, MA\, 01730\, United States
CATEGORIES:streaming,Worship
ATTACH;FMTTYPE=image/png:https://www.lcsavior.org/wp-content/uploads/2025/09/Slide1-Custom-8.png
END:VEVENT
BEGIN:VEVENT
DTSTART;TZID=America/New_York:20251109T104500
DTEND;TZID=America/New_York:20251109T114500
DTSTAMP:20260425T114152
CREATED:20251108T164456Z
LAST-MODIFIED:20251108T164459Z
UID:10002037-1762685100-1762688700@www.lcsavior.org
SUMMARY:Sunday Morning Worship - 10:45 AM
DESCRIPTION:Join us in-person or online each Sunday at 10:45 AM as we come together to hear from God’s word\, join in prayer and praise\, and celebrate Holy Communion. \nClick here to join the livestream \nClick here to download the worship bulletin to follow along
URL:https://www.lcsavior.org/event/sunday-morning-worship-1045-am-27/
LOCATION:Lutheran Church of the Savior\, 426 Davis Rd.\, Bedford\, MA\, 01730\, United States
CATEGORIES:streaming,Worship
ATTACH;FMTTYPE=image/png:https://www.lcsavior.org/wp-content/uploads/2025/09/Slide1-Custom-9.png
END:VEVENT
BEGIN:VEVENT
DTSTART;TZID=America/New_York:20251116T104500
DTEND;TZID=America/New_York:20251116T114500
DTSTAMP:20260425T114152
CREATED:20251115T214722Z
LAST-MODIFIED:20251115T214725Z
UID:10002038-1763289900-1763293500@www.lcsavior.org
SUMMARY:Sunday Morning Worship - 10:45 AM
DESCRIPTION:Join us in-person or online each Sunday at 10:45 AM as we come together to hear from God’s word\, join in prayer and praise\, and celebrate Holy Communion. \nClick here to join the livestream \nClick here to download the worship bulletin to follow along
URL:https://www.lcsavior.org/event/sunday-morning-worship-1045-am-28/
LOCATION:Lutheran Church of the Savior\, 426 Davis Rd.\, Bedford\, MA\, 01730\, United States
CATEGORIES:streaming,Worship
ATTACH;FMTTYPE=image/png:https://www.lcsavior.org/wp-content/uploads/2025/09/Slide1-Custom-10.png
END:VEVENT
BEGIN:VEVENT
DTSTART;TZID=America/New_York:20251123T104500
DTEND;TZID=America/New_York:20251123T114500
DTSTAMP:20260425T114152
CREATED:20251123T042048Z
LAST-MODIFIED:20251123T042049Z
UID:10002039-1763894700-1763898300@www.lcsavior.org
SUMMARY:Sunday Morning Worship - 10:45 AM
DESCRIPTION:Join us in-person or online each Sunday at 10:45 AM as we come together to hear from God’s word\, join in prayer and praise\, and celebrate Holy Communion. \nClick here to join the livestream \nClick here to download the worship bulletin to follow along
URL:https://www.lcsavior.org/event/sunday-morning-worship-1045-am-29/
LOCATION:Lutheran Church of the Savior\, 426 Davis Rd.\, Bedford\, MA\, 01730\, United States
CATEGORIES:streaming,Worship
ATTACH;FMTTYPE=image/png:https://www.lcsavior.org/wp-content/uploads/2025/09/Slide1-Custom-11.png
END:VEVENT
BEGIN:VEVENT
DTSTART;TZID=America/New_York:20251130T104500
DTEND;TZID=America/New_York:20251130T114500
DTSTAMP:20260425T114152
CREATED:20251129T204138Z
LAST-MODIFIED:20251129T204140Z
UID:10002040-1764499500-1764503100@www.lcsavior.org
SUMMARY:Sunday Morning Worship - 10:45 AM
DESCRIPTION:Join us in-person or online each Sunday at 10:45 AM as we come together to hear from God’s word\, join in prayer and praise\, and celebrate Holy Communion. \nClick here to join the livestream \nClick here to download the worship bulletin to follow along
URL:https://www.lcsavior.org/event/sunday-morning-worship-1045-am-30/
LOCATION:Lutheran Church of the Savior\, 426 Davis Rd.\, Bedford\, MA\, 01730\, United States
CATEGORIES:streaming,Worship
ATTACH;FMTTYPE=image/png:https://www.lcsavior.org/wp-content/uploads/2025/09/Slide1-Custom-12.png
END:VEVENT
BEGIN:VEVENT
DTSTART;TZID=America/New_York:20251203T190000
DTEND;TZID=America/New_York:20251203T200000
DTSTAMP:20260425T114152
CREATED:20251203T032814Z
LAST-MODIFIED:20251203T235109Z
UID:10002116-1764788400-1764792000@www.lcsavior.org
SUMMARY:Advent Worship Service
DESCRIPTION:All are welcome each Wednesday evening in Advent as we eagerly await the coming of the King. This year\, we journey through Advent with our forebearers in the faith. Come and wait with us! \nJoin the livestream here
URL:https://www.lcsavior.org/event/advent-worship-service-2/
LOCATION:Lutheran Church of the Savior\, 426 Davis Rd.\, Bedford\, MA\, 01730\, United States
CATEGORIES:Christmas,streaming,Worship
ATTACH;FMTTYPE=image/png:https://www.lcsavior.org/wp-content/uploads/2023/12/Slide1-Custom.png
END:VEVENT
BEGIN:VEVENT
DTSTART;TZID=America/New_York:20251207T104500
DTEND;TZID=America/New_York:20251207T114500
DTSTAMP:20260425T114152
CREATED:20251206T234338Z
LAST-MODIFIED:20251206T234341Z
UID:10002041-1765104300-1765107900@www.lcsavior.org
SUMMARY:Sunday Morning Worship - 10:45 AM
DESCRIPTION:Join us in-person or online each Sunday at 10:45 AM as we come together to hear from God’s word\, join in prayer and praise\, and celebrate Holy Communion. \nClick here to join the livestream \nClick here to download the worship bulletin to follow along
URL:https://www.lcsavior.org/event/sunday-morning-worship-1045-am-31/
LOCATION:Lutheran Church of the Savior\, 426 Davis Rd.\, Bedford\, MA\, 01730\, United States
CATEGORIES:streaming,Worship
ATTACH;FMTTYPE=image/png:https://www.lcsavior.org/wp-content/uploads/2025/09/Slide1-Custom-13.png
END:VEVENT
BEGIN:VEVENT
DTSTART;TZID=America/New_York:20251210T190000
DTEND;TZID=America/New_York:20251210T200000
DTSTAMP:20260425T114152
CREATED:20251210T032738Z
LAST-MODIFIED:20251210T032740Z
UID:10002118-1765393200-1765396800@www.lcsavior.org
SUMMARY:Advent Worship Service
DESCRIPTION:Journey through Advent with our forebearers in the faith at LCS! Service begins at 7PM\, with a soup supper starting at 6PM. \nClick here to join the livestream
URL:https://www.lcsavior.org/event/advent-worship-service-3/
LOCATION:Lutheran Church of the Savior\, 426 Davis Rd.\, Bedford\, MA\, 01730\, United States
CATEGORIES:Christmas,streaming,Worship
ATTACH;FMTTYPE=image/png:https://www.lcsavior.org/wp-content/uploads/2023/12/Slide1-Custom.png
END:VEVENT
BEGIN:VEVENT
DTSTART;TZID=America/New_York:20251214T104500
DTEND;TZID=America/New_York:20251214T114500
DTSTAMP:20260425T114152
CREATED:20251213T160727Z
LAST-MODIFIED:20251214T004343Z
UID:10002042-1765709100-1765712700@www.lcsavior.org
SUMMARY:Sunday Morning Worship - 10:45 AM
DESCRIPTION:Join us in-person or online each Sunday at 10:45 AM as we come together to hear from God’s word\, join in prayer and praise\, and celebrate Holy Communion. \nClick here to join the livestream \nClick here to download the worship bulletin to follow along
URL:https://www.lcsavior.org/event/sunday-morning-worship-1045-am-32/
LOCATION:Lutheran Church of the Savior\, 426 Davis Rd.\, Bedford\, MA\, 01730\, United States
CATEGORIES:streaming,Worship
ATTACH;FMTTYPE=image/png:https://www.lcsavior.org/wp-content/uploads/2025/09/Slide1-Custom-14.png
END:VEVENT
BEGIN:VEVENT
DTSTART;TZID=America/New_York:20251217T190000
DTEND;TZID=America/New_York:20251217T200000
DTSTAMP:20260425T114152
CREATED:20251217T010449Z
LAST-MODIFIED:20251217T010451Z
UID:10002120-1765998000-1766001600@www.lcsavior.org
SUMMARY:Advent Worship Service
DESCRIPTION:All are welcome each Wednesday evening in Advent as we eagerly await the coming of the King. \nClick here to join the livestream
URL:https://www.lcsavior.org/event/advent-worship-service-4/
LOCATION:Lutheran Church of the Savior\, 426 Davis Rd.\, Bedford\, MA\, 01730\, United States
CATEGORIES:Christmas,streaming,Worship
ATTACH;FMTTYPE=image/png:https://www.lcsavior.org/wp-content/uploads/2023/12/Slide1-Custom.png
END:VEVENT
BEGIN:VEVENT
DTSTART;TZID=America/New_York:20251221T104500
DTEND;TZID=America/New_York:20251221T114500
DTSTAMP:20260425T114152
CREATED:20251221T002346Z
LAST-MODIFIED:20251221T002347Z
UID:10002043-1766313900-1766317500@www.lcsavior.org
SUMMARY:Sunday Morning Worship - 10:45 AM
DESCRIPTION:Join us in-person or online each Sunday at 10:45 AM as we come together to hear from God’s word\, join in prayer and praise\, and celebrate Holy Communion. \nClick here to join the livestream \nClick here to download the worship bulletin to follow along
URL:https://www.lcsavior.org/event/sunday-morning-worship-1045-am-33/
LOCATION:Lutheran Church of the Savior\, 426 Davis Rd.\, Bedford\, MA\, 01730\, United States
CATEGORIES:streaming,Worship
ATTACH;FMTTYPE=image/png:https://www.lcsavior.org/wp-content/uploads/2025/09/Slide1-Custom-15.png
END:VEVENT
BEGIN:VEVENT
DTSTART;TZID=America/New_York:20251224T190000
DTEND;TZID=America/New_York:20251224T200000
DTSTAMP:20260425T114152
CREATED:20251129T213339Z
LAST-MODIFIED:20251224T185840Z
UID:10002185-1766602800-1766606400@www.lcsavior.org
SUMMARY:Christmas Eve Service - 7:00 pm
DESCRIPTION:All are welcome as we finish our time of waiting and preparation – the Lord is at hand! Our 7pm service is a traditional Christmas Eve carols service by candlelight. \nJoin us at 6:30 pm for a musical prelude to prepare for worship. \nClick here to join the livestream \nClick here to download the worship bulletin to follow along \n 
URL:https://www.lcsavior.org/event/christmas-eve-service-700-pm/
LOCATION:Lutheran Church of the Savior\, 426 Davis Rd.\, Bedford\, MA\, 01730\, United States
CATEGORIES:Christmas,streaming,Worship
ATTACH;FMTTYPE=image/png:https://www.lcsavior.org/wp-content/uploads/2024/11/LCMS-Advent-Christmas-Media-Kit-Rejoice-Social-Media-Shareable-Christmas-Eve-C-Custom.png
END:VEVENT
BEGIN:VEVENT
DTSTART;TZID=America/New_York:20251225T090000
DTEND;TZID=America/New_York:20251225T100000
DTSTAMP:20260425T114152
CREATED:20251129T213610Z
LAST-MODIFIED:20251225T023235Z
UID:10002186-1766653200-1766656800@www.lcsavior.org
SUMMARY:Christmas Day
DESCRIPTION:Joy to the world – the Lord has come! Join in the celebration at 9:00 AM. \nClick here to join the livestream \nClick here to download the worship bulletin to follow along
URL:https://www.lcsavior.org/event/christmas-day-2025/
LOCATION:Lutheran Church of the Savior\, 426 Davis Rd.\, Bedford\, MA\, 01730\, United States
CATEGORIES:Christmas,streaming,Worship
ATTACH;FMTTYPE=image/png:https://www.lcsavior.org/wp-content/uploads/2023/12/Slide1-Custom-2.png
END:VEVENT
BEGIN:VEVENT
DTSTART;TZID=America/New_York:20251227T080000
DTEND;TZID=America/New_York:20251227T170000
DTSTAMP:20260425T114152
CREATED:20251227T160751Z
LAST-MODIFIED:20251227T160751Z
UID:10002188-1766822400-1766854800@www.lcsavior.org
SUMMARY:Sunday Morning Worship - 9:00 AM
DESCRIPTION:Join us in-person or online each Sunday as we come together to hear from God’s word\, join in prayer and praise\, and celebrate Holy Communion. This week\, we continue our celebration of Christmas with a single combined service at 9:00 AM! \nClick here to join the livestream \nClick here to download the worship bulletin to follow along \n 
URL:https://www.lcsavior.org/event/sunday-morning-worship-900-am/
LOCATION:Lutheran Church of the Savior\, 426 Davis Rd.\, Bedford\, MA\, 01730\, United States
CATEGORIES:streaming,Worship
ATTACH;FMTTYPE=image/png:https://www.lcsavior.org/wp-content/uploads/2025/12/Slide1-Custom.png
END:VEVENT
BEGIN:VEVENT
DTSTART;TZID=America/New_York:20260104T104500
DTEND;TZID=America/New_York:20260104T114500
DTSTAMP:20260425T114152
CREATED:20260103T180833Z
LAST-MODIFIED:20260103T180835Z
UID:10002045-1767523500-1767527100@www.lcsavior.org
SUMMARY:Sunday Morning Worship - 10:45 AM
DESCRIPTION:Join us in-person or online each Sunday at 10:45 AM as we come together to hear from God’s word\, join in prayer and praise\, and celebrate Holy Communion. \nClick here to join the livestream \nClick here to download the worship bulletin to follow along \n 
URL:https://www.lcsavior.org/event/sunday-morning-worship-1045-am-34/
LOCATION:Lutheran Church of the Savior\, 426 Davis Rd.\, Bedford\, MA\, 01730\, United States
CATEGORIES:streaming,Worship
ATTACH;FMTTYPE=image/png:https://www.lcsavior.org/wp-content/uploads/2025/09/Slide1-Custom-16.png
END:VEVENT
BEGIN:VEVENT
DTSTART;TZID=America/New_York:20260106T190000
DTEND;TZID=America/New_York:20260106T200000
DTSTAMP:20260425T114152
CREATED:20260104T145030Z
LAST-MODIFIED:20260106T235816Z
UID:10002189-1767726000-1767729600@www.lcsavior.org
SUMMARY:Epiphany Worship Service
DESCRIPTION:Join us in person or online this year for Epiphany\, as we celebrate the incarnation of Jesus and the visitation of the Wise Men. Through this story\, we see all the nations coming to worship – and Jesus as the Savior of all the world. \nClick here to join the livestream \nClick here to download the order of service
URL:https://www.lcsavior.org/event/epiphany-worship-service-2/
LOCATION:Lutheran Church of the Savior\, 426 Davis Rd.\, Bedford\, MA\, 01730\, United States
CATEGORIES:streaming,Worship
ATTACH;FMTTYPE=image/png:https://www.lcsavior.org/wp-content/uploads/2026/01/Slide1-Custom.png
END:VEVENT
BEGIN:VEVENT
DTSTART;TZID=America/New_York:20260111T104500
DTEND;TZID=America/New_York:20260111T114500
DTSTAMP:20260425T114152
CREATED:20260110T211617Z
LAST-MODIFIED:20260110T211618Z
UID:10002046-1768128300-1768131900@www.lcsavior.org
SUMMARY:Sunday Morning Worship - 10:45 AM
DESCRIPTION:Join us in-person or online each Sunday at 10:45 AM as we come together to hear from God’s word\, join in prayer and praise\, and celebrate Holy Communion. \nClick here to join the livestream \nClick here to download the worship bulletin to follow along \n 
URL:https://www.lcsavior.org/event/sunday-morning-worship-1045-am-35/
LOCATION:Lutheran Church of the Savior\, 426 Davis Rd.\, Bedford\, MA\, 01730\, United States
CATEGORIES:streaming,Worship
ATTACH;FMTTYPE=image/png:https://www.lcsavior.org/wp-content/uploads/2025/09/Slide1-Custom-17.png
END:VEVENT
BEGIN:VEVENT
DTSTART;TZID=America/New_York:20260118T104500
DTEND;TZID=America/New_York:20260118T114500
DTSTAMP:20260425T114152
CREATED:20260117T223807Z
LAST-MODIFIED:20260117T223809Z
UID:10002047-1768733100-1768736700@www.lcsavior.org
SUMMARY:Sunday Morning Worship - 10:45 AM
DESCRIPTION:Join us in-person or online each Sunday at 10:45 AM as we come together to hear from God’s word\, join in prayer and praise\, and celebrate Holy Communion. \nClick here to join the livestream \nClick here to download the worship bulletin to follow along
URL:https://www.lcsavior.org/event/sunday-morning-worship-1045-am-36/
LOCATION:Lutheran Church of the Savior\, 426 Davis Rd.\, Bedford\, MA\, 01730\, United States
CATEGORIES:streaming,Worship
ATTACH;FMTTYPE=image/png:https://www.lcsavior.org/wp-content/uploads/2025/09/Slide1-Custom-18.png
END:VEVENT
BEGIN:VEVENT
DTSTART;TZID=America/New_York:20260125T104500
DTEND;TZID=America/New_York:20260125T114500
DTSTAMP:20260425T114152
CREATED:20260124T171955Z
LAST-MODIFIED:20260124T171957Z
UID:10002048-1769337900-1769341500@www.lcsavior.org
SUMMARY:Sunday Morning Worship - 10:45 AM
DESCRIPTION:Join us in-person or online each Sunday at 10:45 AM as we come together to hear from God’s word\, join in prayer and praise\, and celebrate Holy Communion. \nClick here to join the livestream \nClick here to download the worship bulletin to follow along
URL:https://www.lcsavior.org/event/sunday-morning-worship-1045-am-37/
LOCATION:Lutheran Church of the Savior\, 426 Davis Rd.\, Bedford\, MA\, 01730\, United States
CATEGORIES:streaming,Worship
ATTACH;FMTTYPE=image/png:https://www.lcsavior.org/wp-content/uploads/2025/09/Slide1-Custom-19.png
END:VEVENT
BEGIN:VEVENT
DTSTART;TZID=America/New_York:20260201T104500
DTEND;TZID=America/New_York:20260201T114500
DTSTAMP:20260425T114152
CREATED:20260131T232614Z
LAST-MODIFIED:20260131T232615Z
UID:10002049-1769942700-1769946300@www.lcsavior.org
SUMMARY:Sunday Morning Worship - 10:45 AM
DESCRIPTION:Join us in-person or online each Sunday at 10:45 AM as we come together to hear from God’s word\, join in prayer and praise\, and celebrate Holy Communion. \nClick here to join the livestream. \nClick here to download the worship bulletin to follow along
URL:https://www.lcsavior.org/event/sunday-morning-worship-1045-am-38/
LOCATION:Lutheran Church of the Savior\, 426 Davis Rd.\, Bedford\, MA\, 01730\, United States
CATEGORIES:streaming,Worship
ATTACH;FMTTYPE=image/png:https://www.lcsavior.org/wp-content/uploads/2025/09/Slide1-Custom-20.png
END:VEVENT
BEGIN:VEVENT
DTSTART;TZID=America/New_York:20260208T104500
DTEND;TZID=America/New_York:20260208T114500
DTSTAMP:20260425T114152
CREATED:20260207T194903Z
LAST-MODIFIED:20260207T194905Z
UID:10002050-1770547500-1770551100@www.lcsavior.org
SUMMARY:Sunday Morning Worship - 10:45 AM
DESCRIPTION:Join us in-person or online each Sunday at 10:45 AM as we come together to hear from God’s word\, join in prayer and praise\, and celebrate Holy Communion. \nClick here to join the livestream \nClick here to download the worship bulletin to follow along
URL:https://www.lcsavior.org/event/sunday-morning-worship-1045-am-39/
LOCATION:Lutheran Church of the Savior\, 426 Davis Rd.\, Bedford\, MA\, 01730\, United States
CATEGORIES:streaming,Worship
ATTACH;FMTTYPE=image/png:https://www.lcsavior.org/wp-content/uploads/2025/09/Slide1-Custom-21.png
END:VEVENT
BEGIN:VEVENT
DTSTART;TZID=America/New_York:20260215T104500
DTEND;TZID=America/New_York:20260215T114500
DTSTAMP:20260425T114152
CREATED:20260215T032017Z
LAST-MODIFIED:20260215T032019Z
UID:10002051-1771152300-1771155900@www.lcsavior.org
SUMMARY:Sunday Morning Worship - 10:45 AM
DESCRIPTION:Join us in-person or online each Sunday at 10:45 AM as we come together to hear from God’s word\, join in prayer and praise\, and celebrate Holy Communion. \nClick here to join the livestream \nClick here to download the worship bulletin to follow along
URL:https://www.lcsavior.org/event/sunday-morning-worship-1045-am-40/
LOCATION:Lutheran Church of the Savior\, 426 Davis Rd.\, Bedford\, MA\, 01730\, United States
CATEGORIES:streaming,Worship
ATTACH;FMTTYPE=image/png:https://www.lcsavior.org/wp-content/uploads/2025/09/Slide1-Custom-22.png
END:VEVENT
BEGIN:VEVENT
DTSTART;TZID=America/New_York:20260218T190000
DTEND;TZID=America/New_York:20260218T200000
DTSTAMP:20260425T114152
CREATED:20260215T035054Z
LAST-MODIFIED:20260218T035326Z
UID:10002194-1771441200-1771444800@www.lcsavior.org
SUMMARY:Ash Wednesday Service
DESCRIPTION:Join us for Ash Wednesday\, the beginning of the season of Lent. We will gather at 7pm for an evening of reflection and prayer\, with a soup supper before the service at 6pm. \nClick here to join the livestream \nClick here to download the worship bulletin to follow along
URL:https://www.lcsavior.org/event/ash-wednesday-service-2/
LOCATION:Lutheran Church of the Savior\, 426 Davis Rd.\, Bedford\, MA\, 01730\, United States
CATEGORIES:streaming,Worship
ATTACH;FMTTYPE=image/png:https://www.lcsavior.org/wp-content/uploads/2023/02/Slide1-Custom.png
END:VEVENT
BEGIN:VEVENT
DTSTART;TZID=America/New_York:20260222T104500
DTEND;TZID=America/New_York:20260222T114500
DTSTAMP:20260425T114152
CREATED:20260221T222858Z
LAST-MODIFIED:20260221T223003Z
UID:10002052-1771757100-1771760700@www.lcsavior.org
SUMMARY:Sunday Morning Worship - 10:45 AM
DESCRIPTION:Join us in-person or online each Sunday at 10:45 AM as we come together to hear from God’s word\, join in prayer and praise\, and celebrate Holy Communion. \nClick here to join the livestream \nClick here to download the worship bulletin to follow along
URL:https://www.lcsavior.org/event/sunday-morning-worship-1045-am-41/
LOCATION:Lutheran Church of the Savior\, 426 Davis Rd.\, Bedford\, MA\, 01730\, United States
CATEGORIES:streaming,Worship
ATTACH;FMTTYPE=image/png:https://www.lcsavior.org/wp-content/uploads/2025/09/Slide1-Custom-23.png
END:VEVENT
BEGIN:VEVENT
DTSTART;TZID=America/New_York:20260225T190000
DTEND;TZID=America/New_York:20260225T200000
DTSTAMP:20260425T114152
CREATED:20260225T012239Z
LAST-MODIFIED:20260225T012528Z
UID:10002195-1772046000-1772049600@www.lcsavior.org
SUMMARY:Lent Midweek Service
DESCRIPTION:Join us for our midweek Lent services as we prepare for Holy Week and Easter. Come early to church at 6:00 PM for a soup supper! \nClick here to join the livestream \nClick here to download the worship bulletin to follow along \n 
URL:https://www.lcsavior.org/event/lent-midweek-service/
LOCATION:Lutheran Church of the Savior\, 426 Davis Rd.\, Bedford\, MA\, 01730\, United States
CATEGORIES:streaming,Worship
ATTACH;FMTTYPE=image/png:https://www.lcsavior.org/wp-content/uploads/2026/02/Slide1-Custom.png
END:VEVENT
BEGIN:VEVENT
DTSTART;TZID=America/New_York:20260301T104500
DTEND;TZID=America/New_York:20260301T114500
DTSTAMP:20260425T114152
CREATED:20260228T194726Z
LAST-MODIFIED:20260228T194728Z
UID:10002053-1772361900-1772365500@www.lcsavior.org
SUMMARY:Sunday Morning Worship - 10:45 AM
DESCRIPTION:Join us in-person or online each Sunday at 10:45 AM as we come together to hear from God’s word\, join in prayer and praise\, and celebrate Holy Communion. \nClick here to join the livestream \nClick here to download the worship bulletin to follow along
URL:https://www.lcsavior.org/event/sunday-morning-worship-1045-am-42/
LOCATION:Lutheran Church of the Savior\, 426 Davis Rd.\, Bedford\, MA\, 01730\, United States
CATEGORIES:streaming,Worship
ATTACH;FMTTYPE=image/png:https://www.lcsavior.org/wp-content/uploads/2025/09/Slide1-Custom-24.png
END:VEVENT
END:VCALENDAR