BEGIN:VCALENDAR
VERSION:2.0
PRODID:-//Lutheran Church of the Savior - ECPv6.15.20//NONSGML v1.0//EN
CALSCALE:GREGORIAN
METHOD:PUBLISH
X-ORIGINAL-URL:https://www.lcsavior.org
X-WR-CALDESC:Events for Lutheran Church of the Savior
REFRESH-INTERVAL;VALUE=DURATION:PT1H
X-Robots-Tag:noindex
X-PUBLISHED-TTL:PT1H
BEGIN:VTIMEZONE
TZID:America/New_York
BEGIN:DAYLIGHT
TZOFFSETFROM:-0500
TZOFFSETTO:-0400
TZNAME:EDT
DTSTART:20220313T070000
END:DAYLIGHT
BEGIN:STANDARD
TZOFFSETFROM:-0400
TZOFFSETTO:-0500
TZNAME:EST
DTSTART:20221106T060000
END:STANDARD
BEGIN:DAYLIGHT
TZOFFSETFROM:-0500
TZOFFSETTO:-0400
TZNAME:EDT
DTSTART:20230312T070000
END:DAYLIGHT
BEGIN:STANDARD
TZOFFSETFROM:-0400
TZOFFSETTO:-0500
TZNAME:EST
DTSTART:20231105T060000
END:STANDARD
BEGIN:DAYLIGHT
TZOFFSETFROM:-0500
TZOFFSETTO:-0400
TZNAME:EDT
DTSTART:20240310T070000
END:DAYLIGHT
BEGIN:STANDARD
TZOFFSETFROM:-0400
TZOFFSETTO:-0500
TZNAME:EST
DTSTART:20241103T060000
END:STANDARD
BEGIN:DAYLIGHT
TZOFFSETFROM:-0500
TZOFFSETTO:-0400
TZNAME:EDT
DTSTART:20250309T070000
END:DAYLIGHT
BEGIN:STANDARD
TZOFFSETFROM:-0400
TZOFFSETTO:-0500
TZNAME:EST
DTSTART:20251102T060000
END:STANDARD
END:VTIMEZONE
BEGIN:VEVENT
DTSTART;TZID=America/New_York:20240407T093000
DTEND;TZID=America/New_York:20240407T103000
DTSTAMP:20260424T234630
CREATED:20240316T155220Z
LAST-MODIFIED:20240316T155221Z
UID:10001670-1712482200-1712485800@www.lcsavior.org
SUMMARY:Christian Education Hour
DESCRIPTION:Each Sunday from 9:30AM – 10:30AM\, we have a variety of different opportunities to study God’s Word together. We have classes for everybody from age 2 to 102\, and there’s always room for you!
URL:https://www.lcsavior.org/event/christian-education-hour-5-2/2024-04-07/
LOCATION:Lutheran Church of the Savior\, 426 Davis Rd.\, Bedford\, MA\, 01730\, United States
CATEGORIES:Bible Study
ATTACH;FMTTYPE=image/png:https://www.lcsavior.org/wp-content/uploads/2020/10/bible-study-logo-1080p-e1705168854863.png
END:VEVENT
BEGIN:VEVENT
DTSTART;TZID=America/New_York:20240324T093000
DTEND;TZID=America/New_York:20240324T103000
DTSTAMP:20260424T234630
CREATED:20240316T155220Z
LAST-MODIFIED:20240316T155221Z
UID:10001668-1711272600-1711276200@www.lcsavior.org
SUMMARY:Christian Education Hour
DESCRIPTION:Each Sunday from 9:30AM – 10:30AM\, we have a variety of different opportunities to study God’s Word together. We have classes for everybody from age 2 to 102\, and there’s always room for you!
URL:https://www.lcsavior.org/event/christian-education-hour-5-2/2024-03-24/
LOCATION:Lutheran Church of the Savior\, 426 Davis Rd.\, Bedford\, MA\, 01730\, United States
CATEGORIES:Bible Study
ATTACH;FMTTYPE=image/png:https://www.lcsavior.org/wp-content/uploads/2020/10/bible-study-logo-1080p-e1705168854863.png
END:VEVENT
BEGIN:VEVENT
DTSTART;TZID=America/New_York:20240317T093000
DTEND;TZID=America/New_York:20240317T103000
DTSTAMP:20260424T234630
CREATED:20240316T155220Z
LAST-MODIFIED:20240316T155221Z
UID:10001667-1710667800-1710671400@www.lcsavior.org
SUMMARY:Christian Education Hour
DESCRIPTION:Each Sunday from 9:30AM – 10:30AM\, we have a variety of different opportunities to study God’s Word together. We have classes for everybody from age 2 to 102\, and there’s always room for you!
URL:https://www.lcsavior.org/event/christian-education-hour-5-2/2024-03-17/
LOCATION:Lutheran Church of the Savior\, 426 Davis Rd.\, Bedford\, MA\, 01730\, United States
CATEGORIES:Bible Study
ATTACH;FMTTYPE=image/png:https://www.lcsavior.org/wp-content/uploads/2020/10/bible-study-logo-1080p-e1705168854863.png
END:VEVENT
BEGIN:VEVENT
DTSTART;TZID=America/New_York:20240310T093000
DTEND;TZID=America/New_York:20240310T103000
DTSTAMP:20260424T234630
CREATED:20240113T180117Z
LAST-MODIFIED:20240113T180117Z
UID:10001666-1710063000-1710066600@www.lcsavior.org
SUMMARY:Christian Education Hour
DESCRIPTION:Each Sunday from 9:30AM – 10:30AM\, we have a variety of different opportunities to study God’s Word together. We have classes for everybody from age 2 to 102\, and there’s always room for you!
URL:https://www.lcsavior.org/event/christian-education-hour-5/2024-03-10/
LOCATION:Lutheran Church of the Savior\, 426 Davis Rd.\, Bedford\, MA\, 01730\, United States
CATEGORIES:Bible Study
ATTACH;FMTTYPE=image/png:https://www.lcsavior.org/wp-content/uploads/2020/10/bible-study-logo-1080p-e1705168854863.png
END:VEVENT
BEGIN:VEVENT
DTSTART;TZID=America/New_York:20240303T093000
DTEND;TZID=America/New_York:20240303T103000
DTSTAMP:20260424T234630
CREATED:20240113T180117Z
LAST-MODIFIED:20240113T180117Z
UID:10001665-1709458200-1709461800@www.lcsavior.org
SUMMARY:Christian Education Hour
DESCRIPTION:Each Sunday from 9:30AM – 10:30AM\, we have a variety of different opportunities to study God’s Word together. We have classes for everybody from age 2 to 102\, and there’s always room for you!
URL:https://www.lcsavior.org/event/christian-education-hour-5/2024-03-03/
LOCATION:Lutheran Church of the Savior\, 426 Davis Rd.\, Bedford\, MA\, 01730\, United States
CATEGORIES:Bible Study
ATTACH;FMTTYPE=image/png:https://www.lcsavior.org/wp-content/uploads/2020/10/bible-study-logo-1080p-e1705168854863.png
END:VEVENT
BEGIN:VEVENT
DTSTART;TZID=America/New_York:20240225T093000
DTEND;TZID=America/New_York:20240225T103000
DTSTAMP:20260424T234630
CREATED:20240113T180117Z
LAST-MODIFIED:20240113T180117Z
UID:10001664-1708853400-1708857000@www.lcsavior.org
SUMMARY:Christian Education Hour
DESCRIPTION:Each Sunday from 9:30AM – 10:30AM\, we have a variety of different opportunities to study God’s Word together. We have classes for everybody from age 2 to 102\, and there’s always room for you!
URL:https://www.lcsavior.org/event/christian-education-hour-5/2024-02-25/
LOCATION:Lutheran Church of the Savior\, 426 Davis Rd.\, Bedford\, MA\, 01730\, United States
CATEGORIES:Bible Study
ATTACH;FMTTYPE=image/png:https://www.lcsavior.org/wp-content/uploads/2020/10/bible-study-logo-1080p-e1705168854863.png
END:VEVENT
BEGIN:VEVENT
DTSTART;TZID=America/New_York:20240218T093000
DTEND;TZID=America/New_York:20240218T103000
DTSTAMP:20260424T234630
CREATED:20240113T180117Z
LAST-MODIFIED:20240113T180117Z
UID:10001663-1708248600-1708252200@www.lcsavior.org
SUMMARY:Christian Education Hour
DESCRIPTION:Each Sunday from 9:30AM – 10:30AM\, we have a variety of different opportunities to study God’s Word together. We have classes for everybody from age 2 to 102\, and there’s always room for you!
URL:https://www.lcsavior.org/event/christian-education-hour-5/2024-02-18/
LOCATION:Lutheran Church of the Savior\, 426 Davis Rd.\, Bedford\, MA\, 01730\, United States
CATEGORIES:Bible Study
ATTACH;FMTTYPE=image/png:https://www.lcsavior.org/wp-content/uploads/2020/10/bible-study-logo-1080p-e1705168854863.png
END:VEVENT
BEGIN:VEVENT
DTSTART;TZID=America/New_York:20240211T093000
DTEND;TZID=America/New_York:20240211T103000
DTSTAMP:20260424T234630
CREATED:20240113T180117Z
LAST-MODIFIED:20240113T180117Z
UID:10001662-1707643800-1707647400@www.lcsavior.org
SUMMARY:Christian Education Hour
DESCRIPTION:Each Sunday from 9:30AM – 10:30AM\, we have a variety of different opportunities to study God’s Word together. We have classes for everybody from age 2 to 102\, and there’s always room for you!
URL:https://www.lcsavior.org/event/christian-education-hour-5/2024-02-11/
LOCATION:Lutheran Church of the Savior\, 426 Davis Rd.\, Bedford\, MA\, 01730\, United States
CATEGORIES:Bible Study
ATTACH;FMTTYPE=image/png:https://www.lcsavior.org/wp-content/uploads/2020/10/bible-study-logo-1080p-e1705168854863.png
END:VEVENT
BEGIN:VEVENT
DTSTART;TZID=America/New_York:20240204T093000
DTEND;TZID=America/New_York:20240204T103000
DTSTAMP:20260424T234630
CREATED:20240113T180117Z
LAST-MODIFIED:20240113T180117Z
UID:10001661-1707039000-1707042600@www.lcsavior.org
SUMMARY:Christian Education Hour
DESCRIPTION:Each Sunday from 9:30AM – 10:30AM\, we have a variety of different opportunities to study God’s Word together. We have classes for everybody from age 2 to 102\, and there’s always room for you!
URL:https://www.lcsavior.org/event/christian-education-hour-5/2024-02-04/
LOCATION:Lutheran Church of the Savior\, 426 Davis Rd.\, Bedford\, MA\, 01730\, United States
CATEGORIES:Bible Study
ATTACH;FMTTYPE=image/png:https://www.lcsavior.org/wp-content/uploads/2020/10/bible-study-logo-1080p-e1705168854863.png
END:VEVENT
BEGIN:VEVENT
DTSTART;TZID=America/New_York:20240128T093000
DTEND;TZID=America/New_York:20240128T103000
DTSTAMP:20260424T234630
CREATED:20240113T180117Z
LAST-MODIFIED:20240113T180117Z
UID:10001660-1706434200-1706437800@www.lcsavior.org
SUMMARY:Christian Education Hour
DESCRIPTION:Each Sunday from 9:30AM – 10:30AM\, we have a variety of different opportunities to study God’s Word together. We have classes for everybody from age 2 to 102\, and there’s always room for you!
URL:https://www.lcsavior.org/event/christian-education-hour-5/2024-01-28/
LOCATION:Lutheran Church of the Savior\, 426 Davis Rd.\, Bedford\, MA\, 01730\, United States
CATEGORIES:Bible Study
ATTACH;FMTTYPE=image/png:https://www.lcsavior.org/wp-content/uploads/2020/10/bible-study-logo-1080p-e1705168854863.png
END:VEVENT
BEGIN:VEVENT
DTSTART;TZID=America/New_York:20240121T093000
DTEND;TZID=America/New_York:20240121T103000
DTSTAMP:20260424T234631
CREATED:20240113T180117Z
LAST-MODIFIED:20240113T180117Z
UID:10001659-1705829400-1705833000@www.lcsavior.org
SUMMARY:Christian Education Hour
DESCRIPTION:Each Sunday from 9:30AM – 10:30AM\, we have a variety of different opportunities to study God’s Word together. We have classes for everybody from age 2 to 102\, and there’s always room for you!
URL:https://www.lcsavior.org/event/christian-education-hour-5/2024-01-21/
LOCATION:Lutheran Church of the Savior\, 426 Davis Rd.\, Bedford\, MA\, 01730\, United States
CATEGORIES:Bible Study
ATTACH;FMTTYPE=image/png:https://www.lcsavior.org/wp-content/uploads/2020/10/bible-study-logo-1080p-e1705168854863.png
END:VEVENT
BEGIN:VEVENT
DTSTART;TZID=America/New_York:20240114T093000
DTEND;TZID=America/New_York:20240114T103000
DTSTAMP:20260424T234631
CREATED:20240113T180117Z
LAST-MODIFIED:20240113T180117Z
UID:10001658-1705224600-1705228200@www.lcsavior.org
SUMMARY:Christian Education Hour
DESCRIPTION:Each Sunday from 9:30AM – 10:30AM\, we have a variety of different opportunities to study God’s Word together. We have classes for everybody from age 2 to 102\, and there’s always room for you!
URL:https://www.lcsavior.org/event/christian-education-hour-5/2024-01-14/
LOCATION:Lutheran Church of the Savior\, 426 Davis Rd.\, Bedford\, MA\, 01730\, United States
CATEGORIES:Bible Study
ATTACH;FMTTYPE=image/png:https://www.lcsavior.org/wp-content/uploads/2020/10/bible-study-logo-1080p-e1705168854863.png
END:VEVENT
BEGIN:VEVENT
DTSTART;TZID=America/New_York:20231217T093000
DTEND;TZID=America/New_York:20231217T103000
DTSTAMP:20260424T234631
CREATED:20230909T121407Z
LAST-MODIFIED:20230909T121518Z
UID:10001582-1702805400-1702809000@www.lcsavior.org
SUMMARY:Christian Education Hour
DESCRIPTION:Each Sunday from 9:30AM – 10:30AM\, we have a variety of different opportunities to study God’s Word together. We have classes for everybody from age 2 to 102\, and there’s always room for you!
URL:https://www.lcsavior.org/event/christian-ed-2023/2023-12-17/
LOCATION:Lutheran Church of the Savior\, 426 Davis Rd.\, Bedford\, MA\, 01730\, United States
CATEGORIES:Bible Study
ATTACH;FMTTYPE=image/png:https://www.lcsavior.org/wp-content/uploads/2020/10/bible-study-logo-1080p-e1705168854863.png
END:VEVENT
BEGIN:VEVENT
DTSTART;TZID=America/New_York:20231210T093000
DTEND;TZID=America/New_York:20231210T103000
DTSTAMP:20260424T234631
CREATED:20230909T121407Z
LAST-MODIFIED:20230909T121518Z
UID:10001581-1702200600-1702204200@www.lcsavior.org
SUMMARY:Christian Education Hour
DESCRIPTION:Each Sunday from 9:30AM – 10:30AM\, we have a variety of different opportunities to study God’s Word together. We have classes for everybody from age 2 to 102\, and there’s always room for you!
URL:https://www.lcsavior.org/event/christian-ed-2023/2023-12-10/
LOCATION:Lutheran Church of the Savior\, 426 Davis Rd.\, Bedford\, MA\, 01730\, United States
CATEGORIES:Bible Study
ATTACH;FMTTYPE=image/png:https://www.lcsavior.org/wp-content/uploads/2020/10/bible-study-logo-1080p-e1705168854863.png
END:VEVENT
BEGIN:VEVENT
DTSTART;TZID=America/New_York:20231203T093000
DTEND;TZID=America/New_York:20231203T103000
DTSTAMP:20260424T234631
CREATED:20230909T121407Z
LAST-MODIFIED:20230909T121518Z
UID:10001580-1701595800-1701599400@www.lcsavior.org
SUMMARY:Christian Education Hour
DESCRIPTION:Each Sunday from 9:30AM – 10:30AM\, we have a variety of different opportunities to study God’s Word together. We have classes for everybody from age 2 to 102\, and there’s always room for you!
URL:https://www.lcsavior.org/event/christian-ed-2023/2023-12-03/
LOCATION:Lutheran Church of the Savior\, 426 Davis Rd.\, Bedford\, MA\, 01730\, United States
CATEGORIES:Bible Study
ATTACH;FMTTYPE=image/png:https://www.lcsavior.org/wp-content/uploads/2020/10/bible-study-logo-1080p-e1705168854863.png
END:VEVENT
BEGIN:VEVENT
DTSTART;TZID=America/New_York:20231126T093000
DTEND;TZID=America/New_York:20231126T103000
DTSTAMP:20260424T234631
CREATED:20230909T121407Z
LAST-MODIFIED:20230909T121518Z
UID:10001579-1700991000-1700994600@www.lcsavior.org
SUMMARY:Christian Education Hour
DESCRIPTION:Each Sunday from 9:30AM – 10:30AM\, we have a variety of different opportunities to study God’s Word together. We have classes for everybody from age 2 to 102\, and there’s always room for you!
URL:https://www.lcsavior.org/event/christian-ed-2023/2023-11-26/
LOCATION:Lutheran Church of the Savior\, 426 Davis Rd.\, Bedford\, MA\, 01730\, United States
CATEGORIES:Bible Study
ATTACH;FMTTYPE=image/png:https://www.lcsavior.org/wp-content/uploads/2020/10/bible-study-logo-1080p-e1705168854863.png
END:VEVENT
BEGIN:VEVENT
DTSTART;TZID=America/New_York:20231119T093000
DTEND;TZID=America/New_York:20231119T103000
DTSTAMP:20260424T234631
CREATED:20230909T121407Z
LAST-MODIFIED:20230909T121518Z
UID:10001578-1700386200-1700389800@www.lcsavior.org
SUMMARY:Christian Education Hour
DESCRIPTION:Each Sunday from 9:30AM – 10:30AM\, we have a variety of different opportunities to study God’s Word together. We have classes for everybody from age 2 to 102\, and there’s always room for you!
URL:https://www.lcsavior.org/event/christian-ed-2023/2023-11-19/
LOCATION:Lutheran Church of the Savior\, 426 Davis Rd.\, Bedford\, MA\, 01730\, United States
CATEGORIES:Bible Study
ATTACH;FMTTYPE=image/png:https://www.lcsavior.org/wp-content/uploads/2020/10/bible-study-logo-1080p-e1705168854863.png
END:VEVENT
BEGIN:VEVENT
DTSTART;TZID=America/New_York:20231112T093000
DTEND;TZID=America/New_York:20231112T103000
DTSTAMP:20260424T234631
CREATED:20230909T121407Z
LAST-MODIFIED:20230909T121518Z
UID:10001577-1699781400-1699785000@www.lcsavior.org
SUMMARY:Christian Education Hour
DESCRIPTION:Each Sunday from 9:30AM – 10:30AM\, we have a variety of different opportunities to study God’s Word together. We have classes for everybody from age 2 to 102\, and there’s always room for you!
URL:https://www.lcsavior.org/event/christian-ed-2023/2023-11-12/
LOCATION:Lutheran Church of the Savior\, 426 Davis Rd.\, Bedford\, MA\, 01730\, United States
CATEGORIES:Bible Study
ATTACH;FMTTYPE=image/png:https://www.lcsavior.org/wp-content/uploads/2020/10/bible-study-logo-1080p-e1705168854863.png
END:VEVENT
BEGIN:VEVENT
DTSTART;TZID=America/New_York:20231105T093000
DTEND;TZID=America/New_York:20231105T103000
DTSTAMP:20260424T234631
CREATED:20230909T121407Z
LAST-MODIFIED:20230909T121518Z
UID:10001576-1699176600-1699180200@www.lcsavior.org
SUMMARY:Christian Education Hour
DESCRIPTION:Each Sunday from 9:30AM – 10:30AM\, we have a variety of different opportunities to study God’s Word together. We have classes for everybody from age 2 to 102\, and there’s always room for you!
URL:https://www.lcsavior.org/event/christian-ed-2023/2023-11-05/
LOCATION:Lutheran Church of the Savior\, 426 Davis Rd.\, Bedford\, MA\, 01730\, United States
CATEGORIES:Bible Study
ATTACH;FMTTYPE=image/png:https://www.lcsavior.org/wp-content/uploads/2020/10/bible-study-logo-1080p-e1705168854863.png
END:VEVENT
BEGIN:VEVENT
DTSTART;TZID=America/New_York:20231029T093000
DTEND;TZID=America/New_York:20231029T103000
DTSTAMP:20260424T234631
CREATED:20230909T121407Z
LAST-MODIFIED:20230909T121518Z
UID:10001575-1698571800-1698575400@www.lcsavior.org
SUMMARY:Christian Education Hour
DESCRIPTION:Each Sunday from 9:30AM – 10:30AM\, we have a variety of different opportunities to study God’s Word together. We have classes for everybody from age 2 to 102\, and there’s always room for you!
URL:https://www.lcsavior.org/event/christian-ed-2023/2023-10-29/
LOCATION:Lutheran Church of the Savior\, 426 Davis Rd.\, Bedford\, MA\, 01730\, United States
CATEGORIES:Bible Study
ATTACH;FMTTYPE=image/png:https://www.lcsavior.org/wp-content/uploads/2020/10/bible-study-logo-1080p-e1705168854863.png
END:VEVENT
BEGIN:VEVENT
DTSTART;TZID=America/New_York:20231022T093000
DTEND;TZID=America/New_York:20231022T103000
DTSTAMP:20260424T234631
CREATED:20230909T121407Z
LAST-MODIFIED:20230909T121518Z
UID:10001574-1697967000-1697970600@www.lcsavior.org
SUMMARY:Christian Education Hour
DESCRIPTION:Each Sunday from 9:30AM – 10:30AM\, we have a variety of different opportunities to study God’s Word together. We have classes for everybody from age 2 to 102\, and there’s always room for you!
URL:https://www.lcsavior.org/event/christian-ed-2023/2023-10-22/
LOCATION:Lutheran Church of the Savior\, 426 Davis Rd.\, Bedford\, MA\, 01730\, United States
CATEGORIES:Bible Study
ATTACH;FMTTYPE=image/png:https://www.lcsavior.org/wp-content/uploads/2020/10/bible-study-logo-1080p-e1705168854863.png
END:VEVENT
BEGIN:VEVENT
DTSTART;TZID=America/New_York:20231015T093000
DTEND;TZID=America/New_York:20231015T103000
DTSTAMP:20260424T234631
CREATED:20230909T121407Z
LAST-MODIFIED:20230909T121518Z
UID:10001573-1697362200-1697365800@www.lcsavior.org
SUMMARY:Christian Education Hour
DESCRIPTION:Each Sunday from 9:30AM – 10:30AM\, we have a variety of different opportunities to study God’s Word together. We have classes for everybody from age 2 to 102\, and there’s always room for you!
URL:https://www.lcsavior.org/event/christian-ed-2023/2023-10-15/
LOCATION:Lutheran Church of the Savior\, 426 Davis Rd.\, Bedford\, MA\, 01730\, United States
CATEGORIES:Bible Study
ATTACH;FMTTYPE=image/png:https://www.lcsavior.org/wp-content/uploads/2020/10/bible-study-logo-1080p-e1705168854863.png
END:VEVENT
BEGIN:VEVENT
DTSTART;TZID=America/New_York:20231008T093000
DTEND;TZID=America/New_York:20231008T103000
DTSTAMP:20260424T234631
CREATED:20230909T121407Z
LAST-MODIFIED:20230909T121518Z
UID:10001572-1696757400-1696761000@www.lcsavior.org
SUMMARY:Christian Education Hour
DESCRIPTION:Each Sunday from 9:30AM – 10:30AM\, we have a variety of different opportunities to study God’s Word together. We have classes for everybody from age 2 to 102\, and there’s always room for you!
URL:https://www.lcsavior.org/event/christian-ed-2023/2023-10-08/
LOCATION:Lutheran Church of the Savior\, 426 Davis Rd.\, Bedford\, MA\, 01730\, United States
CATEGORIES:Bible Study
ATTACH;FMTTYPE=image/png:https://www.lcsavior.org/wp-content/uploads/2020/10/bible-study-logo-1080p-e1705168854863.png
END:VEVENT
BEGIN:VEVENT
DTSTART;TZID=America/New_York:20231001T093000
DTEND;TZID=America/New_York:20231001T103000
DTSTAMP:20260424T234631
CREATED:20230909T121407Z
LAST-MODIFIED:20230909T121518Z
UID:10001571-1696152600-1696156200@www.lcsavior.org
SUMMARY:Christian Education Hour
DESCRIPTION:Each Sunday from 9:30AM – 10:30AM\, we have a variety of different opportunities to study God’s Word together. We have classes for everybody from age 2 to 102\, and there’s always room for you!
URL:https://www.lcsavior.org/event/christian-ed-2023/2023-10-01/
LOCATION:Lutheran Church of the Savior\, 426 Davis Rd.\, Bedford\, MA\, 01730\, United States
CATEGORIES:Bible Study
ATTACH;FMTTYPE=image/png:https://www.lcsavior.org/wp-content/uploads/2020/10/bible-study-logo-1080p-e1705168854863.png
END:VEVENT
BEGIN:VEVENT
DTSTART;TZID=America/New_York:20230924T093000
DTEND;TZID=America/New_York:20230924T103000
DTSTAMP:20260424T234631
CREATED:20230909T121407Z
LAST-MODIFIED:20230909T121518Z
UID:10001570-1695547800-1695551400@www.lcsavior.org
SUMMARY:Christian Education Hour
DESCRIPTION:Each Sunday from 9:30AM – 10:30AM\, we have a variety of different opportunities to study God’s Word together. We have classes for everybody from age 2 to 102\, and there’s always room for you!
URL:https://www.lcsavior.org/event/christian-ed-2023/2023-09-24/
LOCATION:Lutheran Church of the Savior\, 426 Davis Rd.\, Bedford\, MA\, 01730\, United States
CATEGORIES:Bible Study
ATTACH;FMTTYPE=image/png:https://www.lcsavior.org/wp-content/uploads/2020/10/bible-study-logo-1080p-e1705168854863.png
END:VEVENT
BEGIN:VEVENT
DTSTART;TZID=America/New_York:20230917T093000
DTEND;TZID=America/New_York:20230917T103000
DTSTAMP:20260424T234631
CREATED:20230909T121407Z
LAST-MODIFIED:20230909T121518Z
UID:10001569-1694943000-1694946600@www.lcsavior.org
SUMMARY:Christian Education Hour
DESCRIPTION:Each Sunday from 9:30AM – 10:30AM\, we have a variety of different opportunities to study God’s Word together. We have classes for everybody from age 2 to 102\, and there’s always room for you!
URL:https://www.lcsavior.org/event/christian-ed-2023/2023-09-17/
LOCATION:Lutheran Church of the Savior\, 426 Davis Rd.\, Bedford\, MA\, 01730\, United States
CATEGORIES:Bible Study
ATTACH;FMTTYPE=image/png:https://www.lcsavior.org/wp-content/uploads/2020/10/bible-study-logo-1080p-e1705168854863.png
END:VEVENT
BEGIN:VEVENT
DTSTART;TZID=America/New_York:20230910T093000
DTEND;TZID=America/New_York:20230910T103000
DTSTAMP:20260424T234631
CREATED:20230909T121407Z
LAST-MODIFIED:20230909T121518Z
UID:10001568-1694338200-1694341800@www.lcsavior.org
SUMMARY:Christian Education Hour
DESCRIPTION:Each Sunday from 9:30AM – 10:30AM\, we have a variety of different opportunities to study God’s Word together. We have classes for everybody from age 2 to 102\, and there’s always room for you!
URL:https://www.lcsavior.org/event/christian-ed-2023/2023-09-10/
LOCATION:Lutheran Church of the Savior\, 426 Davis Rd.\, Bedford\, MA\, 01730\, United States
CATEGORIES:Bible Study
ATTACH;FMTTYPE=image/png:https://www.lcsavior.org/wp-content/uploads/2020/10/bible-study-logo-1080p-e1705168854863.png
END:VEVENT
BEGIN:VEVENT
DTSTART;TZID=America/New_York:20230903T103000
DTEND;TZID=America/New_York:20230903T113000
DTSTAMP:20260424T234631
CREATED:20230715T152404Z
LAST-MODIFIED:20230715T152404Z
UID:10001496-1693737000-1693740600@www.lcsavior.org
SUMMARY:Christian Education Hour
DESCRIPTION:Each Sunday from 10:30AM – 11:30AM\, we have a variety of different opportunities to study God’s Word together. We have classes for everybody from age 2 to 102\, and there’s always room for YOU!
URL:https://www.lcsavior.org/event/christian-education-hour-4/2023-09-03/
LOCATION:Lutheran Church of the Savior\, 426 Davis Rd.\, Bedford\, MA\, 01730\, United States
CATEGORIES:Bible Study
ATTACH;FMTTYPE=image/jpeg:https://www.lcsavior.org/wp-content/uploads/2021/01/womens-bible-study-shutterstock_738453862-Custom-1.jpg
END:VEVENT
BEGIN:VEVENT
DTSTART;TZID=America/New_York:20230827T103000
DTEND;TZID=America/New_York:20230827T113000
DTSTAMP:20260424T234631
CREATED:20230715T152404Z
LAST-MODIFIED:20230715T152404Z
UID:10001495-1693132200-1693135800@www.lcsavior.org
SUMMARY:Christian Education Hour
DESCRIPTION:Each Sunday from 10:30AM – 11:30AM\, we have a variety of different opportunities to study God’s Word together. We have classes for everybody from age 2 to 102\, and there’s always room for YOU!
URL:https://www.lcsavior.org/event/christian-education-hour-4/2023-08-27/
LOCATION:Lutheran Church of the Savior\, 426 Davis Rd.\, Bedford\, MA\, 01730\, United States
CATEGORIES:Bible Study
ATTACH;FMTTYPE=image/jpeg:https://www.lcsavior.org/wp-content/uploads/2021/01/womens-bible-study-shutterstock_738453862-Custom-1.jpg
END:VEVENT
BEGIN:VEVENT
DTSTART;TZID=America/New_York:20230820T103000
DTEND;TZID=America/New_York:20230820T113000
DTSTAMP:20260424T234631
CREATED:20230715T152404Z
LAST-MODIFIED:20230715T152404Z
UID:10001494-1692527400-1692531000@www.lcsavior.org
SUMMARY:Christian Education Hour
DESCRIPTION:Each Sunday from 10:30AM – 11:30AM\, we have a variety of different opportunities to study God’s Word together. We have classes for everybody from age 2 to 102\, and there’s always room for YOU!
URL:https://www.lcsavior.org/event/christian-education-hour-4/2023-08-20/
LOCATION:Lutheran Church of the Savior\, 426 Davis Rd.\, Bedford\, MA\, 01730\, United States
CATEGORIES:Bible Study
ATTACH;FMTTYPE=image/jpeg:https://www.lcsavior.org/wp-content/uploads/2021/01/womens-bible-study-shutterstock_738453862-Custom-1.jpg
END:VEVENT
END:VCALENDAR