BEGIN:VCALENDAR
VERSION:2.0
PRODID:-//Lutheran Church of the Savior - ECPv6.15.20//NONSGML v1.0//EN
CALSCALE:GREGORIAN
METHOD:PUBLISH
X-ORIGINAL-URL:https://www.lcsavior.org
X-WR-CALDESC:Events for Lutheran Church of the Savior
REFRESH-INTERVAL;VALUE=DURATION:PT1H
X-Robots-Tag:noindex
X-PUBLISHED-TTL:PT1H
BEGIN:VTIMEZONE
TZID:America/New_York
BEGIN:DAYLIGHT
TZOFFSETFROM:-0500
TZOFFSETTO:-0400
TZNAME:EDT
DTSTART:20230312T070000
END:DAYLIGHT
BEGIN:STANDARD
TZOFFSETFROM:-0400
TZOFFSETTO:-0500
TZNAME:EST
DTSTART:20231105T060000
END:STANDARD
BEGIN:DAYLIGHT
TZOFFSETFROM:-0500
TZOFFSETTO:-0400
TZNAME:EDT
DTSTART:20240310T070000
END:DAYLIGHT
BEGIN:STANDARD
TZOFFSETFROM:-0400
TZOFFSETTO:-0500
TZNAME:EST
DTSTART:20241103T060000
END:STANDARD
BEGIN:DAYLIGHT
TZOFFSETFROM:-0500
TZOFFSETTO:-0400
TZNAME:EDT
DTSTART:20250309T070000
END:DAYLIGHT
BEGIN:STANDARD
TZOFFSETFROM:-0400
TZOFFSETTO:-0500
TZNAME:EST
DTSTART:20251102T060000
END:STANDARD
BEGIN:DAYLIGHT
TZOFFSETFROM:-0500
TZOFFSETTO:-0400
TZNAME:EDT
DTSTART:20260308T070000
END:DAYLIGHT
BEGIN:STANDARD
TZOFFSETFROM:-0400
TZOFFSETTO:-0500
TZNAME:EST
DTSTART:20261101T060000
END:STANDARD
END:VTIMEZONE
BEGIN:VEVENT
DTSTART;TZID=America/New_York:20250216T093000
DTEND;TZID=America/New_York:20250216T103000
DTSTAMP:20260424T194641
CREATED:20240831T165239Z
LAST-MODIFIED:20250413T005544Z
UID:10001859-1739698200-1739701800@www.lcsavior.org
SUMMARY:Christian Education Hour
DESCRIPTION:Each Sunday from 9:30AM – 10:30AM\, we have a variety of different opportunities to study God’s Word together. We have classes for everybody from age 2 to 102\, and there’s always room for you!
URL:https://www.lcsavior.org/event/christian-education-hour-6/2025-02-16/
LOCATION:Lutheran Church of the Savior\, 426 Davis Rd.\, Bedford\, MA\, 01730\, United States
CATEGORIES:Bible Study
ATTACH;FMTTYPE=image/png:https://www.lcsavior.org/wp-content/uploads/2020/10/bible-study-logo-1080p-e1705168854863.png
END:VEVENT
BEGIN:VEVENT
DTSTART;TZID=America/New_York:20250209T093000
DTEND;TZID=America/New_York:20250209T103000
DTSTAMP:20260424T194641
CREATED:20240831T165239Z
LAST-MODIFIED:20250413T005544Z
UID:10001858-1739093400-1739097000@www.lcsavior.org
SUMMARY:Christian Education Hour
DESCRIPTION:Each Sunday from 9:30AM – 10:30AM\, we have a variety of different opportunities to study God’s Word together. We have classes for everybody from age 2 to 102\, and there’s always room for you!
URL:https://www.lcsavior.org/event/christian-education-hour-6/2025-02-09/
LOCATION:Lutheran Church of the Savior\, 426 Davis Rd.\, Bedford\, MA\, 01730\, United States
CATEGORIES:Bible Study
ATTACH;FMTTYPE=image/png:https://www.lcsavior.org/wp-content/uploads/2020/10/bible-study-logo-1080p-e1705168854863.png
END:VEVENT
BEGIN:VEVENT
DTSTART;TZID=America/New_York:20250202T093000
DTEND;TZID=America/New_York:20250202T103000
DTSTAMP:20260424T194641
CREATED:20240831T165239Z
LAST-MODIFIED:20250413T005544Z
UID:10001857-1738488600-1738492200@www.lcsavior.org
SUMMARY:Christian Education Hour
DESCRIPTION:Each Sunday from 9:30AM – 10:30AM\, we have a variety of different opportunities to study God’s Word together. We have classes for everybody from age 2 to 102\, and there’s always room for you!
URL:https://www.lcsavior.org/event/christian-education-hour-6/2025-02-02/
LOCATION:Lutheran Church of the Savior\, 426 Davis Rd.\, Bedford\, MA\, 01730\, United States
CATEGORIES:Bible Study
ATTACH;FMTTYPE=image/png:https://www.lcsavior.org/wp-content/uploads/2020/10/bible-study-logo-1080p-e1705168854863.png
END:VEVENT
BEGIN:VEVENT
DTSTART;TZID=America/New_York:20250126T093000
DTEND;TZID=America/New_York:20250126T103000
DTSTAMP:20260424T194641
CREATED:20240831T165239Z
LAST-MODIFIED:20250413T005544Z
UID:10001856-1737883800-1737887400@www.lcsavior.org
SUMMARY:Christian Education Hour
DESCRIPTION:Each Sunday from 9:30AM – 10:30AM\, we have a variety of different opportunities to study God’s Word together. We have classes for everybody from age 2 to 102\, and there’s always room for you!
URL:https://www.lcsavior.org/event/christian-education-hour-6/2025-01-26/
LOCATION:Lutheran Church of the Savior\, 426 Davis Rd.\, Bedford\, MA\, 01730\, United States
CATEGORIES:Bible Study
ATTACH;FMTTYPE=image/png:https://www.lcsavior.org/wp-content/uploads/2020/10/bible-study-logo-1080p-e1705168854863.png
END:VEVENT
BEGIN:VEVENT
DTSTART;TZID=America/New_York:20250119T093000
DTEND;TZID=America/New_York:20250119T103000
DTSTAMP:20260424T194641
CREATED:20240831T165239Z
LAST-MODIFIED:20250413T005544Z
UID:10001855-1737279000-1737282600@www.lcsavior.org
SUMMARY:Christian Education Hour
DESCRIPTION:Each Sunday from 9:30AM – 10:30AM\, we have a variety of different opportunities to study God’s Word together. We have classes for everybody from age 2 to 102\, and there’s always room for you!
URL:https://www.lcsavior.org/event/christian-education-hour-6/2025-01-19/
LOCATION:Lutheran Church of the Savior\, 426 Davis Rd.\, Bedford\, MA\, 01730\, United States
CATEGORIES:Bible Study
ATTACH;FMTTYPE=image/png:https://www.lcsavior.org/wp-content/uploads/2020/10/bible-study-logo-1080p-e1705168854863.png
END:VEVENT
BEGIN:VEVENT
DTSTART;TZID=America/New_York:20250112T093000
DTEND;TZID=America/New_York:20250112T103000
DTSTAMP:20260424T194641
CREATED:20240831T165239Z
LAST-MODIFIED:20250413T005544Z
UID:10001854-1736674200-1736677800@www.lcsavior.org
SUMMARY:Christian Education Hour
DESCRIPTION:Each Sunday from 9:30AM – 10:30AM\, we have a variety of different opportunities to study God’s Word together. We have classes for everybody from age 2 to 102\, and there’s always room for you!
URL:https://www.lcsavior.org/event/christian-education-hour-6/2025-01-12/
LOCATION:Lutheran Church of the Savior\, 426 Davis Rd.\, Bedford\, MA\, 01730\, United States
CATEGORIES:Bible Study
ATTACH;FMTTYPE=image/png:https://www.lcsavior.org/wp-content/uploads/2020/10/bible-study-logo-1080p-e1705168854863.png
END:VEVENT
BEGIN:VEVENT
DTSTART;TZID=America/New_York:20250105T093000
DTEND;TZID=America/New_York:20250105T103000
DTSTAMP:20260424T194641
CREATED:20240831T165239Z
LAST-MODIFIED:20250413T005544Z
UID:10001853-1736069400-1736073000@www.lcsavior.org
SUMMARY:Christian Education Hour
DESCRIPTION:Each Sunday from 9:30AM – 10:30AM\, we have a variety of different opportunities to study God’s Word together. We have classes for everybody from age 2 to 102\, and there’s always room for you!
URL:https://www.lcsavior.org/event/christian-education-hour-6/2025-01-05/
LOCATION:Lutheran Church of the Savior\, 426 Davis Rd.\, Bedford\, MA\, 01730\, United States
CATEGORIES:Bible Study
ATTACH;FMTTYPE=image/png:https://www.lcsavior.org/wp-content/uploads/2020/10/bible-study-logo-1080p-e1705168854863.png
END:VEVENT
BEGIN:VEVENT
DTSTART;TZID=America/New_York:20241229T093000
DTEND;TZID=America/New_York:20241229T103000
DTSTAMP:20260424T194641
CREATED:20240831T165239Z
LAST-MODIFIED:20250413T005544Z
UID:10001852-1735464600-1735468200@www.lcsavior.org
SUMMARY:Christian Education Hour
DESCRIPTION:Each Sunday from 9:30AM – 10:30AM\, we have a variety of different opportunities to study God’s Word together. We have classes for everybody from age 2 to 102\, and there’s always room for you!
URL:https://www.lcsavior.org/event/christian-education-hour-6/2024-12-29/
LOCATION:Lutheran Church of the Savior\, 426 Davis Rd.\, Bedford\, MA\, 01730\, United States
CATEGORIES:Bible Study
ATTACH;FMTTYPE=image/png:https://www.lcsavior.org/wp-content/uploads/2020/10/bible-study-logo-1080p-e1705168854863.png
END:VEVENT
BEGIN:VEVENT
DTSTART;TZID=America/New_York:20241222T093000
DTEND;TZID=America/New_York:20241222T103000
DTSTAMP:20260424T194641
CREATED:20240831T165239Z
LAST-MODIFIED:20250413T005544Z
UID:10001808-1734859800-1734863400@www.lcsavior.org
SUMMARY:Christian Education Hour
DESCRIPTION:Each Sunday from 9:30AM – 10:30AM\, we have a variety of different opportunities to study God’s Word together. We have classes for everybody from age 2 to 102\, and there’s always room for you!
URL:https://www.lcsavior.org/event/christian-education-hour-6/2024-12-22/
LOCATION:Lutheran Church of the Savior\, 426 Davis Rd.\, Bedford\, MA\, 01730\, United States
CATEGORIES:Bible Study
ATTACH;FMTTYPE=image/png:https://www.lcsavior.org/wp-content/uploads/2020/10/bible-study-logo-1080p-e1705168854863.png
END:VEVENT
BEGIN:VEVENT
DTSTART;TZID=America/New_York:20241215T093000
DTEND;TZID=America/New_York:20241215T103000
DTSTAMP:20260424T194641
CREATED:20240831T165239Z
LAST-MODIFIED:20250413T005544Z
UID:10001807-1734255000-1734258600@www.lcsavior.org
SUMMARY:Christian Education Hour
DESCRIPTION:Each Sunday from 9:30AM – 10:30AM\, we have a variety of different opportunities to study God’s Word together. We have classes for everybody from age 2 to 102\, and there’s always room for you!
URL:https://www.lcsavior.org/event/christian-education-hour-6/2024-12-15/
LOCATION:Lutheran Church of the Savior\, 426 Davis Rd.\, Bedford\, MA\, 01730\, United States
CATEGORIES:Bible Study
ATTACH;FMTTYPE=image/png:https://www.lcsavior.org/wp-content/uploads/2020/10/bible-study-logo-1080p-e1705168854863.png
END:VEVENT
BEGIN:VEVENT
DTSTART;TZID=America/New_York:20241208T093000
DTEND;TZID=America/New_York:20241208T103000
DTSTAMP:20260424T194641
CREATED:20240831T165239Z
LAST-MODIFIED:20250413T005544Z
UID:10001806-1733650200-1733653800@www.lcsavior.org
SUMMARY:Christian Education Hour
DESCRIPTION:Each Sunday from 9:30AM – 10:30AM\, we have a variety of different opportunities to study God’s Word together. We have classes for everybody from age 2 to 102\, and there’s always room for you!
URL:https://www.lcsavior.org/event/christian-education-hour-6/2024-12-08/
LOCATION:Lutheran Church of the Savior\, 426 Davis Rd.\, Bedford\, MA\, 01730\, United States
CATEGORIES:Bible Study
ATTACH;FMTTYPE=image/png:https://www.lcsavior.org/wp-content/uploads/2020/10/bible-study-logo-1080p-e1705168854863.png
END:VEVENT
BEGIN:VEVENT
DTSTART;TZID=America/New_York:20241201T093000
DTEND;TZID=America/New_York:20241201T103000
DTSTAMP:20260424T194641
CREATED:20240831T165239Z
LAST-MODIFIED:20250413T005544Z
UID:10001805-1733045400-1733049000@www.lcsavior.org
SUMMARY:Christian Education Hour
DESCRIPTION:Each Sunday from 9:30AM – 10:30AM\, we have a variety of different opportunities to study God’s Word together. We have classes for everybody from age 2 to 102\, and there’s always room for you!
URL:https://www.lcsavior.org/event/christian-education-hour-6/2024-12-01/
LOCATION:Lutheran Church of the Savior\, 426 Davis Rd.\, Bedford\, MA\, 01730\, United States
CATEGORIES:Bible Study
ATTACH;FMTTYPE=image/png:https://www.lcsavior.org/wp-content/uploads/2020/10/bible-study-logo-1080p-e1705168854863.png
END:VEVENT
BEGIN:VEVENT
DTSTART;TZID=America/New_York:20241124T093000
DTEND;TZID=America/New_York:20241124T103000
DTSTAMP:20260424T194641
CREATED:20240831T165239Z
LAST-MODIFIED:20250413T005544Z
UID:10001804-1732440600-1732444200@www.lcsavior.org
SUMMARY:Christian Education Hour
DESCRIPTION:Each Sunday from 9:30AM – 10:30AM\, we have a variety of different opportunities to study God’s Word together. We have classes for everybody from age 2 to 102\, and there’s always room for you!
URL:https://www.lcsavior.org/event/christian-education-hour-6/2024-11-24/
LOCATION:Lutheran Church of the Savior\, 426 Davis Rd.\, Bedford\, MA\, 01730\, United States
CATEGORIES:Bible Study
ATTACH;FMTTYPE=image/png:https://www.lcsavior.org/wp-content/uploads/2020/10/bible-study-logo-1080p-e1705168854863.png
END:VEVENT
BEGIN:VEVENT
DTSTART;TZID=America/New_York:20241117T093000
DTEND;TZID=America/New_York:20241117T103000
DTSTAMP:20260424T194641
CREATED:20240831T165239Z
LAST-MODIFIED:20250413T005544Z
UID:10001803-1731835800-1731839400@www.lcsavior.org
SUMMARY:Christian Education Hour
DESCRIPTION:Each Sunday from 9:30AM – 10:30AM\, we have a variety of different opportunities to study God’s Word together. We have classes for everybody from age 2 to 102\, and there’s always room for you!
URL:https://www.lcsavior.org/event/christian-education-hour-6/2024-11-17/
LOCATION:Lutheran Church of the Savior\, 426 Davis Rd.\, Bedford\, MA\, 01730\, United States
CATEGORIES:Bible Study
ATTACH;FMTTYPE=image/png:https://www.lcsavior.org/wp-content/uploads/2020/10/bible-study-logo-1080p-e1705168854863.png
END:VEVENT
BEGIN:VEVENT
DTSTART;TZID=America/New_York:20241110T093000
DTEND;TZID=America/New_York:20241110T103000
DTSTAMP:20260424T194641
CREATED:20240831T165239Z
LAST-MODIFIED:20250413T005544Z
UID:10001802-1731231000-1731234600@www.lcsavior.org
SUMMARY:Christian Education Hour
DESCRIPTION:Each Sunday from 9:30AM – 10:30AM\, we have a variety of different opportunities to study God’s Word together. We have classes for everybody from age 2 to 102\, and there’s always room for you!
URL:https://www.lcsavior.org/event/christian-education-hour-6/2024-11-10/
LOCATION:Lutheran Church of the Savior\, 426 Davis Rd.\, Bedford\, MA\, 01730\, United States
CATEGORIES:Bible Study
ATTACH;FMTTYPE=image/png:https://www.lcsavior.org/wp-content/uploads/2020/10/bible-study-logo-1080p-e1705168854863.png
END:VEVENT
BEGIN:VEVENT
DTSTART;TZID=America/New_York:20241103T093000
DTEND;TZID=America/New_York:20241103T103000
DTSTAMP:20260424T194641
CREATED:20240831T165239Z
LAST-MODIFIED:20250413T005544Z
UID:10001801-1730626200-1730629800@www.lcsavior.org
SUMMARY:Christian Education Hour
DESCRIPTION:Each Sunday from 9:30AM – 10:30AM\, we have a variety of different opportunities to study God’s Word together. We have classes for everybody from age 2 to 102\, and there’s always room for you!
URL:https://www.lcsavior.org/event/christian-education-hour-6/2024-11-03/
LOCATION:Lutheran Church of the Savior\, 426 Davis Rd.\, Bedford\, MA\, 01730\, United States
CATEGORIES:Bible Study
ATTACH;FMTTYPE=image/png:https://www.lcsavior.org/wp-content/uploads/2020/10/bible-study-logo-1080p-e1705168854863.png
END:VEVENT
BEGIN:VEVENT
DTSTART;TZID=America/New_York:20241027T093000
DTEND;TZID=America/New_York:20241027T103000
DTSTAMP:20260424T194641
CREATED:20240831T165239Z
LAST-MODIFIED:20250413T005544Z
UID:10001800-1730021400-1730025000@www.lcsavior.org
SUMMARY:Christian Education Hour
DESCRIPTION:Each Sunday from 9:30AM – 10:30AM\, we have a variety of different opportunities to study God’s Word together. We have classes for everybody from age 2 to 102\, and there’s always room for you!
URL:https://www.lcsavior.org/event/christian-education-hour-6/2024-10-27/
LOCATION:Lutheran Church of the Savior\, 426 Davis Rd.\, Bedford\, MA\, 01730\, United States
CATEGORIES:Bible Study
ATTACH;FMTTYPE=image/png:https://www.lcsavior.org/wp-content/uploads/2020/10/bible-study-logo-1080p-e1705168854863.png
END:VEVENT
BEGIN:VEVENT
DTSTART;TZID=America/New_York:20241020T093000
DTEND;TZID=America/New_York:20241020T103000
DTSTAMP:20260424T194641
CREATED:20240831T165239Z
LAST-MODIFIED:20250413T005544Z
UID:10001799-1729416600-1729420200@www.lcsavior.org
SUMMARY:Christian Education Hour
DESCRIPTION:Each Sunday from 9:30AM – 10:30AM\, we have a variety of different opportunities to study God’s Word together. We have classes for everybody from age 2 to 102\, and there’s always room for you!
URL:https://www.lcsavior.org/event/christian-education-hour-6/2024-10-20/
LOCATION:Lutheran Church of the Savior\, 426 Davis Rd.\, Bedford\, MA\, 01730\, United States
CATEGORIES:Bible Study
ATTACH;FMTTYPE=image/png:https://www.lcsavior.org/wp-content/uploads/2020/10/bible-study-logo-1080p-e1705168854863.png
END:VEVENT
BEGIN:VEVENT
DTSTART;TZID=America/New_York:20241013T093000
DTEND;TZID=America/New_York:20241013T103000
DTSTAMP:20260424T194641
CREATED:20240831T165239Z
LAST-MODIFIED:20250413T005544Z
UID:10001798-1728811800-1728815400@www.lcsavior.org
SUMMARY:Christian Education Hour
DESCRIPTION:Each Sunday from 9:30AM – 10:30AM\, we have a variety of different opportunities to study God’s Word together. We have classes for everybody from age 2 to 102\, and there’s always room for you!
URL:https://www.lcsavior.org/event/christian-education-hour-6/2024-10-13/
LOCATION:Lutheran Church of the Savior\, 426 Davis Rd.\, Bedford\, MA\, 01730\, United States
CATEGORIES:Bible Study
ATTACH;FMTTYPE=image/png:https://www.lcsavior.org/wp-content/uploads/2020/10/bible-study-logo-1080p-e1705168854863.png
END:VEVENT
BEGIN:VEVENT
DTSTART;TZID=America/New_York:20241006T093000
DTEND;TZID=America/New_York:20241006T103000
DTSTAMP:20260424T194641
CREATED:20240831T165239Z
LAST-MODIFIED:20250413T005544Z
UID:10001797-1728207000-1728210600@www.lcsavior.org
SUMMARY:Christian Education Hour
DESCRIPTION:Each Sunday from 9:30AM – 10:30AM\, we have a variety of different opportunities to study God’s Word together. We have classes for everybody from age 2 to 102\, and there’s always room for you!
URL:https://www.lcsavior.org/event/christian-education-hour-6/2024-10-06/
LOCATION:Lutheran Church of the Savior\, 426 Davis Rd.\, Bedford\, MA\, 01730\, United States
CATEGORIES:Bible Study
ATTACH;FMTTYPE=image/png:https://www.lcsavior.org/wp-content/uploads/2020/10/bible-study-logo-1080p-e1705168854863.png
END:VEVENT
BEGIN:VEVENT
DTSTART;TZID=America/New_York:20240929T093000
DTEND;TZID=America/New_York:20240929T103000
DTSTAMP:20260424T194641
CREATED:20240831T165239Z
LAST-MODIFIED:20250413T005544Z
UID:10001796-1727602200-1727605800@www.lcsavior.org
SUMMARY:Christian Education Hour
DESCRIPTION:Each Sunday from 9:30AM – 10:30AM\, we have a variety of different opportunities to study God’s Word together. We have classes for everybody from age 2 to 102\, and there’s always room for you!
URL:https://www.lcsavior.org/event/christian-education-hour-6/2024-09-29/
LOCATION:Lutheran Church of the Savior\, 426 Davis Rd.\, Bedford\, MA\, 01730\, United States
CATEGORIES:Bible Study
ATTACH;FMTTYPE=image/png:https://www.lcsavior.org/wp-content/uploads/2020/10/bible-study-logo-1080p-e1705168854863.png
END:VEVENT
BEGIN:VEVENT
DTSTART;TZID=America/New_York:20240922T093000
DTEND;TZID=America/New_York:20240922T103000
DTSTAMP:20260424T194641
CREATED:20240831T165239Z
LAST-MODIFIED:20250413T005544Z
UID:10001795-1726997400-1727001000@www.lcsavior.org
SUMMARY:Christian Education Hour
DESCRIPTION:Each Sunday from 9:30AM – 10:30AM\, we have a variety of different opportunities to study God’s Word together. We have classes for everybody from age 2 to 102\, and there’s always room for you!
URL:https://www.lcsavior.org/event/christian-education-hour-6/2024-09-22/
LOCATION:Lutheran Church of the Savior\, 426 Davis Rd.\, Bedford\, MA\, 01730\, United States
CATEGORIES:Bible Study
ATTACH;FMTTYPE=image/png:https://www.lcsavior.org/wp-content/uploads/2020/10/bible-study-logo-1080p-e1705168854863.png
END:VEVENT
BEGIN:VEVENT
DTSTART;TZID=America/New_York:20240915T093000
DTEND;TZID=America/New_York:20240915T103000
DTSTAMP:20260424T194641
CREATED:20240831T165239Z
LAST-MODIFIED:20250413T005544Z
UID:10001794-1726392600-1726396200@www.lcsavior.org
SUMMARY:Christian Education Hour
DESCRIPTION:Each Sunday from 9:30AM – 10:30AM\, we have a variety of different opportunities to study God’s Word together. We have classes for everybody from age 2 to 102\, and there’s always room for you!
URL:https://www.lcsavior.org/event/christian-education-hour-6/2024-09-15/
LOCATION:Lutheran Church of the Savior\, 426 Davis Rd.\, Bedford\, MA\, 01730\, United States
CATEGORIES:Bible Study
ATTACH;FMTTYPE=image/png:https://www.lcsavior.org/wp-content/uploads/2020/10/bible-study-logo-1080p-e1705168854863.png
END:VEVENT
BEGIN:VEVENT
DTSTART;TZID=America/New_York:20240908T093000
DTEND;TZID=America/New_York:20240908T103000
DTSTAMP:20260424T194641
CREATED:20240831T165239Z
LAST-MODIFIED:20250413T005544Z
UID:10001793-1725787800-1725791400@www.lcsavior.org
SUMMARY:Christian Education Hour
DESCRIPTION:Each Sunday from 9:30AM – 10:30AM\, we have a variety of different opportunities to study God’s Word together. We have classes for everybody from age 2 to 102\, and there’s always room for you!
URL:https://www.lcsavior.org/event/christian-education-hour-6/2024-09-08/
LOCATION:Lutheran Church of the Savior\, 426 Davis Rd.\, Bedford\, MA\, 01730\, United States
CATEGORIES:Bible Study
ATTACH;FMTTYPE=image/png:https://www.lcsavior.org/wp-content/uploads/2020/10/bible-study-logo-1080p-e1705168854863.png
END:VEVENT
BEGIN:VEVENT
DTSTART;TZID=America/New_York:20240630T093000
DTEND;TZID=America/New_York:20240630T103000
DTSTAMP:20260424T194641
CREATED:20240316T155220Z
LAST-MODIFIED:20240316T155221Z
UID:10001682-1719739800-1719743400@www.lcsavior.org
SUMMARY:Christian Education Hour
DESCRIPTION:Each Sunday from 9:30AM – 10:30AM\, we have a variety of different opportunities to study God’s Word together. We have classes for everybody from age 2 to 102\, and there’s always room for you!
URL:https://www.lcsavior.org/event/christian-education-hour-5-2/2024-06-30/
LOCATION:Lutheran Church of the Savior\, 426 Davis Rd.\, Bedford\, MA\, 01730\, United States
CATEGORIES:Bible Study
ATTACH;FMTTYPE=image/png:https://www.lcsavior.org/wp-content/uploads/2020/10/bible-study-logo-1080p-e1705168854863.png
END:VEVENT
BEGIN:VEVENT
DTSTART;TZID=America/New_York:20240623T093000
DTEND;TZID=America/New_York:20240623T103000
DTSTAMP:20260424T194641
CREATED:20240316T155220Z
LAST-MODIFIED:20240316T155221Z
UID:10001681-1719135000-1719138600@www.lcsavior.org
SUMMARY:Christian Education Hour
DESCRIPTION:Each Sunday from 9:30AM – 10:30AM\, we have a variety of different opportunities to study God’s Word together. We have classes for everybody from age 2 to 102\, and there’s always room for you!
URL:https://www.lcsavior.org/event/christian-education-hour-5-2/2024-06-23/
LOCATION:Lutheran Church of the Savior\, 426 Davis Rd.\, Bedford\, MA\, 01730\, United States
CATEGORIES:Bible Study
ATTACH;FMTTYPE=image/png:https://www.lcsavior.org/wp-content/uploads/2020/10/bible-study-logo-1080p-e1705168854863.png
END:VEVENT
BEGIN:VEVENT
DTSTART;TZID=America/New_York:20240616T093000
DTEND;TZID=America/New_York:20240616T103000
DTSTAMP:20260424T194641
CREATED:20240316T155220Z
LAST-MODIFIED:20240316T155221Z
UID:10001680-1718530200-1718533800@www.lcsavior.org
SUMMARY:Christian Education Hour
DESCRIPTION:Each Sunday from 9:30AM – 10:30AM\, we have a variety of different opportunities to study God’s Word together. We have classes for everybody from age 2 to 102\, and there’s always room for you!
URL:https://www.lcsavior.org/event/christian-education-hour-5-2/2024-06-16/
LOCATION:Lutheran Church of the Savior\, 426 Davis Rd.\, Bedford\, MA\, 01730\, United States
CATEGORIES:Bible Study
ATTACH;FMTTYPE=image/png:https://www.lcsavior.org/wp-content/uploads/2020/10/bible-study-logo-1080p-e1705168854863.png
END:VEVENT
BEGIN:VEVENT
DTSTART;TZID=America/New_York:20240609T093000
DTEND;TZID=America/New_York:20240609T103000
DTSTAMP:20260424T194641
CREATED:20240316T155220Z
LAST-MODIFIED:20240316T155221Z
UID:10001679-1717925400-1717929000@www.lcsavior.org
SUMMARY:Christian Education Hour
DESCRIPTION:Each Sunday from 9:30AM – 10:30AM\, we have a variety of different opportunities to study God’s Word together. We have classes for everybody from age 2 to 102\, and there’s always room for you!
URL:https://www.lcsavior.org/event/christian-education-hour-5-2/2024-06-09/
LOCATION:Lutheran Church of the Savior\, 426 Davis Rd.\, Bedford\, MA\, 01730\, United States
CATEGORIES:Bible Study
ATTACH;FMTTYPE=image/png:https://www.lcsavior.org/wp-content/uploads/2020/10/bible-study-logo-1080p-e1705168854863.png
END:VEVENT
BEGIN:VEVENT
DTSTART;TZID=America/New_York:20240602T093000
DTEND;TZID=America/New_York:20240602T103000
DTSTAMP:20260424T194641
CREATED:20240316T155220Z
LAST-MODIFIED:20240316T155221Z
UID:10001678-1717320600-1717324200@www.lcsavior.org
SUMMARY:Christian Education Hour
DESCRIPTION:Each Sunday from 9:30AM – 10:30AM\, we have a variety of different opportunities to study God’s Word together. We have classes for everybody from age 2 to 102\, and there’s always room for you!
URL:https://www.lcsavior.org/event/christian-education-hour-5-2/2024-06-02/
LOCATION:Lutheran Church of the Savior\, 426 Davis Rd.\, Bedford\, MA\, 01730\, United States
CATEGORIES:Bible Study
ATTACH;FMTTYPE=image/png:https://www.lcsavior.org/wp-content/uploads/2020/10/bible-study-logo-1080p-e1705168854863.png
END:VEVENT
BEGIN:VEVENT
DTSTART;TZID=America/New_York:20240526T093000
DTEND;TZID=America/New_York:20240526T103000
DTSTAMP:20260424T194641
CREATED:20240316T155220Z
LAST-MODIFIED:20240316T155221Z
UID:10001677-1716715800-1716719400@www.lcsavior.org
SUMMARY:Christian Education Hour
DESCRIPTION:Each Sunday from 9:30AM – 10:30AM\, we have a variety of different opportunities to study God’s Word together. We have classes for everybody from age 2 to 102\, and there’s always room for you!
URL:https://www.lcsavior.org/event/christian-education-hour-5-2/2024-05-26/
LOCATION:Lutheran Church of the Savior\, 426 Davis Rd.\, Bedford\, MA\, 01730\, United States
CATEGORIES:Bible Study
ATTACH;FMTTYPE=image/png:https://www.lcsavior.org/wp-content/uploads/2020/10/bible-study-logo-1080p-e1705168854863.png
END:VEVENT
END:VCALENDAR