BEGIN:VCALENDAR
VERSION:2.0
PRODID:-//Lutheran Church of the Savior - ECPv6.15.20//NONSGML v1.0//EN
CALSCALE:GREGORIAN
METHOD:PUBLISH
X-WR-CALNAME:Lutheran Church of the Savior
X-ORIGINAL-URL:https://www.lcsavior.org
X-WR-CALDESC:Events for Lutheran Church of the Savior
REFRESH-INTERVAL;VALUE=DURATION:PT1H
X-Robots-Tag:noindex
X-PUBLISHED-TTL:PT1H
BEGIN:VTIMEZONE
TZID:America/New_York
BEGIN:DAYLIGHT
TZOFFSETFROM:-0500
TZOFFSETTO:-0400
TZNAME:EDT
DTSTART:20240310T070000
END:DAYLIGHT
BEGIN:STANDARD
TZOFFSETFROM:-0400
TZOFFSETTO:-0500
TZNAME:EST
DTSTART:20241103T060000
END:STANDARD
BEGIN:DAYLIGHT
TZOFFSETFROM:-0500
TZOFFSETTO:-0400
TZNAME:EDT
DTSTART:20250309T070000
END:DAYLIGHT
BEGIN:STANDARD
TZOFFSETFROM:-0400
TZOFFSETTO:-0500
TZNAME:EST
DTSTART:20251102T060000
END:STANDARD
BEGIN:DAYLIGHT
TZOFFSETFROM:-0500
TZOFFSETTO:-0400
TZNAME:EDT
DTSTART:20260308T070000
END:DAYLIGHT
BEGIN:STANDARD
TZOFFSETFROM:-0400
TZOFFSETTO:-0500
TZNAME:EST
DTSTART:20261101T060000
END:STANDARD
BEGIN:DAYLIGHT
TZOFFSETFROM:-0500
TZOFFSETTO:-0400
TZNAME:EDT
DTSTART:20270314T070000
END:DAYLIGHT
BEGIN:STANDARD
TZOFFSETFROM:-0400
TZOFFSETTO:-0500
TZNAME:EST
DTSTART:20271107T060000
END:STANDARD
END:VTIMEZONE
BEGIN:VEVENT
DTSTART;TZID=America/New_York:20251123T093000
DTEND;TZID=America/New_York:20251123T103000
DTSTAMP:20260425T123121
CREATED:20250906T231224Z
LAST-MODIFIED:20251221T002843Z
UID:10002081-1763890200-1763893800@www.lcsavior.org
SUMMARY:Christian Education Hour
DESCRIPTION:Please join us each week between services for Christian Education hour! There are Bible studies\, discussions\, and classes for people of all ages.
URL:https://www.lcsavior.org/event/christian-education-hour-2025/2025-11-23/
LOCATION:Lutheran Church of the Savior\, 426 Davis Rd.\, Bedford\, MA\, 01730\, United States
CATEGORIES:Bible Study
ATTACH;FMTTYPE=image/jpeg:https://www.lcsavior.org/wp-content/uploads/2021/01/womens-bible-study-shutterstock_738453862-Custom-1.jpg
END:VEVENT
BEGIN:VEVENT
DTSTART;TZID=America/New_York:20251130T093000
DTEND;TZID=America/New_York:20251130T103000
DTSTAMP:20260425T123121
CREATED:20250906T231224Z
LAST-MODIFIED:20251221T002843Z
UID:10002082-1764495000-1764498600@www.lcsavior.org
SUMMARY:Christian Education Hour
DESCRIPTION:Please join us each week between services for Christian Education hour! There are Bible studies\, discussions\, and classes for people of all ages.
URL:https://www.lcsavior.org/event/christian-education-hour-2025/2025-11-30/
LOCATION:Lutheran Church of the Savior\, 426 Davis Rd.\, Bedford\, MA\, 01730\, United States
CATEGORIES:Bible Study
ATTACH;FMTTYPE=image/jpeg:https://www.lcsavior.org/wp-content/uploads/2021/01/womens-bible-study-shutterstock_738453862-Custom-1.jpg
END:VEVENT
BEGIN:VEVENT
DTSTART;TZID=America/New_York:20251207T093000
DTEND;TZID=America/New_York:20251207T103000
DTSTAMP:20260425T123121
CREATED:20250906T231224Z
LAST-MODIFIED:20251221T002843Z
UID:10002083-1765099800-1765103400@www.lcsavior.org
SUMMARY:Christian Education Hour
DESCRIPTION:Please join us each week between services for Christian Education hour! There are Bible studies\, discussions\, and classes for people of all ages.
URL:https://www.lcsavior.org/event/christian-education-hour-2025/2025-12-07/
LOCATION:Lutheran Church of the Savior\, 426 Davis Rd.\, Bedford\, MA\, 01730\, United States
CATEGORIES:Bible Study
ATTACH;FMTTYPE=image/jpeg:https://www.lcsavior.org/wp-content/uploads/2021/01/womens-bible-study-shutterstock_738453862-Custom-1.jpg
END:VEVENT
BEGIN:VEVENT
DTSTART;TZID=America/New_York:20251214T093000
DTEND;TZID=America/New_York:20251214T103000
DTSTAMP:20260425T123121
CREATED:20250906T231224Z
LAST-MODIFIED:20251221T002843Z
UID:10002084-1765704600-1765708200@www.lcsavior.org
SUMMARY:Christian Education Hour
DESCRIPTION:Please join us each week between services for Christian Education hour! There are Bible studies\, discussions\, and classes for people of all ages.
URL:https://www.lcsavior.org/event/christian-education-hour-2025/2025-12-14/
LOCATION:Lutheran Church of the Savior\, 426 Davis Rd.\, Bedford\, MA\, 01730\, United States
CATEGORIES:Bible Study
ATTACH;FMTTYPE=image/jpeg:https://www.lcsavior.org/wp-content/uploads/2021/01/womens-bible-study-shutterstock_738453862-Custom-1.jpg
END:VEVENT
BEGIN:VEVENT
DTSTART;TZID=America/New_York:20251221T093000
DTEND;TZID=America/New_York:20251221T103000
DTSTAMP:20260425T123121
CREATED:20250906T231224Z
LAST-MODIFIED:20251221T002843Z
UID:10002085-1766309400-1766313000@www.lcsavior.org
SUMMARY:Christian Education Hour
DESCRIPTION:Please join us each week between services for Christian Education hour! There are Bible studies\, discussions\, and classes for people of all ages.
URL:https://www.lcsavior.org/event/christian-education-hour-2025/2025-12-21/
LOCATION:Lutheran Church of the Savior\, 426 Davis Rd.\, Bedford\, MA\, 01730\, United States
CATEGORIES:Bible Study
ATTACH;FMTTYPE=image/jpeg:https://www.lcsavior.org/wp-content/uploads/2021/01/womens-bible-study-shutterstock_738453862-Custom-1.jpg
END:VEVENT
BEGIN:VEVENT
DTSTART;TZID=America/New_York:20260104T093000
DTEND;TZID=America/New_York:20260104T103000
DTSTAMP:20260425T123121
CREATED:20250906T231224Z
LAST-MODIFIED:20251221T002843Z
UID:10002087-1767519000-1767522600@www.lcsavior.org
SUMMARY:Christian Education Hour
DESCRIPTION:Please join us each week between services for Christian Education hour! There are Bible studies\, discussions\, and classes for people of all ages.
URL:https://www.lcsavior.org/event/christian-education-hour-2025/2026-01-04/
LOCATION:Lutheran Church of the Savior\, 426 Davis Rd.\, Bedford\, MA\, 01730\, United States
CATEGORIES:Bible Study
ATTACH;FMTTYPE=image/jpeg:https://www.lcsavior.org/wp-content/uploads/2021/01/womens-bible-study-shutterstock_738453862-Custom-1.jpg
END:VEVENT
BEGIN:VEVENT
DTSTART;TZID=America/New_York:20260111T093000
DTEND;TZID=America/New_York:20260111T103000
DTSTAMP:20260425T123121
CREATED:20250906T231224Z
LAST-MODIFIED:20251221T002843Z
UID:10002088-1768123800-1768127400@www.lcsavior.org
SUMMARY:Christian Education Hour
DESCRIPTION:Please join us each week between services for Christian Education hour! There are Bible studies\, discussions\, and classes for people of all ages.
URL:https://www.lcsavior.org/event/christian-education-hour-2025/2026-01-11/
LOCATION:Lutheran Church of the Savior\, 426 Davis Rd.\, Bedford\, MA\, 01730\, United States
CATEGORIES:Bible Study
ATTACH;FMTTYPE=image/jpeg:https://www.lcsavior.org/wp-content/uploads/2021/01/womens-bible-study-shutterstock_738453862-Custom-1.jpg
END:VEVENT
BEGIN:VEVENT
DTSTART;TZID=America/New_York:20260118T093000
DTEND;TZID=America/New_York:20260118T103000
DTSTAMP:20260425T123121
CREATED:20250906T231224Z
LAST-MODIFIED:20251221T002843Z
UID:10002089-1768728600-1768732200@www.lcsavior.org
SUMMARY:Christian Education Hour
DESCRIPTION:Please join us each week between services for Christian Education hour! There are Bible studies\, discussions\, and classes for people of all ages.
URL:https://www.lcsavior.org/event/christian-education-hour-2025/2026-01-18/
LOCATION:Lutheran Church of the Savior\, 426 Davis Rd.\, Bedford\, MA\, 01730\, United States
CATEGORIES:Bible Study
ATTACH;FMTTYPE=image/jpeg:https://www.lcsavior.org/wp-content/uploads/2021/01/womens-bible-study-shutterstock_738453862-Custom-1.jpg
END:VEVENT
BEGIN:VEVENT
DTSTART;TZID=America/New_York:20260125T093000
DTEND;TZID=America/New_York:20260125T103000
DTSTAMP:20260425T123121
CREATED:20250906T231224Z
LAST-MODIFIED:20251221T002843Z
UID:10002090-1769333400-1769337000@www.lcsavior.org
SUMMARY:Christian Education Hour
DESCRIPTION:Please join us each week between services for Christian Education hour! There are Bible studies\, discussions\, and classes for people of all ages.
URL:https://www.lcsavior.org/event/christian-education-hour-2025/2026-01-25/
LOCATION:Lutheran Church of the Savior\, 426 Davis Rd.\, Bedford\, MA\, 01730\, United States
CATEGORIES:Bible Study
ATTACH;FMTTYPE=image/jpeg:https://www.lcsavior.org/wp-content/uploads/2021/01/womens-bible-study-shutterstock_738453862-Custom-1.jpg
END:VEVENT
BEGIN:VEVENT
DTSTART;TZID=America/New_York:20260201T093000
DTEND;TZID=America/New_York:20260201T103000
DTSTAMP:20260425T123122
CREATED:20250906T231224Z
LAST-MODIFIED:20251221T002843Z
UID:10002091-1769938200-1769941800@www.lcsavior.org
SUMMARY:Christian Education Hour
DESCRIPTION:Please join us each week between services for Christian Education hour! There are Bible studies\, discussions\, and classes for people of all ages.
URL:https://www.lcsavior.org/event/christian-education-hour-2025/2026-02-01/
LOCATION:Lutheran Church of the Savior\, 426 Davis Rd.\, Bedford\, MA\, 01730\, United States
CATEGORIES:Bible Study
ATTACH;FMTTYPE=image/jpeg:https://www.lcsavior.org/wp-content/uploads/2021/01/womens-bible-study-shutterstock_738453862-Custom-1.jpg
END:VEVENT
BEGIN:VEVENT
DTSTART;TZID=America/New_York:20260208T093000
DTEND;TZID=America/New_York:20260208T103000
DTSTAMP:20260425T123122
CREATED:20250906T231224Z
LAST-MODIFIED:20251221T002843Z
UID:10002092-1770543000-1770546600@www.lcsavior.org
SUMMARY:Christian Education Hour
DESCRIPTION:Please join us each week between services for Christian Education hour! There are Bible studies\, discussions\, and classes for people of all ages.
URL:https://www.lcsavior.org/event/christian-education-hour-2025/2026-02-08/
LOCATION:Lutheran Church of the Savior\, 426 Davis Rd.\, Bedford\, MA\, 01730\, United States
CATEGORIES:Bible Study
ATTACH;FMTTYPE=image/jpeg:https://www.lcsavior.org/wp-content/uploads/2021/01/womens-bible-study-shutterstock_738453862-Custom-1.jpg
END:VEVENT
BEGIN:VEVENT
DTSTART;TZID=America/New_York:20260215T093000
DTEND;TZID=America/New_York:20260215T103000
DTSTAMP:20260425T123122
CREATED:20250906T231224Z
LAST-MODIFIED:20251221T002843Z
UID:10002093-1771147800-1771151400@www.lcsavior.org
SUMMARY:Christian Education Hour
DESCRIPTION:Please join us each week between services for Christian Education hour! There are Bible studies\, discussions\, and classes for people of all ages.
URL:https://www.lcsavior.org/event/christian-education-hour-2025/2026-02-15/
LOCATION:Lutheran Church of the Savior\, 426 Davis Rd.\, Bedford\, MA\, 01730\, United States
CATEGORIES:Bible Study
ATTACH;FMTTYPE=image/jpeg:https://www.lcsavior.org/wp-content/uploads/2021/01/womens-bible-study-shutterstock_738453862-Custom-1.jpg
END:VEVENT
BEGIN:VEVENT
DTSTART;TZID=America/New_York:20260222T093000
DTEND;TZID=America/New_York:20260222T103000
DTSTAMP:20260425T123122
CREATED:20250906T231224Z
LAST-MODIFIED:20251221T002843Z
UID:10002094-1771752600-1771756200@www.lcsavior.org
SUMMARY:Christian Education Hour
DESCRIPTION:Please join us each week between services for Christian Education hour! There are Bible studies\, discussions\, and classes for people of all ages.
URL:https://www.lcsavior.org/event/christian-education-hour-2025/2026-02-22/
LOCATION:Lutheran Church of the Savior\, 426 Davis Rd.\, Bedford\, MA\, 01730\, United States
CATEGORIES:Bible Study
ATTACH;FMTTYPE=image/jpeg:https://www.lcsavior.org/wp-content/uploads/2021/01/womens-bible-study-shutterstock_738453862-Custom-1.jpg
END:VEVENT
BEGIN:VEVENT
DTSTART;TZID=America/New_York:20260301T093000
DTEND;TZID=America/New_York:20260301T103000
DTSTAMP:20260425T123122
CREATED:20250906T231224Z
LAST-MODIFIED:20251221T002843Z
UID:10002095-1772357400-1772361000@www.lcsavior.org
SUMMARY:Christian Education Hour
DESCRIPTION:Please join us each week between services for Christian Education hour! There are Bible studies\, discussions\, and classes for people of all ages.
URL:https://www.lcsavior.org/event/christian-education-hour-2025/2026-03-01/
LOCATION:Lutheran Church of the Savior\, 426 Davis Rd.\, Bedford\, MA\, 01730\, United States
CATEGORIES:Bible Study
ATTACH;FMTTYPE=image/jpeg:https://www.lcsavior.org/wp-content/uploads/2021/01/womens-bible-study-shutterstock_738453862-Custom-1.jpg
END:VEVENT
BEGIN:VEVENT
DTSTART;TZID=America/New_York:20260308T093000
DTEND;TZID=America/New_York:20260308T103000
DTSTAMP:20260425T123122
CREATED:20250906T231224Z
LAST-MODIFIED:20251221T002843Z
UID:10002096-1772962200-1772965800@www.lcsavior.org
SUMMARY:Christian Education Hour
DESCRIPTION:Please join us each week between services for Christian Education hour! There are Bible studies\, discussions\, and classes for people of all ages.
URL:https://www.lcsavior.org/event/christian-education-hour-2025/2026-03-08/
LOCATION:Lutheran Church of the Savior\, 426 Davis Rd.\, Bedford\, MA\, 01730\, United States
CATEGORIES:Bible Study
ATTACH;FMTTYPE=image/jpeg:https://www.lcsavior.org/wp-content/uploads/2021/01/womens-bible-study-shutterstock_738453862-Custom-1.jpg
END:VEVENT
BEGIN:VEVENT
DTSTART;TZID=America/New_York:20260315T093000
DTEND;TZID=America/New_York:20260315T103000
DTSTAMP:20260425T123122
CREATED:20250906T231224Z
LAST-MODIFIED:20251221T002843Z
UID:10002097-1773567000-1773570600@www.lcsavior.org
SUMMARY:Christian Education Hour
DESCRIPTION:Please join us each week between services for Christian Education hour! There are Bible studies\, discussions\, and classes for people of all ages.
URL:https://www.lcsavior.org/event/christian-education-hour-2025/2026-03-15/
LOCATION:Lutheran Church of the Savior\, 426 Davis Rd.\, Bedford\, MA\, 01730\, United States
CATEGORIES:Bible Study
ATTACH;FMTTYPE=image/jpeg:https://www.lcsavior.org/wp-content/uploads/2021/01/womens-bible-study-shutterstock_738453862-Custom-1.jpg
END:VEVENT
BEGIN:VEVENT
DTSTART;TZID=America/New_York:20260322T093000
DTEND;TZID=America/New_York:20260322T103000
DTSTAMP:20260425T123122
CREATED:20250906T231224Z
LAST-MODIFIED:20251221T002843Z
UID:10002098-1774171800-1774175400@www.lcsavior.org
SUMMARY:Christian Education Hour
DESCRIPTION:Please join us each week between services for Christian Education hour! There are Bible studies\, discussions\, and classes for people of all ages.
URL:https://www.lcsavior.org/event/christian-education-hour-2025/2026-03-22/
LOCATION:Lutheran Church of the Savior\, 426 Davis Rd.\, Bedford\, MA\, 01730\, United States
CATEGORIES:Bible Study
ATTACH;FMTTYPE=image/jpeg:https://www.lcsavior.org/wp-content/uploads/2021/01/womens-bible-study-shutterstock_738453862-Custom-1.jpg
END:VEVENT
BEGIN:VEVENT
DTSTART;TZID=America/New_York:20260329T093000
DTEND;TZID=America/New_York:20260329T103000
DTSTAMP:20260425T123122
CREATED:20250906T231224Z
LAST-MODIFIED:20251221T002843Z
UID:10002099-1774776600-1774780200@www.lcsavior.org
SUMMARY:Christian Education Hour
DESCRIPTION:Please join us each week between services for Christian Education hour! There are Bible studies\, discussions\, and classes for people of all ages.
URL:https://www.lcsavior.org/event/christian-education-hour-2025/2026-03-29/
LOCATION:Lutheran Church of the Savior\, 426 Davis Rd.\, Bedford\, MA\, 01730\, United States
CATEGORIES:Bible Study
ATTACH;FMTTYPE=image/jpeg:https://www.lcsavior.org/wp-content/uploads/2021/01/womens-bible-study-shutterstock_738453862-Custom-1.jpg
END:VEVENT
BEGIN:VEVENT
DTSTART;TZID=America/New_York:20260412T093000
DTEND;TZID=America/New_York:20260412T103000
DTSTAMP:20260425T123122
CREATED:20250906T231224Z
LAST-MODIFIED:20251221T002843Z
UID:10002101-1775986200-1775989800@www.lcsavior.org
SUMMARY:Christian Education Hour
DESCRIPTION:Please join us each week between services for Christian Education hour! There are Bible studies\, discussions\, and classes for people of all ages.
URL:https://www.lcsavior.org/event/christian-education-hour-2025/2026-04-12/
LOCATION:Lutheran Church of the Savior\, 426 Davis Rd.\, Bedford\, MA\, 01730\, United States
CATEGORIES:Bible Study
ATTACH;FMTTYPE=image/jpeg:https://www.lcsavior.org/wp-content/uploads/2021/01/womens-bible-study-shutterstock_738453862-Custom-1.jpg
END:VEVENT
BEGIN:VEVENT
DTSTART;TZID=America/New_York:20260419T093000
DTEND;TZID=America/New_York:20260419T103000
DTSTAMP:20260425T123122
CREATED:20250906T231224Z
LAST-MODIFIED:20251221T002843Z
UID:10002102-1776591000-1776594600@www.lcsavior.org
SUMMARY:Christian Education Hour
DESCRIPTION:Please join us each week between services for Christian Education hour! There are Bible studies\, discussions\, and classes for people of all ages.
URL:https://www.lcsavior.org/event/christian-education-hour-2025/2026-04-19/
LOCATION:Lutheran Church of the Savior\, 426 Davis Rd.\, Bedford\, MA\, 01730\, United States
CATEGORIES:Bible Study
ATTACH;FMTTYPE=image/jpeg:https://www.lcsavior.org/wp-content/uploads/2021/01/womens-bible-study-shutterstock_738453862-Custom-1.jpg
END:VEVENT
BEGIN:VEVENT
DTSTART;TZID=America/New_York:20260426T093000
DTEND;TZID=America/New_York:20260426T103000
DTSTAMP:20260425T123122
CREATED:20250906T231224Z
LAST-MODIFIED:20251221T002843Z
UID:10002103-1777195800-1777199400@www.lcsavior.org
SUMMARY:Christian Education Hour
DESCRIPTION:Please join us each week between services for Christian Education hour! There are Bible studies\, discussions\, and classes for people of all ages.
URL:https://www.lcsavior.org/event/christian-education-hour-2025/2026-04-26/
LOCATION:Lutheran Church of the Savior\, 426 Davis Rd.\, Bedford\, MA\, 01730\, United States
CATEGORIES:Bible Study
ATTACH;FMTTYPE=image/jpeg:https://www.lcsavior.org/wp-content/uploads/2021/01/womens-bible-study-shutterstock_738453862-Custom-1.jpg
END:VEVENT
BEGIN:VEVENT
DTSTART;TZID=America/New_York:20260503T093000
DTEND;TZID=America/New_York:20260503T103000
DTSTAMP:20260425T123122
CREATED:20250906T231224Z
LAST-MODIFIED:20251221T002843Z
UID:10002104-1777800600-1777804200@www.lcsavior.org
SUMMARY:Christian Education Hour
DESCRIPTION:Please join us each week between services for Christian Education hour! There are Bible studies\, discussions\, and classes for people of all ages.
URL:https://www.lcsavior.org/event/christian-education-hour-2025/2026-05-03/
LOCATION:Lutheran Church of the Savior\, 426 Davis Rd.\, Bedford\, MA\, 01730\, United States
CATEGORIES:Bible Study
ATTACH;FMTTYPE=image/jpeg:https://www.lcsavior.org/wp-content/uploads/2021/01/womens-bible-study-shutterstock_738453862-Custom-1.jpg
END:VEVENT
BEGIN:VEVENT
DTSTART;TZID=America/New_York:20260510T093000
DTEND;TZID=America/New_York:20260510T103000
DTSTAMP:20260425T123122
CREATED:20250906T231224Z
LAST-MODIFIED:20251221T002843Z
UID:10002105-1778405400-1778409000@www.lcsavior.org
SUMMARY:Christian Education Hour
DESCRIPTION:Please join us each week between services for Christian Education hour! There are Bible studies\, discussions\, and classes for people of all ages.
URL:https://www.lcsavior.org/event/christian-education-hour-2025/2026-05-10/
LOCATION:Lutheran Church of the Savior\, 426 Davis Rd.\, Bedford\, MA\, 01730\, United States
CATEGORIES:Bible Study
ATTACH;FMTTYPE=image/jpeg:https://www.lcsavior.org/wp-content/uploads/2021/01/womens-bible-study-shutterstock_738453862-Custom-1.jpg
END:VEVENT
BEGIN:VEVENT
DTSTART;TZID=America/New_York:20260517T093000
DTEND;TZID=America/New_York:20260517T103000
DTSTAMP:20260425T123122
CREATED:20250906T231224Z
LAST-MODIFIED:20251221T002843Z
UID:10002106-1779010200-1779013800@www.lcsavior.org
SUMMARY:Christian Education Hour
DESCRIPTION:Please join us each week between services for Christian Education hour! There are Bible studies\, discussions\, and classes for people of all ages.
URL:https://www.lcsavior.org/event/christian-education-hour-2025/2026-05-17/
LOCATION:Lutheran Church of the Savior\, 426 Davis Rd.\, Bedford\, MA\, 01730\, United States
CATEGORIES:Bible Study
ATTACH;FMTTYPE=image/jpeg:https://www.lcsavior.org/wp-content/uploads/2021/01/womens-bible-study-shutterstock_738453862-Custom-1.jpg
END:VEVENT
BEGIN:VEVENT
DTSTART;TZID=America/New_York:20260524T093000
DTEND;TZID=America/New_York:20260524T103000
DTSTAMP:20260425T123122
CREATED:20250906T231224Z
LAST-MODIFIED:20251221T002843Z
UID:10002107-1779615000-1779618600@www.lcsavior.org
SUMMARY:Christian Education Hour
DESCRIPTION:Please join us each week between services for Christian Education hour! There are Bible studies\, discussions\, and classes for people of all ages.
URL:https://www.lcsavior.org/event/christian-education-hour-2025/2026-05-24/
LOCATION:Lutheran Church of the Savior\, 426 Davis Rd.\, Bedford\, MA\, 01730\, United States
CATEGORIES:Bible Study
ATTACH;FMTTYPE=image/jpeg:https://www.lcsavior.org/wp-content/uploads/2021/01/womens-bible-study-shutterstock_738453862-Custom-1.jpg
END:VEVENT
BEGIN:VEVENT
DTSTART;TZID=America/New_York:20260531T093000
DTEND;TZID=America/New_York:20260531T103000
DTSTAMP:20260425T123122
CREATED:20250906T231224Z
LAST-MODIFIED:20251221T002843Z
UID:10002108-1780219800-1780223400@www.lcsavior.org
SUMMARY:Christian Education Hour
DESCRIPTION:Please join us each week between services for Christian Education hour! There are Bible studies\, discussions\, and classes for people of all ages.
URL:https://www.lcsavior.org/event/christian-education-hour-2025/2026-05-31/
LOCATION:Lutheran Church of the Savior\, 426 Davis Rd.\, Bedford\, MA\, 01730\, United States
CATEGORIES:Bible Study
ATTACH;FMTTYPE=image/jpeg:https://www.lcsavior.org/wp-content/uploads/2021/01/womens-bible-study-shutterstock_738453862-Custom-1.jpg
END:VEVENT
BEGIN:VEVENT
DTSTART;TZID=America/New_York:20260607T093000
DTEND;TZID=America/New_York:20260607T103000
DTSTAMP:20260425T123122
CREATED:20250906T231224Z
LAST-MODIFIED:20251221T002843Z
UID:10002109-1780824600-1780828200@www.lcsavior.org
SUMMARY:Christian Education Hour
DESCRIPTION:Please join us each week between services for Christian Education hour! There are Bible studies\, discussions\, and classes for people of all ages.
URL:https://www.lcsavior.org/event/christian-education-hour-2025/2026-06-07/
LOCATION:Lutheran Church of the Savior\, 426 Davis Rd.\, Bedford\, MA\, 01730\, United States
CATEGORIES:Bible Study
ATTACH;FMTTYPE=image/jpeg:https://www.lcsavior.org/wp-content/uploads/2021/01/womens-bible-study-shutterstock_738453862-Custom-1.jpg
END:VEVENT
BEGIN:VEVENT
DTSTART;TZID=America/New_York:20260614T093000
DTEND;TZID=America/New_York:20260614T103000
DTSTAMP:20260425T123122
CREATED:20250906T231224Z
LAST-MODIFIED:20251221T002843Z
UID:10002110-1781429400-1781433000@www.lcsavior.org
SUMMARY:Christian Education Hour
DESCRIPTION:Please join us each week between services for Christian Education hour! There are Bible studies\, discussions\, and classes for people of all ages.
URL:https://www.lcsavior.org/event/christian-education-hour-2025/2026-06-14/
LOCATION:Lutheran Church of the Savior\, 426 Davis Rd.\, Bedford\, MA\, 01730\, United States
CATEGORIES:Bible Study
ATTACH;FMTTYPE=image/jpeg:https://www.lcsavior.org/wp-content/uploads/2021/01/womens-bible-study-shutterstock_738453862-Custom-1.jpg
END:VEVENT
END:VCALENDAR