BEGIN:VCALENDAR
VERSION:2.0
PRODID:-//Lutheran Church of the Savior - ECPv6.15.20//NONSGML v1.0//EN
CALSCALE:GREGORIAN
METHOD:PUBLISH
X-ORIGINAL-URL:https://www.lcsavior.org
X-WR-CALDESC:Events for Lutheran Church of the Savior
REFRESH-INTERVAL;VALUE=DURATION:PT1H
X-Robots-Tag:noindex
X-PUBLISHED-TTL:PT1H
BEGIN:VTIMEZONE
TZID:America/New_York
BEGIN:DAYLIGHT
TZOFFSETFROM:-0500
TZOFFSETTO:-0400
TZNAME:EDT
DTSTART:20190310T070000
END:DAYLIGHT
BEGIN:STANDARD
TZOFFSETFROM:-0400
TZOFFSETTO:-0500
TZNAME:EST
DTSTART:20191103T060000
END:STANDARD
BEGIN:DAYLIGHT
TZOFFSETFROM:-0500
TZOFFSETTO:-0400
TZNAME:EDT
DTSTART:20200308T070000
END:DAYLIGHT
BEGIN:STANDARD
TZOFFSETFROM:-0400
TZOFFSETTO:-0500
TZNAME:EST
DTSTART:20201101T060000
END:STANDARD
BEGIN:DAYLIGHT
TZOFFSETFROM:-0500
TZOFFSETTO:-0400
TZNAME:EDT
DTSTART:20210314T070000
END:DAYLIGHT
BEGIN:STANDARD
TZOFFSETFROM:-0400
TZOFFSETTO:-0500
TZNAME:EST
DTSTART:20211107T060000
END:STANDARD
BEGIN:DAYLIGHT
TZOFFSETFROM:-0500
TZOFFSETTO:-0400
TZNAME:EDT
DTSTART:20220313T070000
END:DAYLIGHT
BEGIN:STANDARD
TZOFFSETFROM:-0400
TZOFFSETTO:-0500
TZNAME:EST
DTSTART:20221106T060000
END:STANDARD
BEGIN:DAYLIGHT
TZOFFSETFROM:-0500
TZOFFSETTO:-0400
TZNAME:EDT
DTSTART:20230312T070000
END:DAYLIGHT
BEGIN:STANDARD
TZOFFSETFROM:-0400
TZOFFSETTO:-0500
TZNAME:EST
DTSTART:20231105T060000
END:STANDARD
END:VTIMEZONE
BEGIN:VEVENT
DTSTART;TZID=America/New_York:20220410T093000
DTEND;TZID=America/New_York:20220410T103000
DTSTAMP:20260425T073722
CREATED:20220101T234523Z
LAST-MODIFIED:20220226T170620Z
UID:10000234-1649583000-1649586600@www.lcsavior.org
SUMMARY:Christian Education Hour
DESCRIPTION:Each Sunday\, between our services\, we have an hour of Bible study and Sunday School classes for people from age 3 to 103 (or older!). Classes offered will vary over time\, but include: \n\nAdults: multiple offerings\nKids: PreK through 5th grade\nConfirmation: 6th-8th grade\nHigh School: 9th – 12th grade
URL:https://www.lcsavior.org/event/christian-education-hour-2-2022-01-09/2022-04-10/
LOCATION:Lutheran Church of the Savior\, 426 Davis Rd.\, Bedford\, MA\, 01730\, United States
CATEGORIES:Bible Study
ATTACH;FMTTYPE=image/png:https://www.lcsavior.org/wp-content/uploads/2020/08/bible-study-logo.png
ORGANIZER;CN="Pastor Manor":MAILTO:pastor@lcsavior.org
END:VEVENT
BEGIN:VEVENT
DTSTART;TZID=America/New_York:20220403T093000
DTEND;TZID=America/New_York:20220403T103000
DTSTAMP:20260425T073722
CREATED:20220101T234523Z
LAST-MODIFIED:20220226T170620Z
UID:10000233-1648978200-1648981800@www.lcsavior.org
SUMMARY:Christian Education Hour
DESCRIPTION:Each Sunday\, between our services\, we have an hour of Bible study and Sunday School classes for people from age 3 to 103 (or older!). Classes offered will vary over time\, but include: \n\nAdults: multiple offerings\nKids: PreK through 5th grade\nConfirmation: 6th-8th grade\nHigh School: 9th – 12th grade
URL:https://www.lcsavior.org/event/christian-education-hour-2-2022-01-09/2022-04-03/
LOCATION:Lutheran Church of the Savior\, 426 Davis Rd.\, Bedford\, MA\, 01730\, United States
CATEGORIES:Bible Study
ATTACH;FMTTYPE=image/png:https://www.lcsavior.org/wp-content/uploads/2020/08/bible-study-logo.png
ORGANIZER;CN="Pastor Manor":MAILTO:pastor@lcsavior.org
END:VEVENT
BEGIN:VEVENT
DTSTART;TZID=America/New_York:20220327T093000
DTEND;TZID=America/New_York:20220327T103000
DTSTAMP:20260425T073722
CREATED:20220101T234523Z
LAST-MODIFIED:20220226T170620Z
UID:10000232-1648373400-1648377000@www.lcsavior.org
SUMMARY:Christian Education Hour
DESCRIPTION:Each Sunday\, between our services\, we have an hour of Bible study and Sunday School classes for people from age 3 to 103 (or older!). Classes offered will vary over time\, but include: \n\nAdults: multiple offerings\nKids: PreK through 5th grade\nConfirmation: 6th-8th grade\nHigh School: 9th – 12th grade
URL:https://www.lcsavior.org/event/christian-education-hour-2-2022-01-09/2022-03-27/
LOCATION:Lutheran Church of the Savior\, 426 Davis Rd.\, Bedford\, MA\, 01730\, United States
CATEGORIES:Bible Study
ATTACH;FMTTYPE=image/png:https://www.lcsavior.org/wp-content/uploads/2020/08/bible-study-logo.png
ORGANIZER;CN="Pastor Manor":MAILTO:pastor@lcsavior.org
END:VEVENT
BEGIN:VEVENT
DTSTART;TZID=America/New_York:20220320T093000
DTEND;TZID=America/New_York:20220320T103000
DTSTAMP:20260425T073722
CREATED:20220101T234523Z
LAST-MODIFIED:20220226T170620Z
UID:10000231-1647768600-1647772200@www.lcsavior.org
SUMMARY:Christian Education Hour
DESCRIPTION:Each Sunday\, between our services\, we have an hour of Bible study and Sunday School classes for people from age 3 to 103 (or older!). Classes offered will vary over time\, but include: \n\nAdults: multiple offerings\nKids: PreK through 5th grade\nConfirmation: 6th-8th grade\nHigh School: 9th – 12th grade
URL:https://www.lcsavior.org/event/christian-education-hour-2-2022-01-09/2022-03-20/
LOCATION:Lutheran Church of the Savior\, 426 Davis Rd.\, Bedford\, MA\, 01730\, United States
CATEGORIES:Bible Study
ATTACH;FMTTYPE=image/png:https://www.lcsavior.org/wp-content/uploads/2020/08/bible-study-logo.png
ORGANIZER;CN="Pastor Manor":MAILTO:pastor@lcsavior.org
END:VEVENT
BEGIN:VEVENT
DTSTART;TZID=America/New_York:20220313T093000
DTEND;TZID=America/New_York:20220313T103000
DTSTAMP:20260425T073722
CREATED:20220101T234523Z
LAST-MODIFIED:20220226T170620Z
UID:10000230-1647163800-1647167400@www.lcsavior.org
SUMMARY:Christian Education Hour
DESCRIPTION:Each Sunday\, between our services\, we have an hour of Bible study and Sunday School classes for people from age 3 to 103 (or older!). Classes offered will vary over time\, but include: \n\nAdults: multiple offerings\nKids: PreK through 5th grade\nConfirmation: 6th-8th grade\nHigh School: 9th – 12th grade
URL:https://www.lcsavior.org/event/christian-education-hour-2-2022-01-09/2022-03-13/
LOCATION:Lutheran Church of the Savior\, 426 Davis Rd.\, Bedford\, MA\, 01730\, United States
CATEGORIES:Bible Study
ATTACH;FMTTYPE=image/png:https://www.lcsavior.org/wp-content/uploads/2020/08/bible-study-logo.png
ORGANIZER;CN="Pastor Manor":MAILTO:pastor@lcsavior.org
END:VEVENT
BEGIN:VEVENT
DTSTART;TZID=America/New_York:20220306T093000
DTEND;TZID=America/New_York:20220306T103000
DTSTAMP:20260425T073722
CREATED:20220101T234523Z
LAST-MODIFIED:20220226T170620Z
UID:10000229-1646559000-1646562600@www.lcsavior.org
SUMMARY:Christian Education Hour
DESCRIPTION:Each Sunday\, between our services\, we have an hour of Bible study and Sunday School classes for people from age 3 to 103 (or older!). Classes offered will vary over time\, but include: \n\nAdults: multiple offerings\nKids: PreK through 5th grade\nConfirmation: 6th-8th grade\nHigh School: 9th – 12th grade
URL:https://www.lcsavior.org/event/christian-education-hour-2-2022-01-09/2022-03-06/
LOCATION:Lutheran Church of the Savior\, 426 Davis Rd.\, Bedford\, MA\, 01730\, United States
CATEGORIES:Bible Study
ATTACH;FMTTYPE=image/png:https://www.lcsavior.org/wp-content/uploads/2020/08/bible-study-logo.png
ORGANIZER;CN="Pastor Manor":MAILTO:pastor@lcsavior.org
END:VEVENT
BEGIN:VEVENT
DTSTART;TZID=America/New_York:20220227T093000
DTEND;TZID=America/New_York:20220227T103000
DTSTAMP:20260425T073722
CREATED:20220101T234523Z
LAST-MODIFIED:20220226T170620Z
UID:10000228-1645954200-1645957800@www.lcsavior.org
SUMMARY:Christian Education Hour
DESCRIPTION:Each Sunday\, between our services\, we have an hour of Bible study and Sunday School classes for people from age 3 to 103 (or older!). Classes offered will vary over time\, but include: \n\nAdults: multiple offerings\nKids: PreK through 5th grade\nConfirmation: 6th-8th grade\nHigh School: 9th – 12th grade
URL:https://www.lcsavior.org/event/christian-education-hour-2-2022-01-09/2022-02-27/
LOCATION:Lutheran Church of the Savior\, 426 Davis Rd.\, Bedford\, MA\, 01730\, United States
CATEGORIES:Bible Study
ATTACH;FMTTYPE=image/png:https://www.lcsavior.org/wp-content/uploads/2020/08/bible-study-logo.png
ORGANIZER;CN="Pastor Manor":MAILTO:pastor@lcsavior.org
END:VEVENT
BEGIN:VEVENT
DTSTART;TZID=America/New_York:20220220T093000
DTEND;TZID=America/New_York:20220220T103000
DTSTAMP:20260425T073722
CREATED:20220101T234523Z
LAST-MODIFIED:20220226T170620Z
UID:10000227-1645349400-1645353000@www.lcsavior.org
SUMMARY:Christian Education Hour
DESCRIPTION:Each Sunday\, between our services\, we have an hour of Bible study and Sunday School classes for people from age 3 to 103 (or older!). Classes offered will vary over time\, but include: \n\nAdults: multiple offerings\nKids: PreK through 5th grade\nConfirmation: 6th-8th grade\nHigh School: 9th – 12th grade
URL:https://www.lcsavior.org/event/christian-education-hour-2-2022-01-09/2022-02-20/
LOCATION:Lutheran Church of the Savior\, 426 Davis Rd.\, Bedford\, MA\, 01730\, United States
CATEGORIES:Bible Study
ATTACH;FMTTYPE=image/png:https://www.lcsavior.org/wp-content/uploads/2020/08/bible-study-logo.png
ORGANIZER;CN="Pastor Manor":MAILTO:pastor@lcsavior.org
END:VEVENT
BEGIN:VEVENT
DTSTART;TZID=America/New_York:20220213T093000
DTEND;TZID=America/New_York:20220213T103000
DTSTAMP:20260425T073722
CREATED:20220101T234523Z
LAST-MODIFIED:20220226T170620Z
UID:10000226-1644744600-1644748200@www.lcsavior.org
SUMMARY:Christian Education Hour
DESCRIPTION:Each Sunday\, between our services\, we have an hour of Bible study and Sunday School classes for people from age 3 to 103 (or older!). Classes offered will vary over time\, but include: \n\nAdults: multiple offerings\nKids: PreK through 5th grade\nConfirmation: 6th-8th grade\nHigh School: 9th – 12th grade
URL:https://www.lcsavior.org/event/christian-education-hour-2-2022-01-09/2022-02-13/
LOCATION:Lutheran Church of the Savior\, 426 Davis Rd.\, Bedford\, MA\, 01730\, United States
CATEGORIES:Bible Study
ATTACH;FMTTYPE=image/png:https://www.lcsavior.org/wp-content/uploads/2020/08/bible-study-logo.png
ORGANIZER;CN="Pastor Manor":MAILTO:pastor@lcsavior.org
END:VEVENT
BEGIN:VEVENT
DTSTART;TZID=America/New_York:20220206T093000
DTEND;TZID=America/New_York:20220206T103000
DTSTAMP:20260425T073722
CREATED:20220101T234523Z
LAST-MODIFIED:20220226T170620Z
UID:10000225-1644139800-1644143400@www.lcsavior.org
SUMMARY:Christian Education Hour
DESCRIPTION:Each Sunday\, between our services\, we have an hour of Bible study and Sunday School classes for people from age 3 to 103 (or older!). Classes offered will vary over time\, but include: \n\nAdults: multiple offerings\nKids: PreK through 5th grade\nConfirmation: 6th-8th grade\nHigh School: 9th – 12th grade
URL:https://www.lcsavior.org/event/christian-education-hour-2-2022-01-09/2022-02-06/
LOCATION:Lutheran Church of the Savior\, 426 Davis Rd.\, Bedford\, MA\, 01730\, United States
CATEGORIES:Bible Study
ATTACH;FMTTYPE=image/png:https://www.lcsavior.org/wp-content/uploads/2020/08/bible-study-logo.png
ORGANIZER;CN="Pastor Manor":MAILTO:pastor@lcsavior.org
END:VEVENT
BEGIN:VEVENT
DTSTART;TZID=America/New_York:20220130T093000
DTEND;TZID=America/New_York:20220130T103000
DTSTAMP:20260425T073722
CREATED:20220101T234523Z
LAST-MODIFIED:20220226T170620Z
UID:10000224-1643535000-1643538600@www.lcsavior.org
SUMMARY:Christian Education Hour
DESCRIPTION:Each Sunday\, between our services\, we have an hour of Bible study and Sunday School classes for people from age 3 to 103 (or older!). Classes offered will vary over time\, but include: \n\nAdults: multiple offerings\nKids: PreK through 5th grade\nConfirmation: 6th-8th grade\nHigh School: 9th – 12th grade
URL:https://www.lcsavior.org/event/christian-education-hour-2-2022-01-09/2022-01-30/
LOCATION:Lutheran Church of the Savior\, 426 Davis Rd.\, Bedford\, MA\, 01730\, United States
CATEGORIES:Bible Study
ATTACH;FMTTYPE=image/png:https://www.lcsavior.org/wp-content/uploads/2020/08/bible-study-logo.png
ORGANIZER;CN="Pastor Manor":MAILTO:pastor@lcsavior.org
END:VEVENT
BEGIN:VEVENT
DTSTART;TZID=America/New_York:20220123T093000
DTEND;TZID=America/New_York:20220123T103000
DTSTAMP:20260425T073722
CREATED:20220101T234523Z
LAST-MODIFIED:20220226T170620Z
UID:10000223-1642930200-1642933800@www.lcsavior.org
SUMMARY:Christian Education Hour
DESCRIPTION:Each Sunday\, between our services\, we have an hour of Bible study and Sunday School classes for people from age 3 to 103 (or older!). Classes offered will vary over time\, but include: \n\nAdults: multiple offerings\nKids: PreK through 5th grade\nConfirmation: 6th-8th grade\nHigh School: 9th – 12th grade
URL:https://www.lcsavior.org/event/christian-education-hour-2-2022-01-09/2022-01-23/
LOCATION:Lutheran Church of the Savior\, 426 Davis Rd.\, Bedford\, MA\, 01730\, United States
CATEGORIES:Bible Study
ATTACH;FMTTYPE=image/png:https://www.lcsavior.org/wp-content/uploads/2020/08/bible-study-logo.png
ORGANIZER;CN="Pastor Manor":MAILTO:pastor@lcsavior.org
END:VEVENT
BEGIN:VEVENT
DTSTART;TZID=America/New_York:20220116T093000
DTEND;TZID=America/New_York:20220116T103000
DTSTAMP:20260425T073722
CREATED:20220101T234523Z
LAST-MODIFIED:20220226T170620Z
UID:10000222-1642325400-1642329000@www.lcsavior.org
SUMMARY:Christian Education Hour
DESCRIPTION:Each Sunday\, between our services\, we have an hour of Bible study and Sunday School classes for people from age 3 to 103 (or older!). Classes offered will vary over time\, but include: \n\nAdults: multiple offerings\nKids: PreK through 5th grade\nConfirmation: 6th-8th grade\nHigh School: 9th – 12th grade
URL:https://www.lcsavior.org/event/christian-education-hour-2-2022-01-09/2022-01-16/
LOCATION:Lutheran Church of the Savior\, 426 Davis Rd.\, Bedford\, MA\, 01730\, United States
CATEGORIES:Bible Study
ATTACH;FMTTYPE=image/png:https://www.lcsavior.org/wp-content/uploads/2020/08/bible-study-logo.png
ORGANIZER;CN="Pastor Manor":MAILTO:pastor@lcsavior.org
END:VEVENT
BEGIN:VEVENT
DTSTART;TZID=America/New_York:20220109T093000
DTEND;TZID=America/New_York:20220109T103000
DTSTAMP:20260425T073722
CREATED:20220101T234523Z
LAST-MODIFIED:20220226T170620Z
UID:10000221-1641720600-1641724200@www.lcsavior.org
SUMMARY:Christian Education Hour
DESCRIPTION:Each Sunday\, between our services\, we have an hour of Bible study and Sunday School classes for people from age 3 to 103 (or older!). Classes offered will vary over time\, but include: \n\nAdults: multiple offerings\nKids: PreK through 5th grade\nConfirmation: 6th-8th grade\nHigh School: 9th – 12th grade
URL:https://www.lcsavior.org/event/christian-education-hour-2-2022-01-09/2022-01-09/
LOCATION:Lutheran Church of the Savior\, 426 Davis Rd.\, Bedford\, MA\, 01730\, United States
CATEGORIES:Bible Study
ATTACH;FMTTYPE=image/png:https://www.lcsavior.org/wp-content/uploads/2020/08/bible-study-logo.png
ORGANIZER;CN="Pastor Manor":MAILTO:pastor@lcsavior.org
END:VEVENT
BEGIN:VEVENT
DTSTART;TZID=America/New_York:20201220T111500
DTEND;TZID=America/New_York:20201220T121500
DTSTAMP:20260425T073722
CREATED:20201024T172211Z
LAST-MODIFIED:20201030T003017Z
UID:10000050-1608462900-1608466500@www.lcsavior.org
SUMMARY:Adult Bible Study
DESCRIPTION:Join us at 11:15 AM each week for Adult Bible Study. Our lessons change over the course of the year as we study God’s Word and apply it to our lives. \nTo get added to the mailing list\, please reach out to Dave Hergert (email address below).
URL:https://www.lcsavior.org/event/adult-bible-study-2020-11-29/2020-12-20/
LOCATION:Online
CATEGORIES:Bible Study
ATTACH;FMTTYPE=image/png:https://www.lcsavior.org/wp-content/uploads/2020/10/bible-study-logo-1080p-e1705168854863.png
ORGANIZER;CN="Dave Hergert":MAILTO:dhergert@gmail.com
END:VEVENT
BEGIN:VEVENT
DTSTART;TZID=America/New_York:20201213T111500
DTEND;TZID=America/New_York:20201213T121500
DTSTAMP:20260425T073722
CREATED:20201024T172211Z
LAST-MODIFIED:20201030T003017Z
UID:10000049-1607858100-1607861700@www.lcsavior.org
SUMMARY:Adult Bible Study
DESCRIPTION:Join us at 11:15 AM each week for Adult Bible Study. Our lessons change over the course of the year as we study God’s Word and apply it to our lives. \nTo get added to the mailing list\, please reach out to Dave Hergert (email address below).
URL:https://www.lcsavior.org/event/adult-bible-study-2020-11-29/2020-12-13/
LOCATION:Online
CATEGORIES:Bible Study
ATTACH;FMTTYPE=image/png:https://www.lcsavior.org/wp-content/uploads/2020/10/bible-study-logo-1080p-e1705168854863.png
ORGANIZER;CN="Dave Hergert":MAILTO:dhergert@gmail.com
END:VEVENT
BEGIN:VEVENT
DTSTART;TZID=America/New_York:20201206T111500
DTEND;TZID=America/New_York:20201206T121500
DTSTAMP:20260425T073722
CREATED:20201024T172211Z
LAST-MODIFIED:20201030T003017Z
UID:10000048-1607253300-1607256900@www.lcsavior.org
SUMMARY:Adult Bible Study
DESCRIPTION:Join us at 11:15 AM each week for Adult Bible Study. Our lessons change over the course of the year as we study God’s Word and apply it to our lives. \nTo get added to the mailing list\, please reach out to Dave Hergert (email address below).
URL:https://www.lcsavior.org/event/adult-bible-study-2020-11-29/2020-12-06/
LOCATION:Online
CATEGORIES:Bible Study
ATTACH;FMTTYPE=image/png:https://www.lcsavior.org/wp-content/uploads/2020/10/bible-study-logo-1080p-e1705168854863.png
ORGANIZER;CN="Dave Hergert":MAILTO:dhergert@gmail.com
END:VEVENT
BEGIN:VEVENT
DTSTART;TZID=America/New_York:20201129T111500
DTEND;TZID=America/New_York:20201129T121500
DTSTAMP:20260425T073722
CREATED:20201024T172211Z
LAST-MODIFIED:20201030T003017Z
UID:10000047-1606648500-1606652100@www.lcsavior.org
SUMMARY:Adult Bible Study
DESCRIPTION:Join us at 11:15 AM each week for Adult Bible Study. Our lessons change over the course of the year as we study God’s Word and apply it to our lives. \nTo get added to the mailing list\, please reach out to Dave Hergert (email address below).
URL:https://www.lcsavior.org/event/adult-bible-study-2020-11-29/2020-11-29/
LOCATION:Online
CATEGORIES:Bible Study
ATTACH;FMTTYPE=image/png:https://www.lcsavior.org/wp-content/uploads/2020/10/bible-study-logo-1080p-e1705168854863.png
ORGANIZER;CN="Dave Hergert":MAILTO:dhergert@gmail.com
END:VEVENT
BEGIN:VEVENT
DTSTART;TZID=America/New_York:20201122T111500
DTEND;TZID=America/New_York:20201122T121500
DTSTAMP:20260425T073722
CREATED:20201024T172211Z
LAST-MODIFIED:20201121T222155Z
UID:10000004-1606043700-1606047300@www.lcsavior.org
SUMMARY:Adult Bible Study: Philippians
DESCRIPTION:Join us online at 11:15 AM for a study on the book of Philippians. In this study\, we’ll explore what it means to live a live worth of the Gospel – a life filled with joy. To get the invite link\, please send an email to Dave Hergert (email address below).
URL:https://www.lcsavior.org/event/adult-bible-study-2020-11-22/
LOCATION:Online
CATEGORIES:Bible Study
ATTACH;FMTTYPE=image/jpeg:https://www.lcsavior.org/wp-content/uploads/2020/10/philippi-theater-16x9-1.jpg
ORGANIZER;CN="Dave Hergert":MAILTO:dhergert@gmail.com
END:VEVENT
BEGIN:VEVENT
DTSTART;TZID=America/New_York:20201122T111500
DTEND;TZID=America/New_York:20201122T121500
DTSTAMP:20260425T073722
CREATED:20201024T172211Z
LAST-MODIFIED:20201121T222723Z
UID:10000012-1606043700-1606047300@www.lcsavior.org
SUMMARY:Adult Bible Study: Philippians
DESCRIPTION:Join us online at 11:15 AM for a study on the book of Philippians. In this study\, we’ll explore what it means to live a live worth of the Gospel – a life filled with joy. To get the invite link\, please send an email to Dave Hergert (email address below).
URL:https://www.lcsavior.org/event/adult-bible-study/2020-11-22/
LOCATION:Online
CATEGORIES:Bible Study
ATTACH;FMTTYPE=image/jpeg:https://www.lcsavior.org/wp-content/uploads/2020/10/philippi-theater-16x9-1.jpg
ORGANIZER;CN="Dave Hergert":MAILTO:dhergert@gmail.com
END:VEVENT
BEGIN:VEVENT
DTSTART;TZID=America/New_York:20201115T111500
DTEND;TZID=America/New_York:20201115T121500
DTSTAMP:20260425T073722
CREATED:20201024T172211Z
LAST-MODIFIED:20201113T234516Z
UID:10000007-1605438900-1605442500@www.lcsavior.org
SUMMARY:Adult Bible Study: Philippians
DESCRIPTION:Join us online at 11:15 AM for a study on the book of Philippians. In this study\, we’ll explore what it means to live a live worth of the Gospel – a life filled with joy. To get the invite link\, please send an email to Dave Hergert (email address below).
URL:https://www.lcsavior.org/event/adult-bible-study-2020-11-15/
LOCATION:Online
CATEGORIES:Bible Study
ATTACH;FMTTYPE=image/jpeg:https://www.lcsavior.org/wp-content/uploads/2020/10/philippi-theater-16x9-1.jpg
ORGANIZER;CN="Dave Hergert":MAILTO:dhergert@gmail.com
END:VEVENT
BEGIN:VEVENT
DTSTART;TZID=America/New_York:20201115T111500
DTEND;TZID=America/New_York:20201115T121500
DTSTAMP:20260425T073722
CREATED:20201024T172211Z
LAST-MODIFIED:20201121T222723Z
UID:10000011-1605438900-1605442500@www.lcsavior.org
SUMMARY:Adult Bible Study: Philippians
DESCRIPTION:Join us online at 11:15 AM for a study on the book of Philippians. In this study\, we’ll explore what it means to live a live worth of the Gospel – a life filled with joy. To get the invite link\, please send an email to Dave Hergert (email address below).
URL:https://www.lcsavior.org/event/adult-bible-study/2020-11-15/
LOCATION:Online
CATEGORIES:Bible Study
ATTACH;FMTTYPE=image/jpeg:https://www.lcsavior.org/wp-content/uploads/2020/10/philippi-theater-16x9-1.jpg
ORGANIZER;CN="Dave Hergert":MAILTO:dhergert@gmail.com
END:VEVENT
BEGIN:VEVENT
DTSTART;TZID=America/New_York:20201108T111500
DTEND;TZID=America/New_York:20201108T121500
DTSTAMP:20260425T073722
CREATED:20201024T172211Z
LAST-MODIFIED:20201121T222723Z
UID:10000010-1604834100-1604837700@www.lcsavior.org
SUMMARY:Adult Bible Study: Philippians
DESCRIPTION:Join us online at 11:15 AM for a study on the book of Philippians. In this study\, we’ll explore what it means to live a live worth of the Gospel – a life filled with joy. To get the invite link\, please send an email to Dave Hergert (email address below).
URL:https://www.lcsavior.org/event/adult-bible-study/2020-11-08/
LOCATION:Online
CATEGORIES:Bible Study
ATTACH;FMTTYPE=image/jpeg:https://www.lcsavior.org/wp-content/uploads/2020/10/philippi-theater-16x9-1.jpg
ORGANIZER;CN="Dave Hergert":MAILTO:dhergert@gmail.com
END:VEVENT
BEGIN:VEVENT
DTSTART;TZID=America/New_York:20201101T111500
DTEND;TZID=America/New_York:20201101T121500
DTSTAMP:20260425T073722
CREATED:20201024T172211Z
LAST-MODIFIED:20201121T222723Z
UID:10000009-1604229300-1604232900@www.lcsavior.org
SUMMARY:Adult Bible Study: Philippians
DESCRIPTION:Join us online at 11:15 AM for a study on the book of Philippians. In this study\, we’ll explore what it means to live a live worth of the Gospel – a life filled with joy. To get the invite link\, please send an email to Dave Hergert (email address below).
URL:https://www.lcsavior.org/event/adult-bible-study/2020-11-01/
LOCATION:Online
CATEGORIES:Bible Study
ATTACH;FMTTYPE=image/jpeg:https://www.lcsavior.org/wp-content/uploads/2020/10/philippi-theater-16x9-1.jpg
ORGANIZER;CN="Dave Hergert":MAILTO:dhergert@gmail.com
END:VEVENT
BEGIN:VEVENT
DTSTART;TZID=America/New_York:20201025T111500
DTEND;TZID=America/New_York:20201025T121500
DTSTAMP:20260425T073722
CREATED:20201024T172211Z
LAST-MODIFIED:20201121T222723Z
UID:10000008-1603624500-1603628100@www.lcsavior.org
SUMMARY:Adult Bible Study: Philippians
DESCRIPTION:Join us online at 11:15 AM for a study on the book of Philippians. In this study\, we’ll explore what it means to live a live worth of the Gospel – a life filled with joy. To get the invite link\, please send an email to Dave Hergert (email address below).
URL:https://www.lcsavior.org/event/adult-bible-study/2020-10-25/
LOCATION:Online
CATEGORIES:Bible Study
ATTACH;FMTTYPE=image/jpeg:https://www.lcsavior.org/wp-content/uploads/2020/10/philippi-theater-16x9-1.jpg
ORGANIZER;CN="Dave Hergert":MAILTO:dhergert@gmail.com
END:VEVENT
BEGIN:VEVENT
DTSTART;TZID=America/New_York:20201018T110000
DTEND;TZID=America/New_York:20201018T120000
DTSTAMP:20260425T073722
CREATED:20201011T162305Z
LAST-MODIFIED:20201017T121254Z
UID:10000024-1603018800-1603022400@www.lcsavior.org
SUMMARY:Priorities for Discipleship
DESCRIPTION:“Priorities for Making Disciples”…is the title and theme of our Sunday morning Bible study beginning September 27th. We’ll explore the book of Acts and the excitement in the early church following Jesus’ death\, resurrection\, and ascension. What did that look like then?  What does it mean for our church today? Come and see!
URL:https://www.lcsavior.org/event/priorities-for-discipleship-2/
LOCATION:Online
CATEGORIES:Bible Study,streaming
ATTACH;FMTTYPE=image/jpeg:https://www.lcsavior.org/wp-content/uploads/2020/10/growing_plans_320x181.jpg
END:VEVENT
BEGIN:VEVENT
DTSTART;TZID=America/New_York:20201004T110000
DTEND;TZID=America/New_York:20201004T120000
DTSTAMP:20260425T073722
CREATED:20201004T054854Z
LAST-MODIFIED:20201004T054854Z
UID:10000002-1601809200-1601812800@www.lcsavior.org
SUMMARY:Priorities for Discipleship
DESCRIPTION:“Priorities for Making Disciples”…is the title and theme of our Sunday morning Bible study beginning September 27th. We’ll explore the book of Acts and the excitement in the early church following Jesus’ death\, resurrection\, and ascension. What did that look like then?  What does it mean for our church today? Come and see! \nHandout: N.T. Church Bible Study 2
URL:https://www.lcsavior.org/event/priorities-for-discipleship/
LOCATION:Lutheran Church of the Savior\, 426 Davis Rd.\, Bedford\, MA\, 01730\, United States
CATEGORIES:Bible Study
ATTACH;FMTTYPE=image/jpeg:https://www.lcsavior.org/wp-content/uploads/2020/10/growing_plans_320x181.jpg
END:VEVENT
END:VCALENDAR