BEGIN:VCALENDAR
VERSION:2.0
PRODID:-//Lutheran Church of the Savior - ECPv6.15.20//NONSGML v1.0//EN
CALSCALE:GREGORIAN
METHOD:PUBLISH
X-ORIGINAL-URL:https://www.lcsavior.org
X-WR-CALDESC:Events for Lutheran Church of the Savior
REFRESH-INTERVAL;VALUE=DURATION:PT1H
X-Robots-Tag:noindex
X-PUBLISHED-TTL:PT1H
BEGIN:VTIMEZONE
TZID:America/New_York
BEGIN:DAYLIGHT
TZOFFSETFROM:-0500
TZOFFSETTO:-0400
TZNAME:EDT
DTSTART:20240310T070000
END:DAYLIGHT
BEGIN:STANDARD
TZOFFSETFROM:-0400
TZOFFSETTO:-0500
TZNAME:EST
DTSTART:20241103T060000
END:STANDARD
BEGIN:DAYLIGHT
TZOFFSETFROM:-0500
TZOFFSETTO:-0400
TZNAME:EDT
DTSTART:20250309T070000
END:DAYLIGHT
BEGIN:STANDARD
TZOFFSETFROM:-0400
TZOFFSETTO:-0500
TZNAME:EST
DTSTART:20251102T060000
END:STANDARD
BEGIN:DAYLIGHT
TZOFFSETFROM:-0500
TZOFFSETTO:-0400
TZNAME:EDT
DTSTART:20260308T070000
END:DAYLIGHT
BEGIN:STANDARD
TZOFFSETFROM:-0400
TZOFFSETTO:-0500
TZNAME:EST
DTSTART:20261101T060000
END:STANDARD
END:VTIMEZONE
BEGIN:VEVENT
DTSTART;TZID=America/New_York:20251102T093000
DTEND;TZID=America/New_York:20251102T103000
DTSTAMP:20260424T210350
CREATED:20250906T231224Z
LAST-MODIFIED:20251221T002843Z
UID:10002078-1762075800-1762079400@www.lcsavior.org
SUMMARY:Christian Education Hour
DESCRIPTION:Please join us each week between services for Christian Education hour! There are Bible studies\, discussions\, and classes for people of all ages.
URL:https://www.lcsavior.org/event/christian-education-hour-2025/2025-11-02/
LOCATION:Lutheran Church of the Savior\, 426 Davis Rd.\, Bedford\, MA\, 01730\, United States
CATEGORIES:Bible Study
ATTACH;FMTTYPE=image/jpeg:https://www.lcsavior.org/wp-content/uploads/2021/01/womens-bible-study-shutterstock_738453862-Custom-1.jpg
END:VEVENT
BEGIN:VEVENT
DTSTART;TZID=America/New_York:20251109T093000
DTEND;TZID=America/New_York:20251109T103000
DTSTAMP:20260424T210350
CREATED:20250906T231224Z
LAST-MODIFIED:20251221T002843Z
UID:10002079-1762680600-1762684200@www.lcsavior.org
SUMMARY:Christian Education Hour
DESCRIPTION:Please join us each week between services for Christian Education hour! There are Bible studies\, discussions\, and classes for people of all ages.
URL:https://www.lcsavior.org/event/christian-education-hour-2025/2025-11-09/
LOCATION:Lutheran Church of the Savior\, 426 Davis Rd.\, Bedford\, MA\, 01730\, United States
CATEGORIES:Bible Study
ATTACH;FMTTYPE=image/jpeg:https://www.lcsavior.org/wp-content/uploads/2021/01/womens-bible-study-shutterstock_738453862-Custom-1.jpg
END:VEVENT
BEGIN:VEVENT
DTSTART;TZID=America/New_York:20251116T093000
DTEND;TZID=America/New_York:20251116T103000
DTSTAMP:20260424T210350
CREATED:20250906T231224Z
LAST-MODIFIED:20251221T002843Z
UID:10002080-1763285400-1763289000@www.lcsavior.org
SUMMARY:Christian Education Hour
DESCRIPTION:Please join us each week between services for Christian Education hour! There are Bible studies\, discussions\, and classes for people of all ages.
URL:https://www.lcsavior.org/event/christian-education-hour-2025/2025-11-16/
LOCATION:Lutheran Church of the Savior\, 426 Davis Rd.\, Bedford\, MA\, 01730\, United States
CATEGORIES:Bible Study
ATTACH;FMTTYPE=image/jpeg:https://www.lcsavior.org/wp-content/uploads/2021/01/womens-bible-study-shutterstock_738453862-Custom-1.jpg
END:VEVENT
BEGIN:VEVENT
DTSTART;TZID=America/New_York:20251123T093000
DTEND;TZID=America/New_York:20251123T103000
DTSTAMP:20260424T210350
CREATED:20250906T231224Z
LAST-MODIFIED:20251221T002843Z
UID:10002081-1763890200-1763893800@www.lcsavior.org
SUMMARY:Christian Education Hour
DESCRIPTION:Please join us each week between services for Christian Education hour! There are Bible studies\, discussions\, and classes for people of all ages.
URL:https://www.lcsavior.org/event/christian-education-hour-2025/2025-11-23/
LOCATION:Lutheran Church of the Savior\, 426 Davis Rd.\, Bedford\, MA\, 01730\, United States
CATEGORIES:Bible Study
ATTACH;FMTTYPE=image/jpeg:https://www.lcsavior.org/wp-content/uploads/2021/01/womens-bible-study-shutterstock_738453862-Custom-1.jpg
END:VEVENT
BEGIN:VEVENT
DTSTART;TZID=America/New_York:20251130T093000
DTEND;TZID=America/New_York:20251130T103000
DTSTAMP:20260424T210350
CREATED:20250906T231224Z
LAST-MODIFIED:20251221T002843Z
UID:10002082-1764495000-1764498600@www.lcsavior.org
SUMMARY:Christian Education Hour
DESCRIPTION:Please join us each week between services for Christian Education hour! There are Bible studies\, discussions\, and classes for people of all ages.
URL:https://www.lcsavior.org/event/christian-education-hour-2025/2025-11-30/
LOCATION:Lutheran Church of the Savior\, 426 Davis Rd.\, Bedford\, MA\, 01730\, United States
CATEGORIES:Bible Study
ATTACH;FMTTYPE=image/jpeg:https://www.lcsavior.org/wp-content/uploads/2021/01/womens-bible-study-shutterstock_738453862-Custom-1.jpg
END:VEVENT
END:VCALENDAR