BEGIN:VCALENDAR
VERSION:2.0
PRODID:-//Lutheran Church of the Savior - ECPv6.15.20//NONSGML v1.0//EN
CALSCALE:GREGORIAN
METHOD:PUBLISH
X-WR-CALNAME:Lutheran Church of the Savior
X-ORIGINAL-URL:https://www.lcsavior.org
X-WR-CALDESC:Events for Lutheran Church of the Savior
REFRESH-INTERVAL;VALUE=DURATION:PT1H
X-Robots-Tag:noindex
X-PUBLISHED-TTL:PT1H
BEGIN:VTIMEZONE
TZID:America/New_York
BEGIN:DAYLIGHT
TZOFFSETFROM:-0500
TZOFFSETTO:-0400
TZNAME:EDT
DTSTART:20250309T070000
END:DAYLIGHT
BEGIN:STANDARD
TZOFFSETFROM:-0400
TZOFFSETTO:-0500
TZNAME:EST
DTSTART:20251102T060000
END:STANDARD
BEGIN:DAYLIGHT
TZOFFSETFROM:-0500
TZOFFSETTO:-0400
TZNAME:EDT
DTSTART:20260308T070000
END:DAYLIGHT
BEGIN:STANDARD
TZOFFSETFROM:-0400
TZOFFSETTO:-0500
TZNAME:EST
DTSTART:20261101T060000
END:STANDARD
BEGIN:DAYLIGHT
TZOFFSETFROM:-0500
TZOFFSETTO:-0400
TZNAME:EDT
DTSTART:20270314T070000
END:DAYLIGHT
BEGIN:STANDARD
TZOFFSETFROM:-0400
TZOFFSETTO:-0500
TZNAME:EST
DTSTART:20271107T060000
END:STANDARD
END:VTIMEZONE
BEGIN:VEVENT
DTSTART;TZID=America/New_York:20260426T080000
DTEND;TZID=America/New_York:20260426T090000
DTSTAMP:20260423T083050
CREATED:20250906T230621Z
LAST-MODIFIED:20251221T002607Z
UID:10002020-1777190400-1777194000@www.lcsavior.org
SUMMARY:Sunday Morning Worship - 8:00 AM
DESCRIPTION:Join us in-person each Sunday at 8:00 AM as we come together to hear from God’s word\, join in prayer and praise\, and celebrate Holy Communion.
URL:https://www.lcsavior.org/event/sunday-morning-worship-800-am/2026-04-26/
LOCATION:Lutheran Church of the Savior\, 426 Davis Rd.\, Bedford\, MA\, 01730\, United States
CATEGORIES:Worship
ATTACH;FMTTYPE=image/jpeg:https://www.lcsavior.org/wp-content/uploads/2020/08/cherry-tree-cross.jpg
END:VEVENT
BEGIN:VEVENT
DTSTART;TZID=America/New_York:20260426T093000
DTEND;TZID=America/New_York:20260426T103000
DTSTAMP:20260423T083050
CREATED:20250906T231224Z
LAST-MODIFIED:20251221T002843Z
UID:10002103-1777195800-1777199400@www.lcsavior.org
SUMMARY:Christian Education Hour
DESCRIPTION:Please join us each week between services for Christian Education hour! There are Bible studies\, discussions\, and classes for people of all ages.
URL:https://www.lcsavior.org/event/christian-education-hour-2025/2026-04-26/
LOCATION:Lutheran Church of the Savior\, 426 Davis Rd.\, Bedford\, MA\, 01730\, United States
CATEGORIES:Bible Study
ATTACH;FMTTYPE=image/jpeg:https://www.lcsavior.org/wp-content/uploads/2021/01/womens-bible-study-shutterstock_738453862-Custom-1.jpg
END:VEVENT
BEGIN:VEVENT
DTSTART;TZID=America/New_York:20260426T104500
DTEND;TZID=America/New_York:20260426T114500
DTSTAMP:20260423T083050
CREATED:20250906T230945Z
LAST-MODIFIED:20250906T230945Z
UID:10002061-1777200300-1777203900@www.lcsavior.org
SUMMARY:Sunday Morning Worship - 10:45 AM
DESCRIPTION:Join us in-person or online each Sunday at 10:45 AM as we come together to hear from God’s word\, join in prayer and praise\, and celebrate Holy Communion. \nServices are livestreamed on our Facebook Live page. After the service\, they are posted on our YouTube page.
URL:https://www.lcsavior.org/event/sunday-morning-worship-1045-am/2026-04-26/
LOCATION:Lutheran Church of the Savior\, 426 Davis Rd.\, Bedford\, MA\, 01730\, United States
CATEGORIES:streaming,Worship
ATTACH;FMTTYPE=image/jpeg:https://www.lcsavior.org/wp-content/uploads/2020/08/cherry-tree-cross.jpg
END:VEVENT
BEGIN:VEVENT
DTSTART;TZID=America/New_York:20260429T090000
DTEND;TZID=America/New_York:20260429T120000
DTSTAMP:20260423T083050
CREATED:20260227T190216Z
LAST-MODIFIED:20260227T232259Z
UID:10002469-1777453200-1777464000@www.lcsavior.org
SUMMARY:Tool Time
DESCRIPTION:Join us for Tool Time every Wednesday morning at 9:00 AM at the LCS Facility! Tool Time is open to anyone willing to lend a hand with small maintenance projects around the facility. \nWe begin the morning with fellowship—coffee and pastries are provided. A short devotion is led by the Pastor or one of the Tool Time team members. Afterward\, the team works together to complete one or more projects that can be accomplished within an hour or two. \nCome enjoy good company\, meaningful devotion\, and the opportunity to serve!
URL:https://www.lcsavior.org/event/toot-time/2026-04-29/
LOCATION:Lutheran Church of the Savior\, 426 Davis Rd.\, Bedford\, MA\, 01730\, United States
END:VEVENT
BEGIN:VEVENT
DTSTART;TZID=America/New_York:20260502T073000
DTEND;TZID=America/New_York:20260502T090000
DTSTAMP:20260423T083050
CREATED:20251129T191143Z
LAST-MODIFIED:20251129T191143Z
UID:10002129-1777707000-1777712400@www.lcsavior.org
SUMMARY:Men in Prayer
DESCRIPTION:On the first Saturday of the month\, we get together for a hearty breakfast\, some fellowship\, and time in prayer. This is a great opportunity to connect and to share in our life together – men of all ages are welcome!
URL:https://www.lcsavior.org/event/men-in-prayer/2026-05-02/
LOCATION:Lutheran Church of the Savior\, 426 Davis Rd.\, Bedford\, MA\, 01730\, United States
CATEGORIES:Fellowship
ATTACH;FMTTYPE=image/jpeg:https://www.lcsavior.org/wp-content/uploads/2025/11/bacon-and-eggs.jpg
END:VEVENT
BEGIN:VEVENT
DTSTART;TZID=America/New_York:20260503T080000
DTEND;TZID=America/New_York:20260503T090000
DTSTAMP:20260423T083050
CREATED:20250906T230621Z
LAST-MODIFIED:20251221T002607Z
UID:10002021-1777795200-1777798800@www.lcsavior.org
SUMMARY:Sunday Morning Worship - 8:00 AM
DESCRIPTION:Join us in-person each Sunday at 8:00 AM as we come together to hear from God’s word\, join in prayer and praise\, and celebrate Holy Communion.
URL:https://www.lcsavior.org/event/sunday-morning-worship-800-am/2026-05-03/
LOCATION:Lutheran Church of the Savior\, 426 Davis Rd.\, Bedford\, MA\, 01730\, United States
CATEGORIES:Worship
ATTACH;FMTTYPE=image/jpeg:https://www.lcsavior.org/wp-content/uploads/2020/08/cherry-tree-cross.jpg
END:VEVENT
BEGIN:VEVENT
DTSTART;TZID=America/New_York:20260503T093000
DTEND;TZID=America/New_York:20260503T103000
DTSTAMP:20260423T083050
CREATED:20250906T231224Z
LAST-MODIFIED:20251221T002843Z
UID:10002104-1777800600-1777804200@www.lcsavior.org
SUMMARY:Christian Education Hour
DESCRIPTION:Please join us each week between services for Christian Education hour! There are Bible studies\, discussions\, and classes for people of all ages.
URL:https://www.lcsavior.org/event/christian-education-hour-2025/2026-05-03/
LOCATION:Lutheran Church of the Savior\, 426 Davis Rd.\, Bedford\, MA\, 01730\, United States
CATEGORIES:Bible Study
ATTACH;FMTTYPE=image/jpeg:https://www.lcsavior.org/wp-content/uploads/2021/01/womens-bible-study-shutterstock_738453862-Custom-1.jpg
END:VEVENT
BEGIN:VEVENT
DTSTART;TZID=America/New_York:20260503T104500
DTEND;TZID=America/New_York:20260503T114500
DTSTAMP:20260423T083050
CREATED:20250906T230945Z
LAST-MODIFIED:20250906T230945Z
UID:10002062-1777805100-1777808700@www.lcsavior.org
SUMMARY:Sunday Morning Worship - 10:45 AM
DESCRIPTION:Join us in-person or online each Sunday at 10:45 AM as we come together to hear from God’s word\, join in prayer and praise\, and celebrate Holy Communion. \nServices are livestreamed on our Facebook Live page. After the service\, they are posted on our YouTube page.
URL:https://www.lcsavior.org/event/sunday-morning-worship-1045-am/2026-05-03/
LOCATION:Lutheran Church of the Savior\, 426 Davis Rd.\, Bedford\, MA\, 01730\, United States
CATEGORIES:streaming,Worship
ATTACH;FMTTYPE=image/jpeg:https://www.lcsavior.org/wp-content/uploads/2020/08/cherry-tree-cross.jpg
END:VEVENT
BEGIN:VEVENT
DTSTART;TZID=America/New_York:20260506T090000
DTEND;TZID=America/New_York:20260506T120000
DTSTAMP:20260423T083050
CREATED:20260227T190216Z
LAST-MODIFIED:20260227T232259Z
UID:10002470-1778058000-1778068800@www.lcsavior.org
SUMMARY:Tool Time
DESCRIPTION:Join us for Tool Time every Wednesday morning at 9:00 AM at the LCS Facility! Tool Time is open to anyone willing to lend a hand with small maintenance projects around the facility. \nWe begin the morning with fellowship—coffee and pastries are provided. A short devotion is led by the Pastor or one of the Tool Time team members. Afterward\, the team works together to complete one or more projects that can be accomplished within an hour or two. \nCome enjoy good company\, meaningful devotion\, and the opportunity to serve!
URL:https://www.lcsavior.org/event/toot-time/2026-05-06/
LOCATION:Lutheran Church of the Savior\, 426 Davis Rd.\, Bedford\, MA\, 01730\, United States
END:VEVENT
BEGIN:VEVENT
DTSTART;TZID=America/New_York:20260510T080000
DTEND;TZID=America/New_York:20260510T090000
DTSTAMP:20260423T083050
CREATED:20250906T230621Z
LAST-MODIFIED:20251221T002607Z
UID:10002022-1778400000-1778403600@www.lcsavior.org
SUMMARY:Sunday Morning Worship - 8:00 AM
DESCRIPTION:Join us in-person each Sunday at 8:00 AM as we come together to hear from God’s word\, join in prayer and praise\, and celebrate Holy Communion.
URL:https://www.lcsavior.org/event/sunday-morning-worship-800-am/2026-05-10/
LOCATION:Lutheran Church of the Savior\, 426 Davis Rd.\, Bedford\, MA\, 01730\, United States
CATEGORIES:Worship
ATTACH;FMTTYPE=image/jpeg:https://www.lcsavior.org/wp-content/uploads/2020/08/cherry-tree-cross.jpg
END:VEVENT
BEGIN:VEVENT
DTSTART;TZID=America/New_York:20260510T093000
DTEND;TZID=America/New_York:20260510T103000
DTSTAMP:20260423T083050
CREATED:20250906T231224Z
LAST-MODIFIED:20251221T002843Z
UID:10002105-1778405400-1778409000@www.lcsavior.org
SUMMARY:Christian Education Hour
DESCRIPTION:Please join us each week between services for Christian Education hour! There are Bible studies\, discussions\, and classes for people of all ages.
URL:https://www.lcsavior.org/event/christian-education-hour-2025/2026-05-10/
LOCATION:Lutheran Church of the Savior\, 426 Davis Rd.\, Bedford\, MA\, 01730\, United States
CATEGORIES:Bible Study
ATTACH;FMTTYPE=image/jpeg:https://www.lcsavior.org/wp-content/uploads/2021/01/womens-bible-study-shutterstock_738453862-Custom-1.jpg
END:VEVENT
BEGIN:VEVENT
DTSTART;TZID=America/New_York:20260510T104500
DTEND;TZID=America/New_York:20260510T114500
DTSTAMP:20260423T083050
CREATED:20250906T230945Z
LAST-MODIFIED:20250906T230945Z
UID:10002063-1778409900-1778413500@www.lcsavior.org
SUMMARY:Sunday Morning Worship - 10:45 AM
DESCRIPTION:Join us in-person or online each Sunday at 10:45 AM as we come together to hear from God’s word\, join in prayer and praise\, and celebrate Holy Communion. \nServices are livestreamed on our Facebook Live page. After the service\, they are posted on our YouTube page.
URL:https://www.lcsavior.org/event/sunday-morning-worship-1045-am/2026-05-10/
LOCATION:Lutheran Church of the Savior\, 426 Davis Rd.\, Bedford\, MA\, 01730\, United States
CATEGORIES:streaming,Worship
ATTACH;FMTTYPE=image/jpeg:https://www.lcsavior.org/wp-content/uploads/2020/08/cherry-tree-cross.jpg
END:VEVENT
BEGIN:VEVENT
DTSTART;TZID=America/New_York:20260513T090000
DTEND;TZID=America/New_York:20260513T120000
DTSTAMP:20260423T083050
CREATED:20260227T190216Z
LAST-MODIFIED:20260227T232259Z
UID:10002471-1778662800-1778673600@www.lcsavior.org
SUMMARY:Tool Time
DESCRIPTION:Join us for Tool Time every Wednesday morning at 9:00 AM at the LCS Facility! Tool Time is open to anyone willing to lend a hand with small maintenance projects around the facility. \nWe begin the morning with fellowship—coffee and pastries are provided. A short devotion is led by the Pastor or one of the Tool Time team members. Afterward\, the team works together to complete one or more projects that can be accomplished within an hour or two. \nCome enjoy good company\, meaningful devotion\, and the opportunity to serve!
URL:https://www.lcsavior.org/event/toot-time/2026-05-13/
LOCATION:Lutheran Church of the Savior\, 426 Davis Rd.\, Bedford\, MA\, 01730\, United States
END:VEVENT
BEGIN:VEVENT
DTSTART;TZID=America/New_York:20260513T120000
DTEND;TZID=America/New_York:20260513T140000
DTSTAMP:20260423T083050
CREATED:20260414T152201Z
LAST-MODIFIED:20260414T152201Z
UID:10002728-1778673600-1778680800@www.lcsavior.org
SUMMARY:Fellowship  Luncheon
DESCRIPTION:Fellowship  Luncheon will be held on Wednesday May 13th  at 12 noon.  The Open Arms Preschool children may be serenading us at a little before 12 so arrive early and enjoy the entertainment and fellowship.  Also please reach out to friends that may that would enjoy a delicious heart warming lunch & fellowship.
URL:https://www.lcsavior.org/event/fellowship-luncheon-3/
LOCATION:Lutheran Church of the Savior\, 426 Davis Rd.\, Bedford\, MA\, 01730\, United States
END:VEVENT
BEGIN:VEVENT
DTSTART;TZID=America/New_York:20260517T080000
DTEND;TZID=America/New_York:20260517T090000
DTSTAMP:20260423T083050
CREATED:20250906T230621Z
LAST-MODIFIED:20251221T002607Z
UID:10002023-1779004800-1779008400@www.lcsavior.org
SUMMARY:Sunday Morning Worship - 8:00 AM
DESCRIPTION:Join us in-person each Sunday at 8:00 AM as we come together to hear from God’s word\, join in prayer and praise\, and celebrate Holy Communion.
URL:https://www.lcsavior.org/event/sunday-morning-worship-800-am/2026-05-17/
LOCATION:Lutheran Church of the Savior\, 426 Davis Rd.\, Bedford\, MA\, 01730\, United States
CATEGORIES:Worship
ATTACH;FMTTYPE=image/jpeg:https://www.lcsavior.org/wp-content/uploads/2020/08/cherry-tree-cross.jpg
END:VEVENT
BEGIN:VEVENT
DTSTART;TZID=America/New_York:20260517T093000
DTEND;TZID=America/New_York:20260517T103000
DTSTAMP:20260423T083050
CREATED:20250906T231224Z
LAST-MODIFIED:20251221T002843Z
UID:10002106-1779010200-1779013800@www.lcsavior.org
SUMMARY:Christian Education Hour
DESCRIPTION:Please join us each week between services for Christian Education hour! There are Bible studies\, discussions\, and classes for people of all ages.
URL:https://www.lcsavior.org/event/christian-education-hour-2025/2026-05-17/
LOCATION:Lutheran Church of the Savior\, 426 Davis Rd.\, Bedford\, MA\, 01730\, United States
CATEGORIES:Bible Study
ATTACH;FMTTYPE=image/jpeg:https://www.lcsavior.org/wp-content/uploads/2021/01/womens-bible-study-shutterstock_738453862-Custom-1.jpg
END:VEVENT
BEGIN:VEVENT
DTSTART;TZID=America/New_York:20260517T104500
DTEND;TZID=America/New_York:20260517T114500
DTSTAMP:20260423T083050
CREATED:20250906T230945Z
LAST-MODIFIED:20250906T230945Z
UID:10002064-1779014700-1779018300@www.lcsavior.org
SUMMARY:Sunday Morning Worship - 10:45 AM
DESCRIPTION:Join us in-person or online each Sunday at 10:45 AM as we come together to hear from God’s word\, join in prayer and praise\, and celebrate Holy Communion. \nServices are livestreamed on our Facebook Live page. After the service\, they are posted on our YouTube page.
URL:https://www.lcsavior.org/event/sunday-morning-worship-1045-am/2026-05-17/
LOCATION:Lutheran Church of the Savior\, 426 Davis Rd.\, Bedford\, MA\, 01730\, United States
CATEGORIES:streaming,Worship
ATTACH;FMTTYPE=image/jpeg:https://www.lcsavior.org/wp-content/uploads/2020/08/cherry-tree-cross.jpg
END:VEVENT
BEGIN:VEVENT
DTSTART;TZID=America/New_York:20260520T090000
DTEND;TZID=America/New_York:20260520T120000
DTSTAMP:20260423T083050
CREATED:20260227T190216Z
LAST-MODIFIED:20260227T232259Z
UID:10002472-1779267600-1779278400@www.lcsavior.org
SUMMARY:Tool Time
DESCRIPTION:Join us for Tool Time every Wednesday morning at 9:00 AM at the LCS Facility! Tool Time is open to anyone willing to lend a hand with small maintenance projects around the facility. \nWe begin the morning with fellowship—coffee and pastries are provided. A short devotion is led by the Pastor or one of the Tool Time team members. Afterward\, the team works together to complete one or more projects that can be accomplished within an hour or two. \nCome enjoy good company\, meaningful devotion\, and the opportunity to serve!
URL:https://www.lcsavior.org/event/toot-time/2026-05-20/
LOCATION:Lutheran Church of the Savior\, 426 Davis Rd.\, Bedford\, MA\, 01730\, United States
END:VEVENT
BEGIN:VEVENT
DTSTART;TZID=America/New_York:20260524T080000
DTEND;TZID=America/New_York:20260524T090000
DTSTAMP:20260423T083050
CREATED:20250906T230621Z
LAST-MODIFIED:20251221T002607Z
UID:10002024-1779609600-1779613200@www.lcsavior.org
SUMMARY:Sunday Morning Worship - 8:00 AM
DESCRIPTION:Join us in-person each Sunday at 8:00 AM as we come together to hear from God’s word\, join in prayer and praise\, and celebrate Holy Communion.
URL:https://www.lcsavior.org/event/sunday-morning-worship-800-am/2026-05-24/
LOCATION:Lutheran Church of the Savior\, 426 Davis Rd.\, Bedford\, MA\, 01730\, United States
CATEGORIES:Worship
ATTACH;FMTTYPE=image/jpeg:https://www.lcsavior.org/wp-content/uploads/2020/08/cherry-tree-cross.jpg
END:VEVENT
BEGIN:VEVENT
DTSTART;TZID=America/New_York:20260524T093000
DTEND;TZID=America/New_York:20260524T103000
DTSTAMP:20260423T083050
CREATED:20250906T231224Z
LAST-MODIFIED:20251221T002843Z
UID:10002107-1779615000-1779618600@www.lcsavior.org
SUMMARY:Christian Education Hour
DESCRIPTION:Please join us each week between services for Christian Education hour! There are Bible studies\, discussions\, and classes for people of all ages.
URL:https://www.lcsavior.org/event/christian-education-hour-2025/2026-05-24/
LOCATION:Lutheran Church of the Savior\, 426 Davis Rd.\, Bedford\, MA\, 01730\, United States
CATEGORIES:Bible Study
ATTACH;FMTTYPE=image/jpeg:https://www.lcsavior.org/wp-content/uploads/2021/01/womens-bible-study-shutterstock_738453862-Custom-1.jpg
END:VEVENT
BEGIN:VEVENT
DTSTART;TZID=America/New_York:20260524T104500
DTEND;TZID=America/New_York:20260524T114500
DTSTAMP:20260423T083050
CREATED:20250906T230945Z
LAST-MODIFIED:20250906T230945Z
UID:10002065-1779619500-1779623100@www.lcsavior.org
SUMMARY:Sunday Morning Worship - 10:45 AM
DESCRIPTION:Join us in-person or online each Sunday at 10:45 AM as we come together to hear from God’s word\, join in prayer and praise\, and celebrate Holy Communion. \nServices are livestreamed on our Facebook Live page. After the service\, they are posted on our YouTube page.
URL:https://www.lcsavior.org/event/sunday-morning-worship-1045-am/2026-05-24/
LOCATION:Lutheran Church of the Savior\, 426 Davis Rd.\, Bedford\, MA\, 01730\, United States
CATEGORIES:streaming,Worship
ATTACH;FMTTYPE=image/jpeg:https://www.lcsavior.org/wp-content/uploads/2020/08/cherry-tree-cross.jpg
END:VEVENT
BEGIN:VEVENT
DTSTART;TZID=America/New_York:20260527T090000
DTEND;TZID=America/New_York:20260527T120000
DTSTAMP:20260423T083050
CREATED:20260227T190216Z
LAST-MODIFIED:20260227T232259Z
UID:10002473-1779872400-1779883200@www.lcsavior.org
SUMMARY:Tool Time
DESCRIPTION:Join us for Tool Time every Wednesday morning at 9:00 AM at the LCS Facility! Tool Time is open to anyone willing to lend a hand with small maintenance projects around the facility. \nWe begin the morning with fellowship—coffee and pastries are provided. A short devotion is led by the Pastor or one of the Tool Time team members. Afterward\, the team works together to complete one or more projects that can be accomplished within an hour or two. \nCome enjoy good company\, meaningful devotion\, and the opportunity to serve!
URL:https://www.lcsavior.org/event/toot-time/2026-05-27/
LOCATION:Lutheran Church of the Savior\, 426 Davis Rd.\, Bedford\, MA\, 01730\, United States
END:VEVENT
BEGIN:VEVENT
DTSTART;TZID=America/New_York:20260531T080000
DTEND;TZID=America/New_York:20260531T090000
DTSTAMP:20260423T083050
CREATED:20250906T230621Z
LAST-MODIFIED:20251221T002607Z
UID:10002025-1780214400-1780218000@www.lcsavior.org
SUMMARY:Sunday Morning Worship - 8:00 AM
DESCRIPTION:Join us in-person each Sunday at 8:00 AM as we come together to hear from God’s word\, join in prayer and praise\, and celebrate Holy Communion.
URL:https://www.lcsavior.org/event/sunday-morning-worship-800-am/2026-05-31/
LOCATION:Lutheran Church of the Savior\, 426 Davis Rd.\, Bedford\, MA\, 01730\, United States
CATEGORIES:Worship
ATTACH;FMTTYPE=image/jpeg:https://www.lcsavior.org/wp-content/uploads/2020/08/cherry-tree-cross.jpg
END:VEVENT
BEGIN:VEVENT
DTSTART;TZID=America/New_York:20260531T093000
DTEND;TZID=America/New_York:20260531T103000
DTSTAMP:20260423T083050
CREATED:20250906T231224Z
LAST-MODIFIED:20251221T002843Z
UID:10002108-1780219800-1780223400@www.lcsavior.org
SUMMARY:Christian Education Hour
DESCRIPTION:Please join us each week between services for Christian Education hour! There are Bible studies\, discussions\, and classes for people of all ages.
URL:https://www.lcsavior.org/event/christian-education-hour-2025/2026-05-31/
LOCATION:Lutheran Church of the Savior\, 426 Davis Rd.\, Bedford\, MA\, 01730\, United States
CATEGORIES:Bible Study
ATTACH;FMTTYPE=image/jpeg:https://www.lcsavior.org/wp-content/uploads/2021/01/womens-bible-study-shutterstock_738453862-Custom-1.jpg
END:VEVENT
BEGIN:VEVENT
DTSTART;TZID=America/New_York:20260531T104500
DTEND;TZID=America/New_York:20260531T114500
DTSTAMP:20260423T083050
CREATED:20250906T230945Z
LAST-MODIFIED:20250906T230945Z
UID:10002066-1780224300-1780227900@www.lcsavior.org
SUMMARY:Sunday Morning Worship - 10:45 AM
DESCRIPTION:Join us in-person or online each Sunday at 10:45 AM as we come together to hear from God’s word\, join in prayer and praise\, and celebrate Holy Communion. \nServices are livestreamed on our Facebook Live page. After the service\, they are posted on our YouTube page.
URL:https://www.lcsavior.org/event/sunday-morning-worship-1045-am/2026-05-31/
LOCATION:Lutheran Church of the Savior\, 426 Davis Rd.\, Bedford\, MA\, 01730\, United States
CATEGORIES:streaming,Worship
ATTACH;FMTTYPE=image/jpeg:https://www.lcsavior.org/wp-content/uploads/2020/08/cherry-tree-cross.jpg
END:VEVENT
BEGIN:VEVENT
DTSTART;TZID=America/New_York:20260603T090000
DTEND;TZID=America/New_York:20260603T120000
DTSTAMP:20260423T083050
CREATED:20260227T190216Z
LAST-MODIFIED:20260227T232259Z
UID:10002474-1780477200-1780488000@www.lcsavior.org
SUMMARY:Tool Time
DESCRIPTION:Join us for Tool Time every Wednesday morning at 9:00 AM at the LCS Facility! Tool Time is open to anyone willing to lend a hand with small maintenance projects around the facility. \nWe begin the morning with fellowship—coffee and pastries are provided. A short devotion is led by the Pastor or one of the Tool Time team members. Afterward\, the team works together to complete one or more projects that can be accomplished within an hour or two. \nCome enjoy good company\, meaningful devotion\, and the opportunity to serve!
URL:https://www.lcsavior.org/event/toot-time/2026-06-03/
LOCATION:Lutheran Church of the Savior\, 426 Davis Rd.\, Bedford\, MA\, 01730\, United States
END:VEVENT
BEGIN:VEVENT
DTSTART;TZID=America/New_York:20260606T073000
DTEND;TZID=America/New_York:20260606T090000
DTSTAMP:20260423T083050
CREATED:20251129T191143Z
LAST-MODIFIED:20251129T191143Z
UID:10002130-1780731000-1780736400@www.lcsavior.org
SUMMARY:Men in Prayer
DESCRIPTION:On the first Saturday of the month\, we get together for a hearty breakfast\, some fellowship\, and time in prayer. This is a great opportunity to connect and to share in our life together – men of all ages are welcome!
URL:https://www.lcsavior.org/event/men-in-prayer/2026-06-06/
LOCATION:Lutheran Church of the Savior\, 426 Davis Rd.\, Bedford\, MA\, 01730\, United States
CATEGORIES:Fellowship
ATTACH;FMTTYPE=image/jpeg:https://www.lcsavior.org/wp-content/uploads/2025/11/bacon-and-eggs.jpg
END:VEVENT
BEGIN:VEVENT
DTSTART;TZID=America/New_York:20260607T080000
DTEND;TZID=America/New_York:20260607T090000
DTSTAMP:20260423T083050
CREATED:20250906T230621Z
LAST-MODIFIED:20251221T002607Z
UID:10002026-1780819200-1780822800@www.lcsavior.org
SUMMARY:Sunday Morning Worship - 8:00 AM
DESCRIPTION:Join us in-person each Sunday at 8:00 AM as we come together to hear from God’s word\, join in prayer and praise\, and celebrate Holy Communion.
URL:https://www.lcsavior.org/event/sunday-morning-worship-800-am/2026-06-07/
LOCATION:Lutheran Church of the Savior\, 426 Davis Rd.\, Bedford\, MA\, 01730\, United States
CATEGORIES:Worship
ATTACH;FMTTYPE=image/jpeg:https://www.lcsavior.org/wp-content/uploads/2020/08/cherry-tree-cross.jpg
END:VEVENT
BEGIN:VEVENT
DTSTART;TZID=America/New_York:20260607T093000
DTEND;TZID=America/New_York:20260607T103000
DTSTAMP:20260423T083050
CREATED:20250906T231224Z
LAST-MODIFIED:20251221T002843Z
UID:10002109-1780824600-1780828200@www.lcsavior.org
SUMMARY:Christian Education Hour
DESCRIPTION:Please join us each week between services for Christian Education hour! There are Bible studies\, discussions\, and classes for people of all ages.
URL:https://www.lcsavior.org/event/christian-education-hour-2025/2026-06-07/
LOCATION:Lutheran Church of the Savior\, 426 Davis Rd.\, Bedford\, MA\, 01730\, United States
CATEGORIES:Bible Study
ATTACH;FMTTYPE=image/jpeg:https://www.lcsavior.org/wp-content/uploads/2021/01/womens-bible-study-shutterstock_738453862-Custom-1.jpg
END:VEVENT
BEGIN:VEVENT
DTSTART;TZID=America/New_York:20260607T104500
DTEND;TZID=America/New_York:20260607T114500
DTSTAMP:20260423T083050
CREATED:20250906T230945Z
LAST-MODIFIED:20250906T230945Z
UID:10002067-1780829100-1780832700@www.lcsavior.org
SUMMARY:Sunday Morning Worship - 10:45 AM
DESCRIPTION:Join us in-person or online each Sunday at 10:45 AM as we come together to hear from God’s word\, join in prayer and praise\, and celebrate Holy Communion. \nServices are livestreamed on our Facebook Live page. After the service\, they are posted on our YouTube page.
URL:https://www.lcsavior.org/event/sunday-morning-worship-1045-am/2026-06-07/
LOCATION:Lutheran Church of the Savior\, 426 Davis Rd.\, Bedford\, MA\, 01730\, United States
CATEGORIES:streaming,Worship
ATTACH;FMTTYPE=image/jpeg:https://www.lcsavior.org/wp-content/uploads/2020/08/cherry-tree-cross.jpg
END:VEVENT
END:VCALENDAR