BEGIN:VCALENDAR
VERSION:2.0
PRODID:-//Lutheran Church of the Savior - ECPv6.15.20//NONSGML v1.0//EN
CALSCALE:GREGORIAN
METHOD:PUBLISH
X-WR-CALNAME:Lutheran Church of the Savior
X-ORIGINAL-URL:https://www.lcsavior.org
X-WR-CALDESC:Events for Lutheran Church of the Savior
REFRESH-INTERVAL;VALUE=DURATION:PT1H
X-Robots-Tag:noindex
X-PUBLISHED-TTL:PT1H
BEGIN:VTIMEZONE
TZID:America/New_York
BEGIN:DAYLIGHT
TZOFFSETFROM:-0500
TZOFFSETTO:-0400
TZNAME:EDT
DTSTART:20250309T070000
END:DAYLIGHT
BEGIN:STANDARD
TZOFFSETFROM:-0400
TZOFFSETTO:-0500
TZNAME:EST
DTSTART:20251102T060000
END:STANDARD
BEGIN:DAYLIGHT
TZOFFSETFROM:-0500
TZOFFSETTO:-0400
TZNAME:EDT
DTSTART:20260308T070000
END:DAYLIGHT
BEGIN:STANDARD
TZOFFSETFROM:-0400
TZOFFSETTO:-0500
TZNAME:EST
DTSTART:20261101T060000
END:STANDARD
BEGIN:DAYLIGHT
TZOFFSETFROM:-0500
TZOFFSETTO:-0400
TZNAME:EDT
DTSTART:20270314T070000
END:DAYLIGHT
BEGIN:STANDARD
TZOFFSETFROM:-0400
TZOFFSETTO:-0500
TZNAME:EST
DTSTART:20271107T060000
END:STANDARD
END:VTIMEZONE
BEGIN:VEVENT
DTSTART;TZID=America/New_York:20260201T080000
DTEND;TZID=America/New_York:20260201T090000
DTSTAMP:20260424T175835
CREATED:20250906T230621Z
LAST-MODIFIED:20251221T002607Z
UID:10002008-1769932800-1769936400@www.lcsavior.org
SUMMARY:Sunday Morning Worship - 8:00 AM
DESCRIPTION:Join us in-person each Sunday at 8:00 AM as we come together to hear from God’s word\, join in prayer and praise\, and celebrate Holy Communion.
URL:https://www.lcsavior.org/event/sunday-morning-worship-800-am/2026-02-01/
LOCATION:Lutheran Church of the Savior\, 426 Davis Rd.\, Bedford\, MA\, 01730\, United States
CATEGORIES:Worship
ATTACH;FMTTYPE=image/jpeg:https://www.lcsavior.org/wp-content/uploads/2020/08/cherry-tree-cross.jpg
END:VEVENT
BEGIN:VEVENT
DTSTART;TZID=America/New_York:20260201T093000
DTEND;TZID=America/New_York:20260201T103000
DTSTAMP:20260424T175835
CREATED:20250906T231224Z
LAST-MODIFIED:20251221T002843Z
UID:10002091-1769938200-1769941800@www.lcsavior.org
SUMMARY:Christian Education Hour
DESCRIPTION:Please join us each week between services for Christian Education hour! There are Bible studies\, discussions\, and classes for people of all ages.
URL:https://www.lcsavior.org/event/christian-education-hour-2025/2026-02-01/
LOCATION:Lutheran Church of the Savior\, 426 Davis Rd.\, Bedford\, MA\, 01730\, United States
CATEGORIES:Bible Study
ATTACH;FMTTYPE=image/jpeg:https://www.lcsavior.org/wp-content/uploads/2021/01/womens-bible-study-shutterstock_738453862-Custom-1.jpg
END:VEVENT
BEGIN:VEVENT
DTSTART;TZID=America/New_York:20260201T104500
DTEND;TZID=America/New_York:20260201T114500
DTSTAMP:20260424T175835
CREATED:20260131T232614Z
LAST-MODIFIED:20260131T232615Z
UID:10002049-1769942700-1769946300@www.lcsavior.org
SUMMARY:Sunday Morning Worship - 10:45 AM
DESCRIPTION:Join us in-person or online each Sunday at 10:45 AM as we come together to hear from God’s word\, join in prayer and praise\, and celebrate Holy Communion. \nClick here to join the livestream. \nClick here to download the worship bulletin to follow along
URL:https://www.lcsavior.org/event/sunday-morning-worship-1045-am-38/
LOCATION:Lutheran Church of the Savior\, 426 Davis Rd.\, Bedford\, MA\, 01730\, United States
CATEGORIES:streaming,Worship
ATTACH;FMTTYPE=image/png:https://www.lcsavior.org/wp-content/uploads/2025/09/Slide1-Custom-20.png
END:VEVENT
BEGIN:VEVENT
DTSTART;TZID=America/New_York:20260201T160000
DTEND;TZID=America/New_York:20260201T220000
DTSTAMP:20260424T175835
CREATED:20260117T215904Z
LAST-MODIFIED:20260123T172935Z
UID:10002190-1769961600-1769983200@www.lcsavior.org
SUMMARY:Katherine Ou Organ Concert
DESCRIPTION:Join us for a special organ concert featuring Katherine Ou\, a talented and accomplished musician. This inspiring performance will support the purchase of a new organ at Lutheran Church of the Savior. Admission is free\, with freewill offerings gratefully accepted. A reception will follow the program—please stay and enjoy fellowship after the concert.
URL:https://www.lcsavior.org/event/katherine-ou-organ-concert/
LOCATION:Lutheran Church of the Savior\, 426 Davis Rd.\, Bedford\, MA\, 01730\, United States
END:VEVENT
END:VCALENDAR