BEGIN:VCALENDAR
VERSION:2.0
PRODID:-//Lutheran Church of the Savior - ECPv6.15.20//NONSGML v1.0//EN
CALSCALE:GREGORIAN
METHOD:PUBLISH
X-ORIGINAL-URL:https://www.lcsavior.org
X-WR-CALDESC:Events for Lutheran Church of the Savior
REFRESH-INTERVAL;VALUE=DURATION:PT1H
X-Robots-Tag:noindex
X-PUBLISHED-TTL:PT1H
BEGIN:VTIMEZONE
TZID:America/New_York
BEGIN:DAYLIGHT
TZOFFSETFROM:-0500
TZOFFSETTO:-0400
TZNAME:EDT
DTSTART:20250309T070000
END:DAYLIGHT
BEGIN:STANDARD
TZOFFSETFROM:-0400
TZOFFSETTO:-0500
TZNAME:EST
DTSTART:20251102T060000
END:STANDARD
BEGIN:DAYLIGHT
TZOFFSETFROM:-0500
TZOFFSETTO:-0400
TZNAME:EDT
DTSTART:20260308T070000
END:DAYLIGHT
BEGIN:STANDARD
TZOFFSETFROM:-0400
TZOFFSETTO:-0500
TZNAME:EST
DTSTART:20261101T060000
END:STANDARD
BEGIN:DAYLIGHT
TZOFFSETFROM:-0500
TZOFFSETTO:-0400
TZNAME:EDT
DTSTART:20270314T070000
END:DAYLIGHT
BEGIN:STANDARD
TZOFFSETFROM:-0400
TZOFFSETTO:-0500
TZNAME:EST
DTSTART:20271107T060000
END:STANDARD
END:VTIMEZONE
BEGIN:VEVENT
DTSTART;TZID=America/New_York:20260127T190000
DTEND;TZID=America/New_York:20260127T210000
DTSTAMP:20260424T192611
CREATED:20260119T211447Z
LAST-MODIFIED:20260124T171704Z
UID:10002191-1769540400-1769547600@www.lcsavior.org
SUMMARY:Family Book Club
DESCRIPTION:Family Book Club Meeting\nThe first meeting this year of the Family Book Club will be Tuesday\, January 27th at 7pm. We will be reading from a book of short fairy tales written by George MacDonald\, who is often described as the father of modern fantasy.  Both JRR Tolkien and CS Lewis credit him with much of their inspiration.  At Tuesday’s meeting books will be passed out.  This will serve as an organizational meeting to determine the best time to meet\, and we will begin one of the short stories.  Most of MacDonald’s children stories include both a boy and a girl in important roles\, and all of his stories contain morals aimed at children and adults.\n 
URL:https://www.lcsavior.org/event/4394/
LOCATION:Lutheran Church of the Savior\, 426 Davis Rd.\, Bedford\, MA\, 01730\, United States
CATEGORIES:Fellowship
END:VEVENT
END:VCALENDAR