BEGIN:VCALENDAR
VERSION:2.0
PRODID:-//Lutheran Church of the Savior - ECPv6.15.20//NONSGML v1.0//EN
CALSCALE:GREGORIAN
METHOD:PUBLISH
X-ORIGINAL-URL:https://www.lcsavior.org
X-WR-CALDESC:Events for Lutheran Church of the Savior
REFRESH-INTERVAL;VALUE=DURATION:PT1H
X-Robots-Tag:noindex
X-PUBLISHED-TTL:PT1H
BEGIN:VTIMEZONE
TZID:America/New_York
BEGIN:DAYLIGHT
TZOFFSETFROM:-0500
TZOFFSETTO:-0400
TZNAME:EDT
DTSTART:20290311T070000
END:DAYLIGHT
BEGIN:STANDARD
TZOFFSETFROM:-0400
TZOFFSETTO:-0500
TZNAME:EST
DTSTART:20291104T060000
END:STANDARD
BEGIN:DAYLIGHT
TZOFFSETFROM:-0500
TZOFFSETTO:-0400
TZNAME:EDT
DTSTART:20300310T070000
END:DAYLIGHT
BEGIN:STANDARD
TZOFFSETFROM:-0400
TZOFFSETTO:-0500
TZNAME:EST
DTSTART:20301103T060000
END:STANDARD
BEGIN:DAYLIGHT
TZOFFSETFROM:-0500
TZOFFSETTO:-0400
TZNAME:EDT
DTSTART:20310309T070000
END:DAYLIGHT
BEGIN:STANDARD
TZOFFSETFROM:-0400
TZOFFSETTO:-0500
TZNAME:EST
DTSTART:20311102T060000
END:STANDARD
END:VTIMEZONE
BEGIN:VEVENT
DTSTART;TZID=America/New_York:20300601T073000
DTEND;TZID=America/New_York:20300601T090000
DTSTAMP:20260425T233150
CREATED:20251129T191143Z
LAST-MODIFIED:20251129T191143Z
UID:10002178-1906529400-1906534800@www.lcsavior.org
SUMMARY:Men in Prayer
DESCRIPTION:On the first Saturday of the month\, we get together for a hearty breakfast\, some fellowship\, and time in prayer. This is a great opportunity to connect and to share in our life together – men of all ages are welcome!
URL:https://www.lcsavior.org/event/men-in-prayer/2030-06-01/
LOCATION:Lutheran Church of the Savior\, 426 Davis Rd.\, Bedford\, MA\, 01730\, United States
CATEGORIES:Fellowship
ATTACH;FMTTYPE=image/jpeg:https://www.lcsavior.org/wp-content/uploads/2025/11/bacon-and-eggs.jpg
END:VEVENT
BEGIN:VEVENT
DTSTART;TZID=America/New_York:20300605T090000
DTEND;TZID=America/New_York:20300605T120000
DTSTAMP:20260425T233150
CREATED:20260227T190216Z
LAST-MODIFIED:20260227T232259Z
UID:10002683-1906880400-1906891200@www.lcsavior.org
SUMMARY:Tool Time
DESCRIPTION:Join us for Tool Time every Wednesday morning at 9:00 AM at the LCS Facility! Tool Time is open to anyone willing to lend a hand with small maintenance projects around the facility. \nWe begin the morning with fellowship—coffee and pastries are provided. A short devotion is led by the Pastor or one of the Tool Time team members. Afterward\, the team works together to complete one or more projects that can be accomplished within an hour or two. \nCome enjoy good company\, meaningful devotion\, and the opportunity to serve!
URL:https://www.lcsavior.org/event/toot-time/2030-06-05/
LOCATION:Lutheran Church of the Savior\, 426 Davis Rd.\, Bedford\, MA\, 01730\, United States
END:VEVENT
BEGIN:VEVENT
DTSTART;TZID=America/New_York:20300612T090000
DTEND;TZID=America/New_York:20300612T120000
DTSTAMP:20260425T233150
CREATED:20260227T190216Z
LAST-MODIFIED:20260227T232259Z
UID:10002684-1907485200-1907496000@www.lcsavior.org
SUMMARY:Tool Time
DESCRIPTION:Join us for Tool Time every Wednesday morning at 9:00 AM at the LCS Facility! Tool Time is open to anyone willing to lend a hand with small maintenance projects around the facility. \nWe begin the morning with fellowship—coffee and pastries are provided. A short devotion is led by the Pastor or one of the Tool Time team members. Afterward\, the team works together to complete one or more projects that can be accomplished within an hour or two. \nCome enjoy good company\, meaningful devotion\, and the opportunity to serve!
URL:https://www.lcsavior.org/event/toot-time/2030-06-12/
LOCATION:Lutheran Church of the Savior\, 426 Davis Rd.\, Bedford\, MA\, 01730\, United States
END:VEVENT
BEGIN:VEVENT
DTSTART;TZID=America/New_York:20300619T090000
DTEND;TZID=America/New_York:20300619T120000
DTSTAMP:20260425T233150
CREATED:20260227T190216Z
LAST-MODIFIED:20260227T232259Z
UID:10002685-1908090000-1908100800@www.lcsavior.org
SUMMARY:Tool Time
DESCRIPTION:Join us for Tool Time every Wednesday morning at 9:00 AM at the LCS Facility! Tool Time is open to anyone willing to lend a hand with small maintenance projects around the facility. \nWe begin the morning with fellowship—coffee and pastries are provided. A short devotion is led by the Pastor or one of the Tool Time team members. Afterward\, the team works together to complete one or more projects that can be accomplished within an hour or two. \nCome enjoy good company\, meaningful devotion\, and the opportunity to serve!
URL:https://www.lcsavior.org/event/toot-time/2030-06-19/
LOCATION:Lutheran Church of the Savior\, 426 Davis Rd.\, Bedford\, MA\, 01730\, United States
END:VEVENT
BEGIN:VEVENT
DTSTART;TZID=America/New_York:20300626T090000
DTEND;TZID=America/New_York:20300626T120000
DTSTAMP:20260425T233150
CREATED:20260227T190216Z
LAST-MODIFIED:20260227T232259Z
UID:10002686-1908694800-1908705600@www.lcsavior.org
SUMMARY:Tool Time
DESCRIPTION:Join us for Tool Time every Wednesday morning at 9:00 AM at the LCS Facility! Tool Time is open to anyone willing to lend a hand with small maintenance projects around the facility. \nWe begin the morning with fellowship—coffee and pastries are provided. A short devotion is led by the Pastor or one of the Tool Time team members. Afterward\, the team works together to complete one or more projects that can be accomplished within an hour or two. \nCome enjoy good company\, meaningful devotion\, and the opportunity to serve!
URL:https://www.lcsavior.org/event/toot-time/2030-06-26/
LOCATION:Lutheran Church of the Savior\, 426 Davis Rd.\, Bedford\, MA\, 01730\, United States
END:VEVENT
BEGIN:VEVENT
DTSTART;TZID=America/New_York:20300703T090000
DTEND;TZID=America/New_York:20300703T120000
DTSTAMP:20260425T233150
CREATED:20260227T190216Z
LAST-MODIFIED:20260227T232259Z
UID:10002687-1909299600-1909310400@www.lcsavior.org
SUMMARY:Tool Time
DESCRIPTION:Join us for Tool Time every Wednesday morning at 9:00 AM at the LCS Facility! Tool Time is open to anyone willing to lend a hand with small maintenance projects around the facility. \nWe begin the morning with fellowship—coffee and pastries are provided. A short devotion is led by the Pastor or one of the Tool Time team members. Afterward\, the team works together to complete one or more projects that can be accomplished within an hour or two. \nCome enjoy good company\, meaningful devotion\, and the opportunity to serve!
URL:https://www.lcsavior.org/event/toot-time/2030-07-03/
LOCATION:Lutheran Church of the Savior\, 426 Davis Rd.\, Bedford\, MA\, 01730\, United States
END:VEVENT
BEGIN:VEVENT
DTSTART;TZID=America/New_York:20300706T073000
DTEND;TZID=America/New_York:20300706T090000
DTSTAMP:20260425T233150
CREATED:20251129T191143Z
LAST-MODIFIED:20251129T191143Z
UID:10002179-1909553400-1909558800@www.lcsavior.org
SUMMARY:Men in Prayer
DESCRIPTION:On the first Saturday of the month\, we get together for a hearty breakfast\, some fellowship\, and time in prayer. This is a great opportunity to connect and to share in our life together – men of all ages are welcome!
URL:https://www.lcsavior.org/event/men-in-prayer/2030-07-06/
LOCATION:Lutheran Church of the Savior\, 426 Davis Rd.\, Bedford\, MA\, 01730\, United States
CATEGORIES:Fellowship
ATTACH;FMTTYPE=image/jpeg:https://www.lcsavior.org/wp-content/uploads/2025/11/bacon-and-eggs.jpg
END:VEVENT
BEGIN:VEVENT
DTSTART;TZID=America/New_York:20300710T090000
DTEND;TZID=America/New_York:20300710T120000
DTSTAMP:20260425T233150
CREATED:20260227T190216Z
LAST-MODIFIED:20260227T232259Z
UID:10002688-1909904400-1909915200@www.lcsavior.org
SUMMARY:Tool Time
DESCRIPTION:Join us for Tool Time every Wednesday morning at 9:00 AM at the LCS Facility! Tool Time is open to anyone willing to lend a hand with small maintenance projects around the facility. \nWe begin the morning with fellowship—coffee and pastries are provided. A short devotion is led by the Pastor or one of the Tool Time team members. Afterward\, the team works together to complete one or more projects that can be accomplished within an hour or two. \nCome enjoy good company\, meaningful devotion\, and the opportunity to serve!
URL:https://www.lcsavior.org/event/toot-time/2030-07-10/
LOCATION:Lutheran Church of the Savior\, 426 Davis Rd.\, Bedford\, MA\, 01730\, United States
END:VEVENT
BEGIN:VEVENT
DTSTART;TZID=America/New_York:20300717T090000
DTEND;TZID=America/New_York:20300717T120000
DTSTAMP:20260425T233150
CREATED:20260227T190216Z
LAST-MODIFIED:20260227T232259Z
UID:10002689-1910509200-1910520000@www.lcsavior.org
SUMMARY:Tool Time
DESCRIPTION:Join us for Tool Time every Wednesday morning at 9:00 AM at the LCS Facility! Tool Time is open to anyone willing to lend a hand with small maintenance projects around the facility. \nWe begin the morning with fellowship—coffee and pastries are provided. A short devotion is led by the Pastor or one of the Tool Time team members. Afterward\, the team works together to complete one or more projects that can be accomplished within an hour or two. \nCome enjoy good company\, meaningful devotion\, and the opportunity to serve!
URL:https://www.lcsavior.org/event/toot-time/2030-07-17/
LOCATION:Lutheran Church of the Savior\, 426 Davis Rd.\, Bedford\, MA\, 01730\, United States
END:VEVENT
BEGIN:VEVENT
DTSTART;TZID=America/New_York:20300724T090000
DTEND;TZID=America/New_York:20300724T120000
DTSTAMP:20260425T233150
CREATED:20260227T190216Z
LAST-MODIFIED:20260227T232259Z
UID:10002690-1911114000-1911124800@www.lcsavior.org
SUMMARY:Tool Time
DESCRIPTION:Join us for Tool Time every Wednesday morning at 9:00 AM at the LCS Facility! Tool Time is open to anyone willing to lend a hand with small maintenance projects around the facility. \nWe begin the morning with fellowship—coffee and pastries are provided. A short devotion is led by the Pastor or one of the Tool Time team members. Afterward\, the team works together to complete one or more projects that can be accomplished within an hour or two. \nCome enjoy good company\, meaningful devotion\, and the opportunity to serve!
URL:https://www.lcsavior.org/event/toot-time/2030-07-24/
LOCATION:Lutheran Church of the Savior\, 426 Davis Rd.\, Bedford\, MA\, 01730\, United States
END:VEVENT
BEGIN:VEVENT
DTSTART;TZID=America/New_York:20300731T090000
DTEND;TZID=America/New_York:20300731T120000
DTSTAMP:20260425T233150
CREATED:20260227T190216Z
LAST-MODIFIED:20260227T232259Z
UID:10002691-1911718800-1911729600@www.lcsavior.org
SUMMARY:Tool Time
DESCRIPTION:Join us for Tool Time every Wednesday morning at 9:00 AM at the LCS Facility! Tool Time is open to anyone willing to lend a hand with small maintenance projects around the facility. \nWe begin the morning with fellowship—coffee and pastries are provided. A short devotion is led by the Pastor or one of the Tool Time team members. Afterward\, the team works together to complete one or more projects that can be accomplished within an hour or two. \nCome enjoy good company\, meaningful devotion\, and the opportunity to serve!
URL:https://www.lcsavior.org/event/toot-time/2030-07-31/
LOCATION:Lutheran Church of the Savior\, 426 Davis Rd.\, Bedford\, MA\, 01730\, United States
END:VEVENT
BEGIN:VEVENT
DTSTART;TZID=America/New_York:20300803T073000
DTEND;TZID=America/New_York:20300803T090000
DTSTAMP:20260425T233150
CREATED:20251129T191143Z
LAST-MODIFIED:20251129T191143Z
UID:10002180-1911972600-1911978000@www.lcsavior.org
SUMMARY:Men in Prayer
DESCRIPTION:On the first Saturday of the month\, we get together for a hearty breakfast\, some fellowship\, and time in prayer. This is a great opportunity to connect and to share in our life together – men of all ages are welcome!
URL:https://www.lcsavior.org/event/men-in-prayer/2030-08-03/
LOCATION:Lutheran Church of the Savior\, 426 Davis Rd.\, Bedford\, MA\, 01730\, United States
CATEGORIES:Fellowship
ATTACH;FMTTYPE=image/jpeg:https://www.lcsavior.org/wp-content/uploads/2025/11/bacon-and-eggs.jpg
END:VEVENT
BEGIN:VEVENT
DTSTART;TZID=America/New_York:20300807T090000
DTEND;TZID=America/New_York:20300807T120000
DTSTAMP:20260425T233150
CREATED:20260227T190216Z
LAST-MODIFIED:20260227T232259Z
UID:10002692-1912323600-1912334400@www.lcsavior.org
SUMMARY:Tool Time
DESCRIPTION:Join us for Tool Time every Wednesday morning at 9:00 AM at the LCS Facility! Tool Time is open to anyone willing to lend a hand with small maintenance projects around the facility. \nWe begin the morning with fellowship—coffee and pastries are provided. A short devotion is led by the Pastor or one of the Tool Time team members. Afterward\, the team works together to complete one or more projects that can be accomplished within an hour or two. \nCome enjoy good company\, meaningful devotion\, and the opportunity to serve!
URL:https://www.lcsavior.org/event/toot-time/2030-08-07/
LOCATION:Lutheran Church of the Savior\, 426 Davis Rd.\, Bedford\, MA\, 01730\, United States
END:VEVENT
BEGIN:VEVENT
DTSTART;TZID=America/New_York:20300814T090000
DTEND;TZID=America/New_York:20300814T120000
DTSTAMP:20260425T233150
CREATED:20260227T190216Z
LAST-MODIFIED:20260227T232259Z
UID:10002693-1912928400-1912939200@www.lcsavior.org
SUMMARY:Tool Time
DESCRIPTION:Join us for Tool Time every Wednesday morning at 9:00 AM at the LCS Facility! Tool Time is open to anyone willing to lend a hand with small maintenance projects around the facility. \nWe begin the morning with fellowship—coffee and pastries are provided. A short devotion is led by the Pastor or one of the Tool Time team members. Afterward\, the team works together to complete one or more projects that can be accomplished within an hour or two. \nCome enjoy good company\, meaningful devotion\, and the opportunity to serve!
URL:https://www.lcsavior.org/event/toot-time/2030-08-14/
LOCATION:Lutheran Church of the Savior\, 426 Davis Rd.\, Bedford\, MA\, 01730\, United States
END:VEVENT
BEGIN:VEVENT
DTSTART;TZID=America/New_York:20300821T090000
DTEND;TZID=America/New_York:20300821T120000
DTSTAMP:20260425T233150
CREATED:20260227T190216Z
LAST-MODIFIED:20260227T232259Z
UID:10002694-1913533200-1913544000@www.lcsavior.org
SUMMARY:Tool Time
DESCRIPTION:Join us for Tool Time every Wednesday morning at 9:00 AM at the LCS Facility! Tool Time is open to anyone willing to lend a hand with small maintenance projects around the facility. \nWe begin the morning with fellowship—coffee and pastries are provided. A short devotion is led by the Pastor or one of the Tool Time team members. Afterward\, the team works together to complete one or more projects that can be accomplished within an hour or two. \nCome enjoy good company\, meaningful devotion\, and the opportunity to serve!
URL:https://www.lcsavior.org/event/toot-time/2030-08-21/
LOCATION:Lutheran Church of the Savior\, 426 Davis Rd.\, Bedford\, MA\, 01730\, United States
END:VEVENT
BEGIN:VEVENT
DTSTART;TZID=America/New_York:20300828T090000
DTEND;TZID=America/New_York:20300828T120000
DTSTAMP:20260425T233150
CREATED:20260227T190216Z
LAST-MODIFIED:20260227T232259Z
UID:10002695-1914138000-1914148800@www.lcsavior.org
SUMMARY:Tool Time
DESCRIPTION:Join us for Tool Time every Wednesday morning at 9:00 AM at the LCS Facility! Tool Time is open to anyone willing to lend a hand with small maintenance projects around the facility. \nWe begin the morning with fellowship—coffee and pastries are provided. A short devotion is led by the Pastor or one of the Tool Time team members. Afterward\, the team works together to complete one or more projects that can be accomplished within an hour or two. \nCome enjoy good company\, meaningful devotion\, and the opportunity to serve!
URL:https://www.lcsavior.org/event/toot-time/2030-08-28/
LOCATION:Lutheran Church of the Savior\, 426 Davis Rd.\, Bedford\, MA\, 01730\, United States
END:VEVENT
BEGIN:VEVENT
DTSTART;TZID=America/New_York:20300904T090000
DTEND;TZID=America/New_York:20300904T120000
DTSTAMP:20260425T233150
CREATED:20260227T190216Z
LAST-MODIFIED:20260227T232259Z
UID:10002696-1914742800-1914753600@www.lcsavior.org
SUMMARY:Tool Time
DESCRIPTION:Join us for Tool Time every Wednesday morning at 9:00 AM at the LCS Facility! Tool Time is open to anyone willing to lend a hand with small maintenance projects around the facility. \nWe begin the morning with fellowship—coffee and pastries are provided. A short devotion is led by the Pastor or one of the Tool Time team members. Afterward\, the team works together to complete one or more projects that can be accomplished within an hour or two. \nCome enjoy good company\, meaningful devotion\, and the opportunity to serve!
URL:https://www.lcsavior.org/event/toot-time/2030-09-04/
LOCATION:Lutheran Church of the Savior\, 426 Davis Rd.\, Bedford\, MA\, 01730\, United States
END:VEVENT
BEGIN:VEVENT
DTSTART;TZID=America/New_York:20300907T073000
DTEND;TZID=America/New_York:20300907T090000
DTSTAMP:20260425T233150
CREATED:20251129T191143Z
LAST-MODIFIED:20251129T191143Z
UID:10002181-1914996600-1915002000@www.lcsavior.org
SUMMARY:Men in Prayer
DESCRIPTION:On the first Saturday of the month\, we get together for a hearty breakfast\, some fellowship\, and time in prayer. This is a great opportunity to connect and to share in our life together – men of all ages are welcome!
URL:https://www.lcsavior.org/event/men-in-prayer/2030-09-07/
LOCATION:Lutheran Church of the Savior\, 426 Davis Rd.\, Bedford\, MA\, 01730\, United States
CATEGORIES:Fellowship
ATTACH;FMTTYPE=image/jpeg:https://www.lcsavior.org/wp-content/uploads/2025/11/bacon-and-eggs.jpg
END:VEVENT
BEGIN:VEVENT
DTSTART;TZID=America/New_York:20300911T090000
DTEND;TZID=America/New_York:20300911T120000
DTSTAMP:20260425T233150
CREATED:20260227T190216Z
LAST-MODIFIED:20260227T232259Z
UID:10002697-1915347600-1915358400@www.lcsavior.org
SUMMARY:Tool Time
DESCRIPTION:Join us for Tool Time every Wednesday morning at 9:00 AM at the LCS Facility! Tool Time is open to anyone willing to lend a hand with small maintenance projects around the facility. \nWe begin the morning with fellowship—coffee and pastries are provided. A short devotion is led by the Pastor or one of the Tool Time team members. Afterward\, the team works together to complete one or more projects that can be accomplished within an hour or two. \nCome enjoy good company\, meaningful devotion\, and the opportunity to serve!
URL:https://www.lcsavior.org/event/toot-time/2030-09-11/
LOCATION:Lutheran Church of the Savior\, 426 Davis Rd.\, Bedford\, MA\, 01730\, United States
END:VEVENT
BEGIN:VEVENT
DTSTART;TZID=America/New_York:20300918T090000
DTEND;TZID=America/New_York:20300918T120000
DTSTAMP:20260425T233150
CREATED:20260227T190216Z
LAST-MODIFIED:20260227T232259Z
UID:10002698-1915952400-1915963200@www.lcsavior.org
SUMMARY:Tool Time
DESCRIPTION:Join us for Tool Time every Wednesday morning at 9:00 AM at the LCS Facility! Tool Time is open to anyone willing to lend a hand with small maintenance projects around the facility. \nWe begin the morning with fellowship—coffee and pastries are provided. A short devotion is led by the Pastor or one of the Tool Time team members. Afterward\, the team works together to complete one or more projects that can be accomplished within an hour or two. \nCome enjoy good company\, meaningful devotion\, and the opportunity to serve!
URL:https://www.lcsavior.org/event/toot-time/2030-09-18/
LOCATION:Lutheran Church of the Savior\, 426 Davis Rd.\, Bedford\, MA\, 01730\, United States
END:VEVENT
BEGIN:VEVENT
DTSTART;TZID=America/New_York:20300925T090000
DTEND;TZID=America/New_York:20300925T120000
DTSTAMP:20260425T233150
CREATED:20260227T190216Z
LAST-MODIFIED:20260227T232259Z
UID:10002699-1916557200-1916568000@www.lcsavior.org
SUMMARY:Tool Time
DESCRIPTION:Join us for Tool Time every Wednesday morning at 9:00 AM at the LCS Facility! Tool Time is open to anyone willing to lend a hand with small maintenance projects around the facility. \nWe begin the morning with fellowship—coffee and pastries are provided. A short devotion is led by the Pastor or one of the Tool Time team members. Afterward\, the team works together to complete one or more projects that can be accomplished within an hour or two. \nCome enjoy good company\, meaningful devotion\, and the opportunity to serve!
URL:https://www.lcsavior.org/event/toot-time/2030-09-25/
LOCATION:Lutheran Church of the Savior\, 426 Davis Rd.\, Bedford\, MA\, 01730\, United States
END:VEVENT
BEGIN:VEVENT
DTSTART;TZID=America/New_York:20301002T090000
DTEND;TZID=America/New_York:20301002T120000
DTSTAMP:20260425T233150
CREATED:20260227T190216Z
LAST-MODIFIED:20260227T232259Z
UID:10002700-1917162000-1917172800@www.lcsavior.org
SUMMARY:Tool Time
DESCRIPTION:Join us for Tool Time every Wednesday morning at 9:00 AM at the LCS Facility! Tool Time is open to anyone willing to lend a hand with small maintenance projects around the facility. \nWe begin the morning with fellowship—coffee and pastries are provided. A short devotion is led by the Pastor or one of the Tool Time team members. Afterward\, the team works together to complete one or more projects that can be accomplished within an hour or two. \nCome enjoy good company\, meaningful devotion\, and the opportunity to serve!
URL:https://www.lcsavior.org/event/toot-time/2030-10-02/
LOCATION:Lutheran Church of the Savior\, 426 Davis Rd.\, Bedford\, MA\, 01730\, United States
END:VEVENT
BEGIN:VEVENT
DTSTART;TZID=America/New_York:20301005T073000
DTEND;TZID=America/New_York:20301005T090000
DTSTAMP:20260425T233150
CREATED:20251129T191143Z
LAST-MODIFIED:20251129T191143Z
UID:10002182-1917415800-1917421200@www.lcsavior.org
SUMMARY:Men in Prayer
DESCRIPTION:On the first Saturday of the month\, we get together for a hearty breakfast\, some fellowship\, and time in prayer. This is a great opportunity to connect and to share in our life together – men of all ages are welcome!
URL:https://www.lcsavior.org/event/men-in-prayer/2030-10-05/
LOCATION:Lutheran Church of the Savior\, 426 Davis Rd.\, Bedford\, MA\, 01730\, United States
CATEGORIES:Fellowship
ATTACH;FMTTYPE=image/jpeg:https://www.lcsavior.org/wp-content/uploads/2025/11/bacon-and-eggs.jpg
END:VEVENT
BEGIN:VEVENT
DTSTART;TZID=America/New_York:20301009T090000
DTEND;TZID=America/New_York:20301009T120000
DTSTAMP:20260425T233150
CREATED:20260227T190216Z
LAST-MODIFIED:20260227T232259Z
UID:10002701-1917766800-1917777600@www.lcsavior.org
SUMMARY:Tool Time
DESCRIPTION:Join us for Tool Time every Wednesday morning at 9:00 AM at the LCS Facility! Tool Time is open to anyone willing to lend a hand with small maintenance projects around the facility. \nWe begin the morning with fellowship—coffee and pastries are provided. A short devotion is led by the Pastor or one of the Tool Time team members. Afterward\, the team works together to complete one or more projects that can be accomplished within an hour or two. \nCome enjoy good company\, meaningful devotion\, and the opportunity to serve!
URL:https://www.lcsavior.org/event/toot-time/2030-10-09/
LOCATION:Lutheran Church of the Savior\, 426 Davis Rd.\, Bedford\, MA\, 01730\, United States
END:VEVENT
BEGIN:VEVENT
DTSTART;TZID=America/New_York:20301016T090000
DTEND;TZID=America/New_York:20301016T120000
DTSTAMP:20260425T233150
CREATED:20260227T190216Z
LAST-MODIFIED:20260227T232259Z
UID:10002702-1918371600-1918382400@www.lcsavior.org
SUMMARY:Tool Time
DESCRIPTION:Join us for Tool Time every Wednesday morning at 9:00 AM at the LCS Facility! Tool Time is open to anyone willing to lend a hand with small maintenance projects around the facility. \nWe begin the morning with fellowship—coffee and pastries are provided. A short devotion is led by the Pastor or one of the Tool Time team members. Afterward\, the team works together to complete one or more projects that can be accomplished within an hour or two. \nCome enjoy good company\, meaningful devotion\, and the opportunity to serve!
URL:https://www.lcsavior.org/event/toot-time/2030-10-16/
LOCATION:Lutheran Church of the Savior\, 426 Davis Rd.\, Bedford\, MA\, 01730\, United States
END:VEVENT
BEGIN:VEVENT
DTSTART;TZID=America/New_York:20301023T090000
DTEND;TZID=America/New_York:20301023T120000
DTSTAMP:20260425T233150
CREATED:20260227T190216Z
LAST-MODIFIED:20260227T232259Z
UID:10002703-1918976400-1918987200@www.lcsavior.org
SUMMARY:Tool Time
DESCRIPTION:Join us for Tool Time every Wednesday morning at 9:00 AM at the LCS Facility! Tool Time is open to anyone willing to lend a hand with small maintenance projects around the facility. \nWe begin the morning with fellowship—coffee and pastries are provided. A short devotion is led by the Pastor or one of the Tool Time team members. Afterward\, the team works together to complete one or more projects that can be accomplished within an hour or two. \nCome enjoy good company\, meaningful devotion\, and the opportunity to serve!
URL:https://www.lcsavior.org/event/toot-time/2030-10-23/
LOCATION:Lutheran Church of the Savior\, 426 Davis Rd.\, Bedford\, MA\, 01730\, United States
END:VEVENT
BEGIN:VEVENT
DTSTART;TZID=America/New_York:20301030T090000
DTEND;TZID=America/New_York:20301030T120000
DTSTAMP:20260425T233150
CREATED:20260227T190216Z
LAST-MODIFIED:20260227T232259Z
UID:10002704-1919581200-1919592000@www.lcsavior.org
SUMMARY:Tool Time
DESCRIPTION:Join us for Tool Time every Wednesday morning at 9:00 AM at the LCS Facility! Tool Time is open to anyone willing to lend a hand with small maintenance projects around the facility. \nWe begin the morning with fellowship—coffee and pastries are provided. A short devotion is led by the Pastor or one of the Tool Time team members. Afterward\, the team works together to complete one or more projects that can be accomplished within an hour or two. \nCome enjoy good company\, meaningful devotion\, and the opportunity to serve!
URL:https://www.lcsavior.org/event/toot-time/2030-10-30/
LOCATION:Lutheran Church of the Savior\, 426 Davis Rd.\, Bedford\, MA\, 01730\, United States
END:VEVENT
BEGIN:VEVENT
DTSTART;TZID=America/New_York:20301102T073000
DTEND;TZID=America/New_York:20301102T090000
DTSTAMP:20260425T233150
CREATED:20251129T191143Z
LAST-MODIFIED:20251129T191143Z
UID:10002183-1919835000-1919840400@www.lcsavior.org
SUMMARY:Men in Prayer
DESCRIPTION:On the first Saturday of the month\, we get together for a hearty breakfast\, some fellowship\, and time in prayer. This is a great opportunity to connect and to share in our life together – men of all ages are welcome!
URL:https://www.lcsavior.org/event/men-in-prayer/2030-11-02/
LOCATION:Lutheran Church of the Savior\, 426 Davis Rd.\, Bedford\, MA\, 01730\, United States
CATEGORIES:Fellowship
ATTACH;FMTTYPE=image/jpeg:https://www.lcsavior.org/wp-content/uploads/2025/11/bacon-and-eggs.jpg
END:VEVENT
BEGIN:VEVENT
DTSTART;TZID=America/New_York:20301106T090000
DTEND;TZID=America/New_York:20301106T120000
DTSTAMP:20260425T233150
CREATED:20260227T190216Z
LAST-MODIFIED:20260227T232259Z
UID:10002705-1920186000-1920196800@www.lcsavior.org
SUMMARY:Tool Time
DESCRIPTION:Join us for Tool Time every Wednesday morning at 9:00 AM at the LCS Facility! Tool Time is open to anyone willing to lend a hand with small maintenance projects around the facility. \nWe begin the morning with fellowship—coffee and pastries are provided. A short devotion is led by the Pastor or one of the Tool Time team members. Afterward\, the team works together to complete one or more projects that can be accomplished within an hour or two. \nCome enjoy good company\, meaningful devotion\, and the opportunity to serve!
URL:https://www.lcsavior.org/event/toot-time/2030-11-06/
LOCATION:Lutheran Church of the Savior\, 426 Davis Rd.\, Bedford\, MA\, 01730\, United States
END:VEVENT
BEGIN:VEVENT
DTSTART;TZID=America/New_York:20301113T090000
DTEND;TZID=America/New_York:20301113T120000
DTSTAMP:20260425T233150
CREATED:20260227T190216Z
LAST-MODIFIED:20260227T232259Z
UID:10002706-1920790800-1920801600@www.lcsavior.org
SUMMARY:Tool Time
DESCRIPTION:Join us for Tool Time every Wednesday morning at 9:00 AM at the LCS Facility! Tool Time is open to anyone willing to lend a hand with small maintenance projects around the facility. \nWe begin the morning with fellowship—coffee and pastries are provided. A short devotion is led by the Pastor or one of the Tool Time team members. Afterward\, the team works together to complete one or more projects that can be accomplished within an hour or two. \nCome enjoy good company\, meaningful devotion\, and the opportunity to serve!
URL:https://www.lcsavior.org/event/toot-time/2030-11-13/
LOCATION:Lutheran Church of the Savior\, 426 Davis Rd.\, Bedford\, MA\, 01730\, United States
END:VEVENT
END:VCALENDAR