BEGIN:VCALENDAR
VERSION:2.0
PRODID:-//Lutheran Church of the Savior - ECPv6.15.20//NONSGML v1.0//EN
CALSCALE:GREGORIAN
METHOD:PUBLISH
X-WR-CALNAME:Lutheran Church of the Savior
X-ORIGINAL-URL:https://www.lcsavior.org
X-WR-CALDESC:Events for Lutheran Church of the Savior
REFRESH-INTERVAL;VALUE=DURATION:PT1H
X-Robots-Tag:noindex
X-PUBLISHED-TTL:PT1H
BEGIN:VTIMEZONE
TZID:America/New_York
BEGIN:DAYLIGHT
TZOFFSETFROM:-0500
TZOFFSETTO:-0400
TZNAME:EDT
DTSTART:20210314T070000
END:DAYLIGHT
BEGIN:STANDARD
TZOFFSETFROM:-0400
TZOFFSETTO:-0500
TZNAME:EST
DTSTART:20211107T060000
END:STANDARD
BEGIN:DAYLIGHT
TZOFFSETFROM:-0500
TZOFFSETTO:-0400
TZNAME:EDT
DTSTART:20220313T070000
END:DAYLIGHT
BEGIN:STANDARD
TZOFFSETFROM:-0400
TZOFFSETTO:-0500
TZNAME:EST
DTSTART:20221106T060000
END:STANDARD
BEGIN:DAYLIGHT
TZOFFSETFROM:-0500
TZOFFSETTO:-0400
TZNAME:EDT
DTSTART:20230312T070000
END:DAYLIGHT
BEGIN:STANDARD
TZOFFSETFROM:-0400
TZOFFSETTO:-0500
TZNAME:EST
DTSTART:20231105T060000
END:STANDARD
END:VTIMEZONE
BEGIN:VEVENT
DTSTART;TZID=America/New_York:20220206T080000
DTEND;TZID=America/New_York:20220206T090000
DTSTAMP:20260425T104909
CREATED:20220101T233824Z
LAST-MODIFIED:20220205T171842Z
UID:2373-1644134400-1644138000@www.lcsavior.org
SUMMARY:Sunday Morning Worship - 8:00 AM
DESCRIPTION:Join us each week for worship! We meet for in-person worship at 8:00 AM each Sunday to hear from God’s word\, join in prayer and praise\, and celebrate Holy Communion. Come and join in as we continue our look at the Body of Christ as Paul describes it in 1 Corinthians. This week\, we have the privilege of being led in worship by Chaplain Vince Bain\, US Army.
URL:https://www.lcsavior.org/event/worship-early-service-2022-2022-02-06/
LOCATION:Lutheran Church of the Savior\, 426 Davis Rd.\, Bedford\, MA\, 01730\, United States
CATEGORIES:Worship
ATTACH;FMTTYPE=image/png:https://www.lcsavior.org/wp-content/uploads/2022/01/Slide2-Featured-Image-WP.png
ORGANIZER;CN="Pastor Manor":MAILTO:pastor@lcsavior.org
END:VEVENT
END:VCALENDAR