BEGIN:VCALENDAR
VERSION:2.0
PRODID:-//Lutheran Church of the Savior - ECPv6.15.20//NONSGML v1.0//EN
CALSCALE:GREGORIAN
METHOD:PUBLISH
X-WR-CALNAME:Lutheran Church of the Savior
X-ORIGINAL-URL:https://www.lcsavior.org
X-WR-CALDESC:Events for Lutheran Church of the Savior
REFRESH-INTERVAL;VALUE=DURATION:PT1H
X-Robots-Tag:noindex
X-PUBLISHED-TTL:PT1H
BEGIN:VTIMEZONE
TZID:America/New_York
BEGIN:DAYLIGHT
TZOFFSETFROM:-0500
TZOFFSETTO:-0400
TZNAME:EDT
DTSTART:20210314T070000
END:DAYLIGHT
BEGIN:STANDARD
TZOFFSETFROM:-0400
TZOFFSETTO:-0500
TZNAME:EST
DTSTART:20211107T060000
END:STANDARD
BEGIN:DAYLIGHT
TZOFFSETFROM:-0500
TZOFFSETTO:-0400
TZNAME:EDT
DTSTART:20220313T070000
END:DAYLIGHT
BEGIN:STANDARD
TZOFFSETFROM:-0400
TZOFFSETTO:-0500
TZNAME:EST
DTSTART:20221106T060000
END:STANDARD
BEGIN:DAYLIGHT
TZOFFSETFROM:-0500
TZOFFSETTO:-0400
TZNAME:EDT
DTSTART:20230312T070000
END:DAYLIGHT
BEGIN:STANDARD
TZOFFSETFROM:-0400
TZOFFSETTO:-0500
TZNAME:EST
DTSTART:20231105T060000
END:STANDARD
END:VTIMEZONE
BEGIN:VEVENT
DTSTART;TZID=America/New_York:20220605T080000
DTEND;TZID=America/New_York:20220605T090000
DTSTAMP:20260425T091532
CREATED:20220423T213339Z
LAST-MODIFIED:20220605T023038Z
UID:2681-1654416000-1654419600@www.lcsavior.org
SUMMARY:Sunday Morning Worship - Early Service
DESCRIPTION:Join us each week for worship! We meet for in-person worship at 8:00 AM each Sunday to hear from God’s word\, join in prayer and praise\, and celebrate Holy Communion. This week\, we look at Pentecost\, when God poured out His Holy Spirit on the Apostles to equip them for their task: telling people the good news!
URL:https://www.lcsavior.org/event/worship-early-2022-06-05/
LOCATION:Lutheran Church of the Savior\, 426 Davis Rd.\, Bedford\, MA\, 01730\, United States
CATEGORIES:Worship
ATTACH;FMTTYPE=image/png:https://www.lcsavior.org/wp-content/uploads/2022/04/Slide1-Featured-Image-WP-10.png
END:VEVENT
END:VCALENDAR