BEGIN:VCALENDAR
VERSION:2.0
PRODID:-//Lutheran Church of the Savior - ECPv6.15.20//NONSGML v1.0//EN
CALSCALE:GREGORIAN
METHOD:PUBLISH
X-WR-CALNAME:Lutheran Church of the Savior
X-ORIGINAL-URL:https://www.lcsavior.org
X-WR-CALDESC:Events for Lutheran Church of the Savior
REFRESH-INTERVAL;VALUE=DURATION:PT1H
X-Robots-Tag:noindex
X-PUBLISHED-TTL:PT1H
BEGIN:VTIMEZONE
TZID:America/New_York
BEGIN:DAYLIGHT
TZOFFSETFROM:-0500
TZOFFSETTO:-0400
TZNAME:EDT
DTSTART:20190310T070000
END:DAYLIGHT
BEGIN:STANDARD
TZOFFSETFROM:-0400
TZOFFSETTO:-0500
TZNAME:EST
DTSTART:20191103T060000
END:STANDARD
BEGIN:DAYLIGHT
TZOFFSETFROM:-0500
TZOFFSETTO:-0400
TZNAME:EDT
DTSTART:20200308T070000
END:DAYLIGHT
BEGIN:STANDARD
TZOFFSETFROM:-0400
TZOFFSETTO:-0500
TZNAME:EST
DTSTART:20201101T060000
END:STANDARD
BEGIN:DAYLIGHT
TZOFFSETFROM:-0500
TZOFFSETTO:-0400
TZNAME:EDT
DTSTART:20210314T070000
END:DAYLIGHT
BEGIN:STANDARD
TZOFFSETFROM:-0400
TZOFFSETTO:-0500
TZNAME:EST
DTSTART:20211107T060000
END:STANDARD
END:VTIMEZONE
BEGIN:VEVENT
DTSTART;TZID=America/New_York:20201125T190000
DTEND;TZID=America/New_York:20201125T200000
DTSTAMP:20260425T135030
CREATED:20201113T214140Z
LAST-MODIFIED:20201125T234549Z
UID:1070-1606330800-1606334400@www.lcsavior.org
SUMMARY:Thanksgiving Eve Service
DESCRIPTION:Please join us for Thanksgiving Eve Service at 7:00 PM on Nov. 25th. As the church year draws to a close\, we take an evening to reflect on how God has blessed us. We have much to be thankful for\, even in the midst of a global pandemic\, political turmoil\, and uncertainty about the future — join us in an evening of reflection and thankfulness. \nThe live stream is available at: https://www.facebook.com/lcsavior/posts/711092642863630 \nThe worship bulletin is available at: 2020-11-25 Thanksgiving Eve – Livestream.
URL:https://www.lcsavior.org/event/thanksgiving-eve-service/
LOCATION:Lutheran Church of the Savior\, 426 Davis Rd.\, Bedford\, MA\, 01730\, United States
CATEGORIES:streaming,Worship
ATTACH;FMTTYPE=image/png:https://www.lcsavior.org/wp-content/uploads/2020/11/shutterstock_162333452-Custom.png
END:VEVENT
END:VCALENDAR