BEGIN:VCALENDAR
VERSION:2.0
PRODID:-//Lutheran Church of the Savior - ECPv6.15.20//NONSGML v1.0//EN
CALSCALE:GREGORIAN
METHOD:PUBLISH
X-WR-CALNAME:Lutheran Church of the Savior
X-ORIGINAL-URL:https://www.lcsavior.org
X-WR-CALDESC:Events for Lutheran Church of the Savior
REFRESH-INTERVAL;VALUE=DURATION:PT1H
X-Robots-Tag:noindex
X-PUBLISHED-TTL:PT1H
BEGIN:VTIMEZONE
TZID:America/New_York
BEGIN:DAYLIGHT
TZOFFSETFROM:-0500
TZOFFSETTO:-0400
TZNAME:EDT
DTSTART:20210314T070000
END:DAYLIGHT
BEGIN:STANDARD
TZOFFSETFROM:-0400
TZOFFSETTO:-0500
TZNAME:EST
DTSTART:20211107T060000
END:STANDARD
BEGIN:DAYLIGHT
TZOFFSETFROM:-0500
TZOFFSETTO:-0400
TZNAME:EDT
DTSTART:20220313T070000
END:DAYLIGHT
BEGIN:STANDARD
TZOFFSETFROM:-0400
TZOFFSETTO:-0500
TZNAME:EST
DTSTART:20221106T060000
END:STANDARD
BEGIN:DAYLIGHT
TZOFFSETFROM:-0500
TZOFFSETTO:-0400
TZNAME:EDT
DTSTART:20230312T070000
END:DAYLIGHT
BEGIN:STANDARD
TZOFFSETFROM:-0400
TZOFFSETTO:-0500
TZNAME:EST
DTSTART:20231105T060000
END:STANDARD
END:VTIMEZONE
BEGIN:VEVENT
DTSTART;TZID=America/New_York:20220925T104500
DTEND;TZID=America/New_York:20220925T120000
DTSTAMP:20260425T233506
CREATED:20220902T023303Z
LAST-MODIFIED:20220924T142526Z
UID:2888-1664102700-1664107200@www.lcsavior.org
SUMMARY:Sunday Morning Worship - Late Service
DESCRIPTION:Join us in-person or online each Sunday at 10:45 AM ET as we come together to hear from God’s word\, join in prayer and praise\, and celebrate Holy Communion. Services are livestreamed on Facebook Live and posted on our YouTube channel after the service. This week\, we begin our “Transformed” Sermon Series based on Romans 12:2\, “Do not be conformed to this world\, but be transformed by the renewal of your mind\, that by testing you may discern what is the will of God\, what is good and acceptable and perfect”. This week we explore the topic ”Transformed to Seek” and focus on Matthew 6:33 “But seek first the kingdom of God and his righteousness\, and all these things will be added to you.” \nClick here to join the livestream \nClick here for the worship bulletin to follow along
URL:https://www.lcsavior.org/event/sunday-worship-late-2022-09-25/
LOCATION:Lutheran Church of the Savior\, 426 Davis Rd.\, Bedford\, MA\, 01730\, United States
CATEGORIES:streaming,Worship
ATTACH;FMTTYPE=image/png:https://www.lcsavior.org/wp-content/uploads/2022/09/Slide1-Featured-Image-WP-2.png
END:VEVENT
END:VCALENDAR