BEGIN:VCALENDAR
VERSION:2.0
PRODID:-//Lutheran Church of the Savior - ECPv6.15.20//NONSGML v1.0//EN
CALSCALE:GREGORIAN
METHOD:PUBLISH
X-WR-CALNAME:Lutheran Church of the Savior
X-ORIGINAL-URL:https://www.lcsavior.org
X-WR-CALDESC:Events for Lutheran Church of the Savior
REFRESH-INTERVAL;VALUE=DURATION:PT1H
X-Robots-Tag:noindex
X-PUBLISHED-TTL:PT1H
BEGIN:VTIMEZONE
TZID:America/New_York
BEGIN:DAYLIGHT
TZOFFSETFROM:-0500
TZOFFSETTO:-0400
TZNAME:EDT
DTSTART:20190310T070000
END:DAYLIGHT
BEGIN:STANDARD
TZOFFSETFROM:-0400
TZOFFSETTO:-0500
TZNAME:EST
DTSTART:20191103T060000
END:STANDARD
BEGIN:DAYLIGHT
TZOFFSETFROM:-0500
TZOFFSETTO:-0400
TZNAME:EDT
DTSTART:20200308T070000
END:DAYLIGHT
BEGIN:STANDARD
TZOFFSETFROM:-0400
TZOFFSETTO:-0500
TZNAME:EST
DTSTART:20201101T060000
END:STANDARD
BEGIN:DAYLIGHT
TZOFFSETFROM:-0500
TZOFFSETTO:-0400
TZNAME:EDT
DTSTART:20210314T070000
END:DAYLIGHT
BEGIN:STANDARD
TZOFFSETFROM:-0400
TZOFFSETTO:-0500
TZNAME:EST
DTSTART:20211107T060000
END:STANDARD
END:VTIMEZONE
BEGIN:VEVENT
DTSTART;TZID=America/New_York:20201025T094500
DTEND;TZID=America/New_York:20201025T110000
DTSTAMP:20260425T135154
CREATED:20201024T001953Z
LAST-MODIFIED:20201024T002929Z
UID:674-1603619100-1603623600@www.lcsavior.org
SUMMARY:Sunday Morning Worship - Late Service
DESCRIPTION:We will be having the Celebration of the Reformation this Sunday\, October 25th at 9:45 am. Our focus will be on Psalm 46 and our God who is “Our Refuge and Strength”. Join us in person\, or online! \n\nStreaming video\nWorship Bulletin
URL:https://www.lcsavior.org/event/sunday-morning-worship-late-service/
CATEGORIES:streaming,Worship
ATTACH;FMTTYPE=image/png:https://www.lcsavior.org/wp-content/uploads/2020/10/luther_rose_1920x1080_transparent-Small.png
END:VEVENT
END:VCALENDAR