BEGIN:VCALENDAR
VERSION:2.0
PRODID:-//Lutheran Church of the Savior - ECPv6.15.20//NONSGML v1.0//EN
CALSCALE:GREGORIAN
METHOD:PUBLISH
X-WR-CALNAME:Lutheran Church of the Savior
X-ORIGINAL-URL:https://www.lcsavior.org
X-WR-CALDESC:Events for Lutheran Church of the Savior
REFRESH-INTERVAL;VALUE=DURATION:PT1H
X-Robots-Tag:noindex
X-PUBLISHED-TTL:PT1H
BEGIN:VTIMEZONE
TZID:America/New_York
BEGIN:DAYLIGHT
TZOFFSETFROM:-0500
TZOFFSETTO:-0400
TZNAME:EDT
DTSTART:20190310T070000
END:DAYLIGHT
BEGIN:STANDARD
TZOFFSETFROM:-0400
TZOFFSETTO:-0500
TZNAME:EST
DTSTART:20191103T060000
END:STANDARD
BEGIN:DAYLIGHT
TZOFFSETFROM:-0500
TZOFFSETTO:-0400
TZNAME:EDT
DTSTART:20200308T070000
END:DAYLIGHT
BEGIN:STANDARD
TZOFFSETFROM:-0400
TZOFFSETTO:-0500
TZNAME:EST
DTSTART:20201101T060000
END:STANDARD
BEGIN:DAYLIGHT
TZOFFSETFROM:-0500
TZOFFSETTO:-0400
TZNAME:EDT
DTSTART:20210314T070000
END:DAYLIGHT
BEGIN:STANDARD
TZOFFSETFROM:-0400
TZOFFSETTO:-0500
TZNAME:EST
DTSTART:20211107T060000
END:STANDARD
END:VTIMEZONE
BEGIN:VEVENT
DTSTART;TZID=America/New_York:20201213T094500
DTEND;TZID=America/New_York:20201213T110000
DTSTAMP:20260425T122205
CREATED:20201024T001953Z
LAST-MODIFIED:20201213T134138Z
UID:707-1607852700-1607857200@www.lcsavior.org
SUMMARY:Sunday Morning Worship - Late Service
DESCRIPTION:As we gather for worship this week\, we’ll ask the question\, “Who are you talking about?”. We’ll hear the voice of John Baptist as he responds to the people questioning him about his identity and his work\, “I baptize with water\, but among you stands one you do not know\, even he who comes after me\, the strap of whose sandal I am not worthy to untie.” John 1:26-27 \nYou can stream the service via Facebook Live. \nThe worship bulletin is available here: 2020-12-13 Third Sunday in Advent – Livestream
URL:https://www.lcsavior.org/event/sunday-morning-worship-late-service-2020-11-08-2020-12-13/
LOCATION:Lutheran Church of the Savior\, 426 Davis Rd.\, Bedford\, MA\, 01730\, United States
CATEGORIES:streaming,Worship
ATTACH;FMTTYPE=image/png:https://www.lcsavior.org/wp-content/uploads/2020/10/Slide1-Small.png
END:VEVENT
END:VCALENDAR