BEGIN:VCALENDAR
VERSION:2.0
PRODID:-//Lutheran Church of the Savior - ECPv6.15.20//NONSGML v1.0//EN
CALSCALE:GREGORIAN
METHOD:PUBLISH
X-WR-CALNAME:Lutheran Church of the Savior
X-ORIGINAL-URL:https://www.lcsavior.org
X-WR-CALDESC:Events for Lutheran Church of the Savior
REFRESH-INTERVAL;VALUE=DURATION:PT1H
X-Robots-Tag:noindex
X-PUBLISHED-TTL:PT1H
BEGIN:VTIMEZONE
TZID:America/New_York
BEGIN:DAYLIGHT
TZOFFSETFROM:-0500
TZOFFSETTO:-0400
TZNAME:EDT
DTSTART:20190310T070000
END:DAYLIGHT
BEGIN:STANDARD
TZOFFSETFROM:-0400
TZOFFSETTO:-0500
TZNAME:EST
DTSTART:20191103T060000
END:STANDARD
BEGIN:DAYLIGHT
TZOFFSETFROM:-0500
TZOFFSETTO:-0400
TZNAME:EDT
DTSTART:20200308T070000
END:DAYLIGHT
BEGIN:STANDARD
TZOFFSETFROM:-0400
TZOFFSETTO:-0500
TZNAME:EST
DTSTART:20201101T060000
END:STANDARD
BEGIN:DAYLIGHT
TZOFFSETFROM:-0500
TZOFFSETTO:-0400
TZNAME:EDT
DTSTART:20210314T070000
END:DAYLIGHT
BEGIN:STANDARD
TZOFFSETFROM:-0400
TZOFFSETTO:-0500
TZNAME:EST
DTSTART:20211107T060000
END:STANDARD
END:VTIMEZONE
BEGIN:VEVENT
DTSTART;TZID=America/New_York:20201206T094500
DTEND;TZID=America/New_York:20201206T110000
DTSTAMP:20260425T122205
CREATED:20201024T001953Z
LAST-MODIFIED:20201206T034355Z
UID:706-1607247900-1607252400@www.lcsavior.org
SUMMARY:Sunday Morning Worship - Late Service
DESCRIPTION:Our Advent journey continues this Sunday\, December 6th. As we gather for worship\, we do so in anticipation of celebrating our Savior’s birth again soon\, and looking forward to that great day of His glorious return. We’ll hear “The Voice of Comfort” through the prophet Isaiah\, recorded in the 40th chapter.\n\n\nThis worship service will be live-streamed here: https://www.facebook.com/lcsavior/posts/718202318819329\nThe worship bulletin is available here: 2020-12-06 Second Sunday in Advent – Livestream
URL:https://www.lcsavior.org/event/sunday-morning-worship-late-service-2020-11-08-2020-12-06/
LOCATION:Lutheran Church of the Savior\, 426 Davis Rd.\, Bedford\, MA\, 01730\, United States
CATEGORIES:streaming,Worship
ATTACH;FMTTYPE=image/png:https://www.lcsavior.org/wp-content/uploads/2020/10/Slide1.png
END:VEVENT
END:VCALENDAR