BEGIN:VCALENDAR
VERSION:2.0
PRODID:-//Lutheran Church of the Savior - ECPv6.15.20//NONSGML v1.0//EN
CALSCALE:GREGORIAN
METHOD:PUBLISH
X-WR-CALNAME:Lutheran Church of the Savior
X-ORIGINAL-URL:https://www.lcsavior.org
X-WR-CALDESC:Events for Lutheran Church of the Savior
REFRESH-INTERVAL;VALUE=DURATION:PT1H
X-Robots-Tag:noindex
X-PUBLISHED-TTL:PT1H
BEGIN:VTIMEZONE
TZID:America/New_York
BEGIN:DAYLIGHT
TZOFFSETFROM:-0500
TZOFFSETTO:-0400
TZNAME:EDT
DTSTART:20210314T070000
END:DAYLIGHT
BEGIN:STANDARD
TZOFFSETFROM:-0400
TZOFFSETTO:-0500
TZNAME:EST
DTSTART:20211107T060000
END:STANDARD
BEGIN:DAYLIGHT
TZOFFSETFROM:-0500
TZOFFSETTO:-0400
TZNAME:EDT
DTSTART:20220313T070000
END:DAYLIGHT
BEGIN:STANDARD
TZOFFSETFROM:-0400
TZOFFSETTO:-0500
TZNAME:EST
DTSTART:20221106T060000
END:STANDARD
BEGIN:DAYLIGHT
TZOFFSETFROM:-0500
TZOFFSETTO:-0400
TZNAME:EDT
DTSTART:20230312T070000
END:DAYLIGHT
BEGIN:STANDARD
TZOFFSETFROM:-0400
TZOFFSETTO:-0500
TZNAME:EST
DTSTART:20231105T060000
END:STANDARD
END:VTIMEZONE
BEGIN:VEVENT
DTSTART;TZID=America/New_York:20220414T190000
DTEND;TZID=America/New_York:20220414T200000
DTSTAMP:20260425T221018
CREATED:20220409T143732Z
LAST-MODIFIED:20220414T000717Z
UID:2633-1649962800-1649966400@www.lcsavior.org
SUMMARY:Holy (Maundy) Thursday Service
DESCRIPTION:All are invited to Maundy (Holy) Thursday worship as we look to the “Face of the Lamb” who washed His disciples’ feet\, instituted the His Holy Supper\, and willingly accepted the betrayal and punishment of those who would send Him to the Cross. There the Lamb would give His life in death for you\, as he says to you\, “All this I choose to do for you…for love of you.” Worship in-person or online at 7:00 PM. \nClick here to join the livestream \nClick here for the worship bulletin to follow along
URL:https://www.lcsavior.org/event/holy-thursday-2022/
LOCATION:Lutheran Church of the Savior\, 426 Davis Rd.\, Bedford\, MA\, 01730\, United States
CATEGORIES:streaming,Worship
ATTACH;FMTTYPE=image/png:https://www.lcsavior.org/wp-content/uploads/2022/04/Slide1-Featured-Image-WP-3.png
END:VEVENT
END:VCALENDAR