BEGIN:VCALENDAR
VERSION:2.0
PRODID:-//Lutheran Church of the Savior - ECPv6.15.20//NONSGML v1.0//EN
CALSCALE:GREGORIAN
METHOD:PUBLISH
X-WR-CALNAME:Lutheran Church of the Savior
X-ORIGINAL-URL:https://www.lcsavior.org
X-WR-CALDESC:Events for Lutheran Church of the Savior
REFRESH-INTERVAL;VALUE=DURATION:PT1H
X-Robots-Tag:noindex
X-PUBLISHED-TTL:PT1H
BEGIN:VTIMEZONE
TZID:America/New_York
BEGIN:DAYLIGHT
TZOFFSETFROM:-0500
TZOFFSETTO:-0400
TZNAME:EDT
DTSTART:20210314T070000
END:DAYLIGHT
BEGIN:STANDARD
TZOFFSETFROM:-0400
TZOFFSETTO:-0500
TZNAME:EST
DTSTART:20211107T060000
END:STANDARD
BEGIN:DAYLIGHT
TZOFFSETFROM:-0500
TZOFFSETTO:-0400
TZNAME:EDT
DTSTART:20220313T070000
END:DAYLIGHT
BEGIN:STANDARD
TZOFFSETFROM:-0400
TZOFFSETTO:-0500
TZNAME:EST
DTSTART:20221106T060000
END:STANDARD
BEGIN:DAYLIGHT
TZOFFSETFROM:-0500
TZOFFSETTO:-0400
TZNAME:EDT
DTSTART:20230312T070000
END:DAYLIGHT
BEGIN:STANDARD
TZOFFSETFROM:-0400
TZOFFSETTO:-0500
TZNAME:EST
DTSTART:20231105T060000
END:STANDARD
END:VTIMEZONE
BEGIN:VEVENT
DTSTART;TZID=America/New_York:20220417T104500
DTEND;TZID=America/New_York:20220417T120000
DTSTAMP:20260425T221021
CREATED:20220415T205122Z
LAST-MODIFIED:20220416T183807Z
UID:2663-1650192300-1650196800@www.lcsavior.org
SUMMARY:Easter Sunday Blended Service - 10:45 AM
DESCRIPTION:CHRIST IS RISEN! Come to celebrate our Lord’s resurrection\, to be served by our risen Lord with his Word and Sacrament\, and to hear why “Easter Matters!” All are welcome for our traditional organ-led (with brass and choir) Easter celebration worship services at 6:00am and 8:00am\, or our blended praise-team led (with brass and choir) Easter celebration worship at 10:45am. The 8:00 and 10:45 services will be online as well! \nClick here to join the livestream \nClick here for the worship bulletin to follow along
URL:https://www.lcsavior.org/event/easter-sunday-blended-2022/
LOCATION:Lutheran Church of the Savior\, 426 Davis Rd.\, Bedford\, MA\, 01730\, United States
CATEGORIES:streaming,Worship
ATTACH;FMTTYPE=image/png:https://www.lcsavior.org/wp-content/uploads/2022/04/Slide1-Featured-Image-WP-2.png
END:VEVENT
END:VCALENDAR