BEGIN:VCALENDAR
VERSION:2.0
PRODID:-//Lutheran Church of the Savior - ECPv6.15.20//NONSGML v1.0//EN
CALSCALE:GREGORIAN
METHOD:PUBLISH
X-WR-CALNAME:Lutheran Church of the Savior
X-ORIGINAL-URL:https://www.lcsavior.org
X-WR-CALDESC:Events for Lutheran Church of the Savior
REFRESH-INTERVAL;VALUE=DURATION:PT1H
X-Robots-Tag:noindex
X-PUBLISHED-TTL:PT1H
BEGIN:VTIMEZONE
TZID:America/New_York
BEGIN:DAYLIGHT
TZOFFSETFROM:-0500
TZOFFSETTO:-0400
TZNAME:EDT
DTSTART:20200308T070000
END:DAYLIGHT
BEGIN:STANDARD
TZOFFSETFROM:-0400
TZOFFSETTO:-0500
TZNAME:EST
DTSTART:20201101T060000
END:STANDARD
BEGIN:DAYLIGHT
TZOFFSETFROM:-0500
TZOFFSETTO:-0400
TZNAME:EDT
DTSTART:20210314T070000
END:DAYLIGHT
BEGIN:STANDARD
TZOFFSETFROM:-0400
TZOFFSETTO:-0500
TZNAME:EST
DTSTART:20211107T060000
END:STANDARD
BEGIN:DAYLIGHT
TZOFFSETFROM:-0500
TZOFFSETTO:-0400
TZNAME:EDT
DTSTART:20220313T070000
END:DAYLIGHT
BEGIN:STANDARD
TZOFFSETFROM:-0400
TZOFFSETTO:-0500
TZNAME:EST
DTSTART:20221106T060000
END:STANDARD
END:VTIMEZONE
BEGIN:VEVENT
DTSTART;TZID=America/New_York:20210418T094500
DTEND;TZID=America/New_York:20210418T094500
DTSTAMP:20260425T151713
CREATED:20210403T155415Z
LAST-MODIFIED:20210417T161628Z
UID:1659-1618739100-1618739100@www.lcsavior.org
SUMMARY:Sunday Morning Worship - Late Service
DESCRIPTION:Our Easter celebration continues this Sunday as the Word of God is once again opened to us all in the continued revelation of our crucified and risen Lord and Savior. All are welcome for our in-person worship or online at 9:45am. \nClick here to join the livestream \nClick here for the worship bulletin to follow along \n 
URL:https://www.lcsavior.org/event/1657-2021-04-18/
LOCATION:Online
CATEGORIES:streaming,Worship
ATTACH;FMTTYPE=image/png:https://www.lcsavior.org/wp-content/uploads/2021/04/Slide1-Custom-1.png
ORGANIZER;CN="Pastor Manor":MAILTO:pastor@lcsavior.org
END:VEVENT
END:VCALENDAR